BEGIN:VCALENDAR
VERSION:2.0
PRODID:-//Calendar Sausalito - ECPv6.15.20//NONSGML v1.0//EN
CALSCALE:GREGORIAN
METHOD:PUBLISH
X-WR-CALNAME:Calendar Sausalito
X-ORIGINAL-URL:https://calendarsausalito.com
X-WR-CALDESC:Events for Calendar Sausalito
REFRESH-INTERVAL;VALUE=DURATION:PT1H
X-Robots-Tag:noindex
X-PUBLISHED-TTL:PT1H
BEGIN:VTIMEZONE
TZID:America/Los_Angeles
BEGIN:DAYLIGHT
TZOFFSETFROM:-0800
TZOFFSETTO:-0700
TZNAME:PDT
DTSTART:20250309T100000
END:DAYLIGHT
BEGIN:STANDARD
TZOFFSETFROM:-0700
TZOFFSETTO:-0800
TZNAME:PST
DTSTART:20251102T090000
END:STANDARD
BEGIN:DAYLIGHT
TZOFFSETFROM:-0800
TZOFFSETTO:-0700
TZNAME:PDT
DTSTART:20260308T100000
END:DAYLIGHT
BEGIN:STANDARD
TZOFFSETFROM:-0700
TZOFFSETTO:-0800
TZNAME:PST
DTSTART:20261101T090000
END:STANDARD
BEGIN:DAYLIGHT
TZOFFSETFROM:-0800
TZOFFSETTO:-0700
TZNAME:PDT
DTSTART:20270314T100000
END:DAYLIGHT
BEGIN:STANDARD
TZOFFSETFROM:-0700
TZOFFSETTO:-0800
TZNAME:PST
DTSTART:20271107T090000
END:STANDARD
END:VTIMEZONE
BEGIN:VEVENT
DTSTART;TZID=America/Los_Angeles:20260404T080000
DTEND;TZID=America/Los_Angeles:20260404T100000
DTSTAMP:20260423T101406
CREATED:20260107T041842Z
LAST-MODIFIED:20260120T185105Z
UID:10002531-1775289600-1775296800@calendarsausalito.com
SUMMARY:Biscotti And Cars
DESCRIPTION:Biscotti & Cars is Marin’s premiere monthly car display event which is FUN\, INFORMAL AND FREE.\nThe event occurs on the first Saturday of each month from 8 – 10am at Poggio ristorante located at 777 Bridgeway\, Sausalito\, CA. Free parking is available for attendees from 8-10AM in the Bank of America parking lot (#2) across the street from Poggio. \nCost: Free AND free parking for classic cars in City Lot #2 across the street from 8:00 to 10:00 AM. (This is the lot shown in the video above). \nSponsored by: Poggio\, Main Street Research LLC\, Blu Sky Films \nQuestions and Suggestions: biscottiandcars@icloud.com; Biscotti and Cars website. \nThe Sausalito Biscotti and Cars Classic Car Event is a once-a-month informal Saturday gathering of local classic car fans in Sausalito. The cars on display will vary each month\, with a Featured Car parked directly in front of Poggio. The Featured Car’s owner receives a commemorative poster and a plaque. (Too bad my mother sold her original 1969 Mustang Mach 1!)
URL:https://calendarsausalito.com/event/biscotti-and-cars/2026-04-04/
CATEGORIES:Biscotti And Cars
END:VEVENT
BEGIN:VEVENT
DTSTART;TZID=America/Los_Angeles:20260307T080000
DTEND;TZID=America/Los_Angeles:20260307T100000
DTSTAMP:20260423T101406
CREATED:20260107T041842Z
LAST-MODIFIED:20260120T185105Z
UID:10002530-1772870400-1772877600@calendarsausalito.com
SUMMARY:Biscotti And Cars
DESCRIPTION:Biscotti & Cars is Marin’s premiere monthly car display event which is FUN\, INFORMAL AND FREE.\nThe event occurs on the first Saturday of each month from 8 – 10am at Poggio ristorante located at 777 Bridgeway\, Sausalito\, CA. Free parking is available for attendees from 8-10AM in the Bank of America parking lot (#2) across the street from Poggio. \nCost: Free AND free parking for classic cars in City Lot #2 across the street from 8:00 to 10:00 AM. (This is the lot shown in the video above). \nSponsored by: Poggio\, Main Street Research LLC\, Blu Sky Films \nQuestions and Suggestions: biscottiandcars@icloud.com; Biscotti and Cars website. \nThe Sausalito Biscotti and Cars Classic Car Event is a once-a-month informal Saturday gathering of local classic car fans in Sausalito. The cars on display will vary each month\, with a Featured Car parked directly in front of Poggio. The Featured Car’s owner receives a commemorative poster and a plaque. (Too bad my mother sold her original 1969 Mustang Mach 1!)
URL:https://calendarsausalito.com/event/biscotti-and-cars/2026-03-07/
CATEGORIES:Biscotti And Cars
END:VEVENT
BEGIN:VEVENT
DTSTART;TZID=America/Los_Angeles:20260207T080000
DTEND;TZID=America/Los_Angeles:20260207T100000
DTSTAMP:20260423T101406
CREATED:20260107T041842Z
LAST-MODIFIED:20260120T185105Z
UID:10002529-1770451200-1770458400@calendarsausalito.com
SUMMARY:Biscotti And Cars
DESCRIPTION:Biscotti & Cars is Marin’s premiere monthly car display event which is FUN\, INFORMAL AND FREE.\nThe event occurs on the first Saturday of each month from 8 – 10am at Poggio ristorante located at 777 Bridgeway\, Sausalito\, CA. Free parking is available for attendees from 8-10AM in the Bank of America parking lot (#2) across the street from Poggio. \nCost: Free AND free parking for classic cars in City Lot #2 across the street from 8:00 to 10:00 AM. (This is the lot shown in the video above). \nSponsored by: Poggio\, Main Street Research LLC\, Blu Sky Films \nQuestions and Suggestions: biscottiandcars@icloud.com; Biscotti and Cars website. \nThe Sausalito Biscotti and Cars Classic Car Event is a once-a-month informal Saturday gathering of local classic car fans in Sausalito. The cars on display will vary each month\, with a Featured Car parked directly in front of Poggio. The Featured Car’s owner receives a commemorative poster and a plaque. (Too bad my mother sold her original 1969 Mustang Mach 1!)
URL:https://calendarsausalito.com/event/biscotti-and-cars/2026-02-07/
CATEGORIES:Biscotti And Cars
END:VEVENT
BEGIN:VEVENT
DTSTART;TZID=America/Los_Angeles:20260103T080000
DTEND;TZID=America/Los_Angeles:20260103T100000
DTSTAMP:20260423T101406
CREATED:20260107T041842Z
LAST-MODIFIED:20260120T185105Z
UID:10002528-1767427200-1767434400@calendarsausalito.com
SUMMARY:Biscotti And Cars
DESCRIPTION:Biscotti & Cars is Marin’s premiere monthly car display event which is FUN\, INFORMAL AND FREE.\nThe event occurs on the first Saturday of each month from 8 – 10am at Poggio ristorante located at 777 Bridgeway\, Sausalito\, CA. Free parking is available for attendees from 8-10AM in the Bank of America parking lot (#2) across the street from Poggio. \nCost: Free AND free parking for classic cars in City Lot #2 across the street from 8:00 to 10:00 AM. (This is the lot shown in the video above). \nSponsored by: Poggio\, Main Street Research LLC\, Blu Sky Films \nQuestions and Suggestions: biscottiandcars@icloud.com; Biscotti and Cars website. \nThe Sausalito Biscotti and Cars Classic Car Event is a once-a-month informal Saturday gathering of local classic car fans in Sausalito. The cars on display will vary each month\, with a Featured Car parked directly in front of Poggio. The Featured Car’s owner receives a commemorative poster and a plaque. (Too bad my mother sold her original 1969 Mustang Mach 1!)
URL:https://calendarsausalito.com/event/biscotti-and-cars/2026-01-03/
CATEGORIES:Biscotti And Cars
END:VEVENT
END:VCALENDAR