BEGIN:VCALENDAR
VERSION:2.0
PRODID:-//Calendar Sausalito - ECPv6.15.20//NONSGML v1.0//EN
CALSCALE:GREGORIAN
METHOD:PUBLISH
X-WR-CALNAME:Calendar Sausalito
X-ORIGINAL-URL:https://calendarsausalito.com
X-WR-CALDESC:Events for Calendar Sausalito
REFRESH-INTERVAL;VALUE=DURATION:PT1H
X-Robots-Tag:noindex
X-PUBLISHED-TTL:PT1H
BEGIN:VTIMEZONE
TZID:America/Los_Angeles
BEGIN:DAYLIGHT
TZOFFSETFROM:-0800
TZOFFSETTO:-0700
TZNAME:PDT
DTSTART:20250309T100000
END:DAYLIGHT
BEGIN:STANDARD
TZOFFSETFROM:-0700
TZOFFSETTO:-0800
TZNAME:PST
DTSTART:20251102T090000
END:STANDARD
BEGIN:DAYLIGHT
TZOFFSETFROM:-0800
TZOFFSETTO:-0700
TZNAME:PDT
DTSTART:20260308T100000
END:DAYLIGHT
BEGIN:STANDARD
TZOFFSETFROM:-0700
TZOFFSETTO:-0800
TZNAME:PST
DTSTART:20261101T090000
END:STANDARD
BEGIN:DAYLIGHT
TZOFFSETFROM:-0800
TZOFFSETTO:-0700
TZNAME:PDT
DTSTART:20270314T100000
END:DAYLIGHT
BEGIN:STANDARD
TZOFFSETFROM:-0700
TZOFFSETTO:-0800
TZNAME:PST
DTSTART:20271107T090000
END:STANDARD
END:VTIMEZONE
BEGIN:VEVENT
DTSTART;TZID=America/Los_Angeles:20260919T120000
DTEND;TZID=America/Los_Angeles:20260919T160000
DTSTAMP:20260425T070135
CREATED:20260122T205713Z
LAST-MODIFIED:20260221T004713Z
UID:10002630-1789819200-1789833600@calendarsausalito.com
SUMMARY:City of Sausalito: 47th Annual Chili Cook-Off 2026
DESCRIPTION:The Basics:\n\nSaturday\, September 19\, 2026\n12:00 p.m. – 4:00 p.m.\nDunphy Park\nLive music by TBD\nUnlimited Tasting wristbands $25 pre-sale\, $30 week of event.\n\nWristbands can be picked up day-of at our wristband booth at 11:30am.\nWristbands will be for sale at the event.\nPURCHASE YOUR WRISTBANDS HERE (Tickets go on sale July 14th)\n\n\n Hot Pepper Eating Contest\n\nStarts at 1pm\nContestants will eat peppers of gradually increasing spiciness\, according to the Scoville Scale. Those who successfully swallow the entire pepper move on to the next round\, those who fail are eliminated. The final contestants will compete to eat the spiciest pepper in the shortest time.\nRegister here to participate.\nMaximum of 10 participants.\nWinner will earn a prize!\n\n\nRec’ers will be selling beer\, wine\, and margaritas\nParks and Recreation will be selling drinks and sodas\nOther food will not be sold on site this year.\nWater bottle filling station will be available\nTasting starts at 12:00 p.m. sharp (you can buy or pick up your wristband starting at 11:30am)\nDogs are encouraged to stay home. If you must bring them\, on leash only!\nTheme: Hollywood\n\nRegistration to compete as a chef is completely free\, and you’ll have the chance to battle it out in three exciting contest categories: Judge’s Choice\, People’s Choice\, and Best Booth. All cooking must be done on-site\, and chefs should be ready to whip up at least 20 gallons of chili. Don’t worry\, advanced cooking skills are not required\, just bring your passion for chili! Register to be a CHEF!  \n  \nThank you to our 14 Chili Chefs! Congrats to our 2025 winners! \nJudges Choice: \n1st Chili Kai \n2nd Awesome SAUS \n3rd Miami Spice \nPeople’s Choice: \n1st Unsinkable Chili by the Cruising Club \n2nd Chili Kai \n3rd Kaleidoscope \nBest Booth: Unsinkable Chili by the Cruising Club \nHot Pepper Eating Contest Winner: Bianca Beatty \n\n\n\n\nThanks to our 2025 Chili Pepper Sponsor! 
URL:https://calendarsausalito.com/event/47th-annual-chili-cook-off-2026/
LOCATION:Dunphy Park\, Bridgeway at\, Napa St\, Sausalito\, CA\, 94965\, United States
CATEGORIES:City of Sausalito
END:VEVENT
END:VCALENDAR