BEGIN:VCALENDAR
VERSION:2.0
PRODID:-//Calendar Sausalito - ECPv6.15.20//NONSGML v1.0//EN
CALSCALE:GREGORIAN
METHOD:PUBLISH
X-WR-CALNAME:Calendar Sausalito
X-ORIGINAL-URL:https://calendarsausalito.com
X-WR-CALDESC:Events for Calendar Sausalito
REFRESH-INTERVAL;VALUE=DURATION:PT1H
X-Robots-Tag:noindex
X-PUBLISHED-TTL:PT1H
BEGIN:VTIMEZONE
TZID:America/Los_Angeles
BEGIN:DAYLIGHT
TZOFFSETFROM:-0800
TZOFFSETTO:-0700
TZNAME:PDT
DTSTART:20250309T100000
END:DAYLIGHT
BEGIN:STANDARD
TZOFFSETFROM:-0700
TZOFFSETTO:-0800
TZNAME:PST
DTSTART:20251102T090000
END:STANDARD
BEGIN:DAYLIGHT
TZOFFSETFROM:-0800
TZOFFSETTO:-0700
TZNAME:PDT
DTSTART:20260308T100000
END:DAYLIGHT
BEGIN:STANDARD
TZOFFSETFROM:-0700
TZOFFSETTO:-0800
TZNAME:PST
DTSTART:20261101T090000
END:STANDARD
BEGIN:DAYLIGHT
TZOFFSETFROM:-0800
TZOFFSETTO:-0700
TZNAME:PDT
DTSTART:20270314T100000
END:DAYLIGHT
BEGIN:STANDARD
TZOFFSETFROM:-0700
TZOFFSETTO:-0800
TZNAME:PST
DTSTART:20271107T090000
END:STANDARD
BEGIN:DAYLIGHT
TZOFFSETFROM:-0800
TZOFFSETTO:-0700
TZNAME:PDT
DTSTART:20280312T100000
END:DAYLIGHT
BEGIN:STANDARD
TZOFFSETFROM:-0700
TZOFFSETTO:-0800
TZNAME:PST
DTSTART:20281105T090000
END:STANDARD
END:VTIMEZONE
BEGIN:VEVENT
DTSTART;TZID=America/Los_Angeles:20260321T083000
DTEND;TZID=America/Los_Angeles:20260321T120000
DTSTAMP:20260419T173304
CREATED:20260318T181004Z
LAST-MODIFIED:20260318T181004Z
UID:10009829-1774081800-1774094400@calendarsausalito.com
SUMMARY:Eria: The Coffee Micro Festival
DESCRIPTION:The Coffee Micro Festival \n\n\nSaturday\, March 21st\n8:30 AM – 12:00 PM\nEria Events\, 562 Bridgeway\, Sausalito\, CA\n\n\n\nTwo Roasters. One View. Zero Rush.\n\nThere’s nowhere better in the world to enjoy coffee than ERIA Events waterfront patio in Sausalito. We are bringing together top small roasters who will amaze coffee aficionados\, alongside delicious local pastries and a vibrant atmosphere overlooking the San Francisco Bay. \nA micro festival provides the opportunity for connection around a shared love of coffee that larger events cannot offer. Whether talking with the roasters about their direct connections to the farmers who grow the beans\, or sparking conversation with other attendees while you enjoy the Marin views\, this is an event you won’t want to miss. What to expect: \n\n\nUnlimited samples from two small-batch roasters including espresso\, pour over\, cold brew\, and drip \n\n\nThe opportunity to purchase exclusive event-only blends and rare single-origin beans \n\n\nHandcrafted local pastries are available with limited samples and a full menu for purchase \n\n\nAn incredible vibe\, from the unmatched view to local artists showcasing their work to the curated music  \n\n\nA community of like-minded enthusiasts focused on real connection rather than the chaos of massive festivals \n\n\nEarly-bird $20 tickets through Sunday 3/15 (regular price $30). Grab yours now and save. \nBUY TICKETS
URL:https://calendarsausalito.com/event/eria-the-coffee-micro-festival/
LOCATION:Eria Events\, 562 Bridgeway\, Sausalito\, CA\, 94965\, United States
CATEGORIES:Eria Events
END:VEVENT
BEGIN:VEVENT
DTSTART;TZID=America/Los_Angeles:20260322T120000
DTEND;TZID=America/Los_Angeles:20260322T163000
DTSTAMP:20260419T173304
CREATED:20260318T181259Z
LAST-MODIFIED:20260318T181259Z
UID:10009830-1774180800-1774197000@calendarsausalito.com
SUMMARY:Eria: Day at the Bay Partay in Sausalito
DESCRIPTION:Day at the Bay Partay in Sausalito\n\n\nThere’s a stunning event space\, Eria\, just above where the Trident restaurant used to be. It has sweeping views of the bay and the DJ sets up on the deck. \nWe bring together 200 Marin locals to enjoy this beautiful spot and have fun! There’s a full bar and great food available to purchase.   \nMore details and tickets
URL:https://calendarsausalito.com/event/eria-day-at-the-bay-partay-in-sausalito/
LOCATION:Eria Events\, 562 Bridgeway\, Sausalito\, CA\, 94965\, United States
CATEGORIES:Eria Events
END:VEVENT
BEGIN:VEVENT
DTSTART;TZID=America/Los_Angeles:20260323T170000
DTEND;TZID=America/Los_Angeles:20260323T200000
DTSTAMP:20260419T173304
CREATED:20260322T053438Z
LAST-MODIFIED:20260322T053438Z
UID:10009831-1774285200-1774296000@calendarsausalito.com
SUMMARY:Eria: Built By Women: Power\, Influence & The Equity Era
DESCRIPTION:Built By Women: Power\, Influence & The Equity Era is an intimate women’s leadership event in Sausalito designed for founders\, executives\, creatives\, and ambitious women building what’s next. \nJoin us on Monday\, March 23\, 2026 at ERIA (562 Bridgeway\, Sausalito\, CA) for an evening of meaningful conversation\, community\, and courageous leadership. This Bay Area women’s networking event brings together dynamic female leaders\, entrepreneurs\, and change-makers for connection that goes beyond small talk. \nThe evening begins with a curated happy hour at 5:00 PM\, followed by a powerful 6:00–8:00 PM program featuring a briefing on equity in today’s business landscape\, a dynamic leadership panel\, and guided dialogue designed to spark collaboration and action. \nHosted by Nikita Khandheria\, Founder of ERIA Hospitality\, and featuring Dr. Nikki R. Lanier\, Founder of RAARE Woman Collective and The Common Grove\, this women’s empowerment event creates space for influence\, visibility\, and authentic connection. \nWhether you’re a woman entrepreneur\, corporate leader\, investor\, or creative professional\, this event is designed to help you expand your network\, elevate your voice\, and shape the future alongside other accomplished women in the Bay Area. \nSpace is limited. Secure your ticket early. \n  \n\n\n\nLocation\n\nEria Event Location\n562 Bridgeway\, Sausalito\, CA 94965 \n\nGet Tickets
URL:https://calendarsausalito.com/event/eria-built-by-women-power-influence-the-equity-era/
LOCATION:Eria Events\, 562 Bridgeway\, Sausalito\, CA\, 94965\, United States
CATEGORIES:Eria Events
END:VEVENT
BEGIN:VEVENT
DTSTART;TZID=America/Los_Angeles:20260406T180000
DTEND;TZID=America/Los_Angeles:20260406T200000
DTSTAMP:20260419T173304
CREATED:20260408T194417Z
LAST-MODIFIED:20260408T194502Z
UID:10010434-1775498400-1775505600@calendarsausalito.com
SUMMARY:Eria Events: Legacy
DESCRIPTION:
URL:https://calendarsausalito.com/event/1925/
LOCATION:Eria Events\, 562 Bridgeway\, Sausalito\, CA\, 94965\, United States
CATEGORIES:Eria Events
END:VEVENT
BEGIN:VEVENT
DTSTART;TZID=America/Los_Angeles:20260418T110000
DTEND;TZID=America/Los_Angeles:20260418T140000
DTSTAMP:20260419T173304
CREATED:20260408T194651Z
LAST-MODIFIED:20260408T194651Z
UID:10010435-1776510000-1776520800@calendarsausalito.com
SUMMARY:Eria Events: Where's West?
DESCRIPTION:
URL:https://calendarsausalito.com/event/eria-events-wheres-west/
LOCATION:Eria Events\, 562 Bridgeway\, Sausalito\, CA\, 94965\, United States
CATEGORIES:Eria Events
END:VEVENT
BEGIN:VEVENT
DTSTART;TZID=America/Los_Angeles:20260418T110000
DTEND;TZID=America/Los_Angeles:20260418T140000
DTSTAMP:20260419T173304
CREATED:20260408T194725Z
LAST-MODIFIED:20260408T194725Z
UID:10010436-1776510000-1776520800@calendarsausalito.com
SUMMARY:Eria Events: Ritual
DESCRIPTION:
URL:https://calendarsausalito.com/event/eria-events-ritual/
LOCATION:Eria Events\, 562 Bridgeway\, Sausalito\, CA\, 94965\, United States
CATEGORIES:Eria Events
END:VEVENT
BEGIN:VEVENT
DTSTART;TZID=America/Los_Angeles:20260423T180000
DTEND;TZID=America/Los_Angeles:20260423T200000
DTSTAMP:20260419T173304
CREATED:20260408T194902Z
LAST-MODIFIED:20260408T194902Z
UID:10010438-1776967200-1776974400@calendarsausalito.com
SUMMARY:Eria Events: Tea & Paper Lanterns
DESCRIPTION:
URL:https://calendarsausalito.com/event/eria-events-tea-paper-lanterns/
LOCATION:Eria Events\, 562 Bridgeway\, Sausalito\, CA\, 94965\, United States
CATEGORIES:Eria Events
END:VEVENT
BEGIN:VEVENT
DTSTART;TZID=America/Los_Angeles:20260425T190000
DTEND;TZID=America/Los_Angeles:20260425T213000
DTSTAMP:20260419T173304
CREATED:20260415T201311Z
LAST-MODIFIED:20260415T202745Z
UID:10010509-1777143600-1777152600@calendarsausalito.com
SUMMARY:Eria Events: Round Cake Decorating
DESCRIPTION:
URL:https://calendarsausalito.com/event/eria-events-round-cake-decorating/
LOCATION:Eria Events\, 562 Bridgeway\, Sausalito\, CA\, 94965\, United States
CATEGORIES:Eria Events
END:VEVENT
BEGIN:VEVENT
DTSTART;TZID=America/Los_Angeles:20260426T110000
DTEND;TZID=America/Los_Angeles:20260426T160000
DTSTAMP:20260419T173304
CREATED:20260408T194950Z
LAST-MODIFIED:20260408T194950Z
UID:10010439-1777201200-1777219200@calendarsausalito.com
SUMMARY:Eria Events: Brunch Drunk Love #2
DESCRIPTION:
URL:https://calendarsausalito.com/event/eria-events-brunch-drunk-love-2/
LOCATION:Eria Events\, 562 Bridgeway\, Sausalito\, CA\, 94965\, United States
CATEGORIES:Eria Events
END:VEVENT
BEGIN:VEVENT
DTSTART;TZID=America/Los_Angeles:20260430T190000
DTEND;TZID=America/Los_Angeles:20260430T230000
DTSTAMP:20260419T173304
CREATED:20260408T195031Z
LAST-MODIFIED:20260415T202326Z
UID:10010440-1777575600-1777590000@calendarsausalito.com
SUMMARY:Eria Events: KiANA
DESCRIPTION:
URL:https://calendarsausalito.com/event/eria-events-kiana/
LOCATION:Eria Events\, 562 Bridgeway\, Sausalito\, CA\, 94965\, United States
CATEGORIES:Eria Events
END:VEVENT
BEGIN:VEVENT
DTSTART;TZID=America/Los_Angeles:20260504T180000
DTEND;TZID=America/Los_Angeles:20260504T200000
DTSTAMP:20260419T173304
CREATED:20260408T195126Z
LAST-MODIFIED:20260415T202552Z
UID:10010441-1777917600-1777924800@calendarsausalito.com
SUMMARY:Eria Events: Legacy
DESCRIPTION:
URL:https://calendarsausalito.com/event/eria-events-legacy/
LOCATION:Eria Events\, 562 Bridgeway\, Sausalito\, CA\, 94965\, United States
CATEGORIES:Eria Events
END:VEVENT
BEGIN:VEVENT
DTSTART;TZID=America/Los_Angeles:20260505T180000
DTEND;TZID=America/Los_Angeles:20260505T200000
DTSTAMP:20260419T173304
CREATED:20260408T195203Z
LAST-MODIFIED:20260408T195357Z
UID:10010442-1778004000-1778011200@calendarsausalito.com
SUMMARY:Eria Events: Professional Headshot Pop-up
DESCRIPTION:
URL:https://calendarsausalito.com/event/eria-events-professional-headshot-pop-up/2026-05-05/
LOCATION:Eria Events\, 562 Bridgeway\, Sausalito\, CA\, 94965\, United States
CATEGORIES:Eria Events
END:VEVENT
BEGIN:VEVENT
DTSTART;TZID=America/Los_Angeles:20260511T180000
DTEND;TZID=America/Los_Angeles:20260511T210000
DTSTAMP:20260419T173304
CREATED:20260415T202025Z
LAST-MODIFIED:20260415T202156Z
UID:10010510-1778522400-1778533200@calendarsausalito.com
SUMMARY:Eria Events: Legacy with Marin Buzz
DESCRIPTION:
URL:https://calendarsausalito.com/event/eria-events-legacy-with-marin-buzz/
LOCATION:Eria Events\, 562 Bridgeway\, Sausalito\, CA\, 94965\, United States
CATEGORIES:Eria Events
END:VEVENT
BEGIN:VEVENT
DTSTART;TZID=America/Los_Angeles:20260517T130000
DTEND;TZID=America/Los_Angeles:20260517T200000
DTSTAMP:20260419T173304
CREATED:20260408T195304Z
LAST-MODIFIED:20260415T202622Z
UID:10010443-1779022800-1779048000@calendarsausalito.com
SUMMARY:Eria Events: The Release Reset
DESCRIPTION:
URL:https://calendarsausalito.com/event/eria-events-the-release-reset/
LOCATION:Eria Events\, 562 Bridgeway\, Sausalito\, CA\, 94965\, United States
CATEGORIES:Eria Events
END:VEVENT
BEGIN:VEVENT
DTSTART;TZID=America/Los_Angeles:20260520T190000
DTEND;TZID=America/Los_Angeles:20260520T230000
DTSTAMP:20260419T173304
CREATED:20260408T194818Z
LAST-MODIFIED:20260415T202645Z
UID:10010437-1779303600-1779318000@calendarsausalito.com
SUMMARY:Eria Events: Baum
DESCRIPTION:
URL:https://calendarsausalito.com/event/eria-events-baum/
LOCATION:Eria Events\, 562 Bridgeway\, Sausalito\, CA\, 94965\, United States
CATEGORIES:Eria Events
END:VEVENT
BEGIN:VEVENT
DTSTART;TZID=America/Los_Angeles:20260602T180000
DTEND;TZID=America/Los_Angeles:20260602T200000
DTSTAMP:20260419T173304
CREATED:20260408T195203Z
LAST-MODIFIED:20260408T195357Z
UID:10010446-1780423200-1780430400@calendarsausalito.com
SUMMARY:Eria Events: Professional Headshot Pop-up
DESCRIPTION:
URL:https://calendarsausalito.com/event/eria-events-professional-headshot-pop-up/2026-06-02/
LOCATION:Eria Events\, 562 Bridgeway\, Sausalito\, CA\, 94965\, United States
CATEGORIES:Eria Events
END:VEVENT
BEGIN:VEVENT
DTSTART;TZID=America/Los_Angeles:20260707T180000
DTEND;TZID=America/Los_Angeles:20260707T200000
DTSTAMP:20260419T173304
CREATED:20260408T195203Z
LAST-MODIFIED:20260408T195357Z
UID:10010447-1783447200-1783454400@calendarsausalito.com
SUMMARY:Eria Events: Professional Headshot Pop-up
DESCRIPTION:
URL:https://calendarsausalito.com/event/eria-events-professional-headshot-pop-up/2026-07-07/
LOCATION:Eria Events\, 562 Bridgeway\, Sausalito\, CA\, 94965\, United States
CATEGORIES:Eria Events
END:VEVENT
BEGIN:VEVENT
DTSTART;TZID=America/Los_Angeles:20260804T180000
DTEND;TZID=America/Los_Angeles:20260804T200000
DTSTAMP:20260419T173304
CREATED:20260408T195203Z
LAST-MODIFIED:20260408T195357Z
UID:10010448-1785866400-1785873600@calendarsausalito.com
SUMMARY:Eria Events: Professional Headshot Pop-up
DESCRIPTION:
URL:https://calendarsausalito.com/event/eria-events-professional-headshot-pop-up/2026-08-04/
LOCATION:Eria Events\, 562 Bridgeway\, Sausalito\, CA\, 94965\, United States
CATEGORIES:Eria Events
END:VEVENT
BEGIN:VEVENT
DTSTART;TZID=America/Los_Angeles:20260901T180000
DTEND;TZID=America/Los_Angeles:20260901T200000
DTSTAMP:20260419T173304
CREATED:20260408T195203Z
LAST-MODIFIED:20260408T195357Z
UID:10010449-1788285600-1788292800@calendarsausalito.com
SUMMARY:Eria Events: Professional Headshot Pop-up
DESCRIPTION:
URL:https://calendarsausalito.com/event/eria-events-professional-headshot-pop-up/2026-09-01/
LOCATION:Eria Events\, 562 Bridgeway\, Sausalito\, CA\, 94965\, United States
CATEGORIES:Eria Events
END:VEVENT
BEGIN:VEVENT
DTSTART;TZID=America/Los_Angeles:20261006T180000
DTEND;TZID=America/Los_Angeles:20261006T200000
DTSTAMP:20260419T173304
CREATED:20260408T195203Z
LAST-MODIFIED:20260408T195357Z
UID:10010450-1791309600-1791316800@calendarsausalito.com
SUMMARY:Eria Events: Professional Headshot Pop-up
DESCRIPTION:
URL:https://calendarsausalito.com/event/eria-events-professional-headshot-pop-up/2026-10-06/
LOCATION:Eria Events\, 562 Bridgeway\, Sausalito\, CA\, 94965\, United States
CATEGORIES:Eria Events
END:VEVENT
BEGIN:VEVENT
DTSTART;TZID=America/Los_Angeles:20261103T180000
DTEND;TZID=America/Los_Angeles:20261103T200000
DTSTAMP:20260419T173304
CREATED:20260408T195203Z
LAST-MODIFIED:20260408T195357Z
UID:10010451-1793728800-1793736000@calendarsausalito.com
SUMMARY:Eria Events: Professional Headshot Pop-up
DESCRIPTION:
URL:https://calendarsausalito.com/event/eria-events-professional-headshot-pop-up/2026-11-03/
LOCATION:Eria Events\, 562 Bridgeway\, Sausalito\, CA\, 94965\, United States
CATEGORIES:Eria Events
END:VEVENT
BEGIN:VEVENT
DTSTART;TZID=America/Los_Angeles:20261201T180000
DTEND;TZID=America/Los_Angeles:20261201T200000
DTSTAMP:20260419T173304
CREATED:20260408T195203Z
LAST-MODIFIED:20260408T195357Z
UID:10010452-1796148000-1796155200@calendarsausalito.com
SUMMARY:Eria Events: Professional Headshot Pop-up
DESCRIPTION:
URL:https://calendarsausalito.com/event/eria-events-professional-headshot-pop-up/2026-12-01/
LOCATION:Eria Events\, 562 Bridgeway\, Sausalito\, CA\, 94965\, United States
CATEGORIES:Eria Events
END:VEVENT
BEGIN:VEVENT
DTSTART;TZID=America/Los_Angeles:20270105T180000
DTEND;TZID=America/Los_Angeles:20270105T200000
DTSTAMP:20260419T173304
CREATED:20260408T195203Z
LAST-MODIFIED:20260408T195357Z
UID:10010453-1799172000-1799179200@calendarsausalito.com
SUMMARY:Eria Events: Professional Headshot Pop-up
DESCRIPTION:
URL:https://calendarsausalito.com/event/eria-events-professional-headshot-pop-up/2027-01-05/
LOCATION:Eria Events\, 562 Bridgeway\, Sausalito\, CA\, 94965\, United States
CATEGORIES:Eria Events
END:VEVENT
BEGIN:VEVENT
DTSTART;TZID=America/Los_Angeles:20270202T180000
DTEND;TZID=America/Los_Angeles:20270202T200000
DTSTAMP:20260419T173304
CREATED:20260408T195203Z
LAST-MODIFIED:20260408T195357Z
UID:10010454-1801591200-1801598400@calendarsausalito.com
SUMMARY:Eria Events: Professional Headshot Pop-up
DESCRIPTION:
URL:https://calendarsausalito.com/event/eria-events-professional-headshot-pop-up/2027-02-02/
LOCATION:Eria Events\, 562 Bridgeway\, Sausalito\, CA\, 94965\, United States
CATEGORIES:Eria Events
END:VEVENT
BEGIN:VEVENT
DTSTART;TZID=America/Los_Angeles:20270302T180000
DTEND;TZID=America/Los_Angeles:20270302T200000
DTSTAMP:20260419T173304
CREATED:20260408T195203Z
LAST-MODIFIED:20260408T195357Z
UID:10010455-1804010400-1804017600@calendarsausalito.com
SUMMARY:Eria Events: Professional Headshot Pop-up
DESCRIPTION:
URL:https://calendarsausalito.com/event/eria-events-professional-headshot-pop-up/2027-03-02/
LOCATION:Eria Events\, 562 Bridgeway\, Sausalito\, CA\, 94965\, United States
CATEGORIES:Eria Events
END:VEVENT
BEGIN:VEVENT
DTSTART;TZID=America/Los_Angeles:20270406T180000
DTEND;TZID=America/Los_Angeles:20270406T200000
DTSTAMP:20260419T173304
CREATED:20260408T195203Z
LAST-MODIFIED:20260408T195357Z
UID:10010456-1807034400-1807041600@calendarsausalito.com
SUMMARY:Eria Events: Professional Headshot Pop-up
DESCRIPTION:
URL:https://calendarsausalito.com/event/eria-events-professional-headshot-pop-up/2027-04-06/
LOCATION:Eria Events\, 562 Bridgeway\, Sausalito\, CA\, 94965\, United States
CATEGORIES:Eria Events
END:VEVENT
BEGIN:VEVENT
DTSTART;TZID=America/Los_Angeles:20270504T180000
DTEND;TZID=America/Los_Angeles:20270504T200000
DTSTAMP:20260419T173304
CREATED:20260408T195203Z
LAST-MODIFIED:20260408T195357Z
UID:10010457-1809453600-1809460800@calendarsausalito.com
SUMMARY:Eria Events: Professional Headshot Pop-up
DESCRIPTION:
URL:https://calendarsausalito.com/event/eria-events-professional-headshot-pop-up/2027-05-04/
LOCATION:Eria Events\, 562 Bridgeway\, Sausalito\, CA\, 94965\, United States
CATEGORIES:Eria Events
END:VEVENT
END:VCALENDAR