BEGIN:VCALENDAR
VERSION:2.0
PRODID:-//Calendar Sausalito - ECPv6.15.20//NONSGML v1.0//EN
CALSCALE:GREGORIAN
METHOD:PUBLISH
X-WR-CALNAME:Calendar Sausalito
X-ORIGINAL-URL:https://calendarsausalito.com
X-WR-CALDESC:Events for Calendar Sausalito
REFRESH-INTERVAL;VALUE=DURATION:PT1H
X-Robots-Tag:noindex
X-PUBLISHED-TTL:PT1H
BEGIN:VTIMEZONE
TZID:America/Los_Angeles
BEGIN:DAYLIGHT
TZOFFSETFROM:-0800
TZOFFSETTO:-0700
TZNAME:PDT
DTSTART:20250309T100000
END:DAYLIGHT
BEGIN:STANDARD
TZOFFSETFROM:-0700
TZOFFSETTO:-0800
TZNAME:PST
DTSTART:20251102T090000
END:STANDARD
BEGIN:DAYLIGHT
TZOFFSETFROM:-0800
TZOFFSETTO:-0700
TZNAME:PDT
DTSTART:20260308T100000
END:DAYLIGHT
BEGIN:STANDARD
TZOFFSETFROM:-0700
TZOFFSETTO:-0800
TZNAME:PST
DTSTART:20261101T090000
END:STANDARD
BEGIN:DAYLIGHT
TZOFFSETFROM:-0800
TZOFFSETTO:-0700
TZNAME:PDT
DTSTART:20270314T100000
END:DAYLIGHT
BEGIN:STANDARD
TZOFFSETFROM:-0700
TZOFFSETTO:-0800
TZNAME:PST
DTSTART:20271107T090000
END:STANDARD
END:VTIMEZONE
BEGIN:VEVENT
DTSTART;TZID=America/Los_Angeles:20260426T120000
DTEND;TZID=America/Los_Angeles:20260426T170000
DTSTAMP:20260421T025418
CREATED:20260323T201530Z
LAST-MODIFIED:20260323T201657Z
UID:10010004-1777204800-1777222800@calendarsausalito.com
SUMMARY:Headlands: Announcing Headlands' 2026 Artists in Residence
DESCRIPTION:Announcing Headlands’ 2026 Artists in Residence\n\n\n\n\n\n\n\n\n\nThe springs\, the summers\, and the autumn slowly pass\, 2024\, Acrylic and oil on canvas\, 76 x 96 inches. Work by Yameng Lee Thorp.\n\n\n\nWe are pleased to share the full Artist In Residence list for the Spring\, Summer\, and Fall 2026 cohorts. Artists from Poland to Botswana to Texas will join us on our campus\, developing new work in our studios and in dialogue with one another and the extraordinary landscape that surrounds us. Artists in Residence receive financial support and gather for chef-prepared meals in our Mess Hall four days per week—an essential part of the exchange that shapes the Headlands residency experience. We hope you’ll come and visit us at an Open House or for one of our monthly suppers and get to know this amazing new 2026 cohort!\n\n\n\nSpring Open House 2026\n\n\n\n\n\n\nWhen\nSunday\, April 26\, 12–5PM\n\n\nWhere\nHeadlands Center for the Arts\n\n\nPrice\nFree\n\n\n\n\n\n\n\n\n\n\nOpen House provides a once-a-season opportunity to roam the various buildings of our campus\, meet current artists\, view works in progress\, and attend screenings\, performances\, and readings. See what Artists in Residence and Graduate Fellows are up to in their studios\, stop by the Project Space to view in-progress installations\, and enjoy a house-made lunch from the Mess Hall. \nParking is limited. If you can\, we encourage you to carpool or bike. Get more info on transportation and directions. \nFirst-floor spaces in use for this event (Mess Hall\, Key Room\, Latrine\, The Commons\, first-floor studios) are accessible to people with mobility aids. Second- and third-floor spaces (including Project Space) are currently accessible only by stairs. \n\n\n\n\nSpring Season | Open House April 26 \nHenna Aho (Finland) | Visual \nColleen Blackard (TX) | Visual\, Project Space \nMilisuthando Bongela (NY) | Film/Video/New Media \nMaxe Crandall (CA) | Writing \nA Gang of Three (NC) | Architecture/Environment \nKeka Enriquez (CA) | Visual \nJean Fineberg (CA) | Music/Sound \nMarcus Fischer (OR) | Interdisciplinary \nCochemea Gastelum (NY) | Music/Sound \nChris Iduma (Nigeria) | Visual \nSue Jeong Ka (NY) | Social Practice \nMaryrose Mendoza (CA) | Visual \nVirginia L. Montgomery (TX) | Interdisciplinary\, Project Space \nEileen Myles (NY) | Writing \nOsbert Parker (UK) | Film/Video/New Media \nBecca Rothfeld (Washington\, DC) | Writing \nJake Rose (CA) | Writing
URL:https://calendarsausalito.com/event/headlands-announcing-headlands-2026-artists-in-residence/
LOCATION:Headlands\, 944 Simmonds Road\, Sausalito\, 94965
CATEGORIES:Headlands Center for the Arts
END:VEVENT
END:VCALENDAR