BEGIN:VCALENDAR
VERSION:2.0
PRODID:-//Calendar Sausalito - ECPv6.15.20//NONSGML v1.0//EN
CALSCALE:GREGORIAN
METHOD:PUBLISH
X-ORIGINAL-URL:https://calendarsausalito.com
X-WR-CALDESC:Events for Calendar Sausalito
REFRESH-INTERVAL;VALUE=DURATION:PT1H
X-Robots-Tag:noindex
X-PUBLISHED-TTL:PT1H
BEGIN:VTIMEZONE
TZID:America/Los_Angeles
BEGIN:DAYLIGHT
TZOFFSETFROM:-0800
TZOFFSETTO:-0700
TZNAME:PDT
DTSTART:20250309T100000
END:DAYLIGHT
BEGIN:STANDARD
TZOFFSETFROM:-0700
TZOFFSETTO:-0800
TZNAME:PST
DTSTART:20251102T090000
END:STANDARD
BEGIN:DAYLIGHT
TZOFFSETFROM:-0800
TZOFFSETTO:-0700
TZNAME:PDT
DTSTART:20260308T100000
END:DAYLIGHT
BEGIN:STANDARD
TZOFFSETFROM:-0700
TZOFFSETTO:-0800
TZNAME:PST
DTSTART:20261101T090000
END:STANDARD
BEGIN:DAYLIGHT
TZOFFSETFROM:-0800
TZOFFSETTO:-0700
TZNAME:PDT
DTSTART:20270314T100000
END:DAYLIGHT
BEGIN:STANDARD
TZOFFSETFROM:-0700
TZOFFSETTO:-0800
TZNAME:PST
DTSTART:20271107T090000
END:STANDARD
END:VTIMEZONE
BEGIN:VEVENT
DTSTART;TZID=America/Los_Angeles:20260501T170000
DTEND;TZID=America/Los_Angeles:20260501T200000
DTSTAMP:20260419T135437
CREATED:20260120T191943Z
LAST-MODIFIED:20260120T192239Z
UID:10002601-1777654800-1777665600@calendarsausalito.com
SUMMARY:ICB: MARIN OPEN STUDIOS
DESCRIPTION:Many of our artists participate in Marin Open Studios\, held every spring.  \nFor more information contact: icbartists.com \nFree admission. Free parking.
URL:https://calendarsausalito.com/event/icb-marin-open-studios/
LOCATION:ICB Building\, 480 Gate 5 Rd\, Sausalito\, CA\, 94965\, United States
CATEGORIES:ICB
END:VEVENT
BEGIN:VEVENT
DTSTART;TZID=America/Los_Angeles:20260502T110000
DTEND;TZID=America/Los_Angeles:20260502T170000
DTSTAMP:20260419T135437
CREATED:20260120T192013Z
LAST-MODIFIED:20260120T192244Z
UID:10002602-1777719600-1777741200@calendarsausalito.com
SUMMARY:ICB: MARIN OPEN STUDIOS
DESCRIPTION:Many of our artists participate in Marin Open Studios\, held every spring.  \nFor more information contact: icbartists.com \nFree admission. Free parking.
URL:https://calendarsausalito.com/event/icb-marin-open-studios-2/
LOCATION:ICB Building\, 480 Gate 5 Rd\, Sausalito\, CA\, 94965\, United States
CATEGORIES:ICB
END:VEVENT
BEGIN:VEVENT
DTSTART;TZID=America/Los_Angeles:20260503T110000
DTEND;TZID=America/Los_Angeles:20260503T170000
DTSTAMP:20260419T135437
CREATED:20260120T192029Z
LAST-MODIFIED:20260120T192242Z
UID:10002603-1777806000-1777827600@calendarsausalito.com
SUMMARY:ICB: MARIN OPEN STUDIOS
DESCRIPTION:Many of our artists participate in Marin Open Studios\, held every spring.  \nFor more information contact: icbartists.com \nFree admission. Free parking.
URL:https://calendarsausalito.com/event/icb-marin-open-studios-3/
LOCATION:ICB Building\, 480 Gate 5 Rd\, Sausalito\, CA\, 94965\, United States
CATEGORIES:ICB
END:VEVENT
END:VCALENDAR