BEGIN:VCALENDAR
VERSION:2.0
PRODID:-//Calendar Sausalito - ECPv6.15.20//NONSGML v1.0//EN
CALSCALE:GREGORIAN
METHOD:PUBLISH
X-ORIGINAL-URL:https://calendarsausalito.com
X-WR-CALDESC:Events for Calendar Sausalito
REFRESH-INTERVAL;VALUE=DURATION:PT1H
X-Robots-Tag:noindex
X-PUBLISHED-TTL:PT1H
BEGIN:VTIMEZONE
TZID:America/Los_Angeles
BEGIN:DAYLIGHT
TZOFFSETFROM:-0800
TZOFFSETTO:-0700
TZNAME:PDT
DTSTART:20250309T100000
END:DAYLIGHT
BEGIN:STANDARD
TZOFFSETFROM:-0700
TZOFFSETTO:-0800
TZNAME:PST
DTSTART:20251102T090000
END:STANDARD
BEGIN:DAYLIGHT
TZOFFSETFROM:-0800
TZOFFSETTO:-0700
TZNAME:PDT
DTSTART:20260308T100000
END:DAYLIGHT
BEGIN:STANDARD
TZOFFSETFROM:-0700
TZOFFSETTO:-0800
TZNAME:PST
DTSTART:20261101T090000
END:STANDARD
BEGIN:DAYLIGHT
TZOFFSETFROM:-0800
TZOFFSETTO:-0700
TZNAME:PDT
DTSTART:20270314T100000
END:DAYLIGHT
BEGIN:STANDARD
TZOFFSETFROM:-0700
TZOFFSETTO:-0800
TZNAME:PST
DTSTART:20271107T090000
END:STANDARD
END:VTIMEZONE
BEGIN:VEVENT
DTSTART;TZID=America/Los_Angeles:20260228T190000
DTEND;TZID=America/Los_Angeles:20260228T220000
DTSTAMP:20260420T010901
CREATED:20260120T190217Z
LAST-MODIFIED:20260120T190217Z
UID:10002599-1772305200-1772316000@calendarsausalito.com
SUMMARY:Osteria Divino: Live music: Ken Cook Trio
DESCRIPTION:
URL:https://calendarsausalito.com/event/osteria-divino-live-music-ken-cook-trio-2/
LOCATION:Osteria Divino\, 37 Caledonia Street\, Sausalito\, CA\, 94965\, United States
CATEGORIES:Osteria Divino
END:VEVENT
BEGIN:VEVENT
DTSTART;TZID=America/Los_Angeles:20260221T190000
DTEND;TZID=America/Los_Angeles:20260221T220000
DTSTAMP:20260420T010901
CREATED:20260120T190155Z
LAST-MODIFIED:20260120T190155Z
UID:10002598-1771700400-1771711200@calendarsausalito.com
SUMMARY:Osteria Divino: Live music: Cyril Guiraud Duo
DESCRIPTION:
URL:https://calendarsausalito.com/event/osteria-divino-live-music-cyril-guiraud-duo-2/
LOCATION:Osteria Divino\, 37 Caledonia Street\, Sausalito\, CA\, 94965\, United States
CATEGORIES:Osteria Divino
END:VEVENT
BEGIN:VEVENT
DTSTART;TZID=America/Los_Angeles:20260220T190000
DTEND;TZID=America/Los_Angeles:20260220T220000
DTSTAMP:20260420T010901
CREATED:20260120T190134Z
LAST-MODIFIED:20260120T190134Z
UID:10002597-1771614000-1771624800@calendarsausalito.com
SUMMARY:Osteria Divino: Live music: Parker Grant Trio
DESCRIPTION:
URL:https://calendarsausalito.com/event/osteria-divino-live-music-parker-grant-trio-2/
LOCATION:Osteria Divino\, 37 Caledonia Street\, Sausalito\, CA\, 94965\, United States
CATEGORIES:Osteria Divino
END:VEVENT
BEGIN:VEVENT
DTSTART;TZID=America/Los_Angeles:20260213T190000
DTEND;TZID=America/Los_Angeles:20260213T220000
DTSTAMP:20260420T010901
CREATED:20260120T190110Z
LAST-MODIFIED:20260120T190110Z
UID:10002596-1771009200-1771020000@calendarsausalito.com
SUMMARY:Osteria Divino: Live music: Kevin Pearson Jr Trio
DESCRIPTION:
URL:https://calendarsausalito.com/event/osteria-divino-live-music-kevin-pearson-jr-trio/
LOCATION:Osteria Divino\, 37 Caledonia Street\, Sausalito\, CA\, 94965\, United States
CATEGORIES:Osteria Divino
END:VEVENT
BEGIN:VEVENT
DTSTART;TZID=America/Los_Angeles:20260213T180000
DTEND;TZID=America/Los_Angeles:20260213T210000
DTSTAMP:20260420T010901
CREATED:20260120T190041Z
LAST-MODIFIED:20260120T190041Z
UID:10002595-1771005600-1771016400@calendarsausalito.com
SUMMARY:Osteria Divino: Live music: Ken Cook
DESCRIPTION:
URL:https://calendarsausalito.com/event/osteria-divino-live-music-ken-cook/
LOCATION:Osteria Divino\, 37 Caledonia Street\, Sausalito\, CA\, 94965\, United States
CATEGORIES:Osteria Divino
END:VEVENT
BEGIN:VEVENT
DTSTART;TZID=America/Los_Angeles:20260207T190000
DTEND;TZID=America/Los_Angeles:20260207T220000
DTSTAMP:20260420T010901
CREATED:20260120T190009Z
LAST-MODIFIED:20260120T190009Z
UID:10002594-1770490800-1770501600@calendarsausalito.com
SUMMARY:Osteria Divino: Live music: Joe Kelner Trio
DESCRIPTION:
URL:https://calendarsausalito.com/event/osteria-divino-live-music-joe-kelner-trio/
LOCATION:Osteria Divino\, 37 Caledonia Street\, Sausalito\, CA\, 94965\, United States
CATEGORIES:Osteria Divino
END:VEVENT
BEGIN:VEVENT
DTSTART;TZID=America/Los_Angeles:20260206T190000
DTEND;TZID=America/Los_Angeles:20260206T220000
DTSTAMP:20260420T010901
CREATED:20260120T185934Z
LAST-MODIFIED:20260120T185934Z
UID:10002593-1770404400-1770415200@calendarsausalito.com
SUMMARY:Osteria Divino: Live music: Nicholas Culp
DESCRIPTION:
URL:https://calendarsausalito.com/event/osteria-divino-live-music-nicholas-culp/
LOCATION:Osteria Divino\, 37 Caledonia Street\, Sausalito\, CA\, 94965\, United States
CATEGORIES:Osteria Divino
END:VEVENT
BEGIN:VEVENT
DTSTART;TZID=America/Los_Angeles:20260131T190000
DTEND;TZID=America/Los_Angeles:20260131T220000
DTSTAMP:20260420T010901
CREATED:20260120T185911Z
LAST-MODIFIED:20260120T185911Z
UID:10002592-1769886000-1769896800@calendarsausalito.com
SUMMARY:Osteria Divino: Live music: Ken Cook Trio
DESCRIPTION:
URL:https://calendarsausalito.com/event/osteria-divino-live-music-ken-cook-trio/
LOCATION:Osteria Divino\, 37 Caledonia Street\, Sausalito\, CA\, 94965\, United States
CATEGORIES:Osteria Divino
END:VEVENT
BEGIN:VEVENT
DTSTART;TZID=America/Los_Angeles:20260130T190000
DTEND;TZID=America/Los_Angeles:20260130T220000
DTSTAMP:20260420T010901
CREATED:20260120T185841Z
LAST-MODIFIED:20260120T185841Z
UID:10002591-1769799600-1769810400@calendarsausalito.com
SUMMARY:Osteria Divino: Live music: Graham Messer Trio with Eric Markowitz
DESCRIPTION:
URL:https://calendarsausalito.com/event/osteria-divino-live-music-graham-messer-trio-with-eric-markowitz/
LOCATION:Osteria Divino\, 37 Caledonia Street\, Sausalito\, CA\, 94965\, United States
CATEGORIES:Osteria Divino
END:VEVENT
BEGIN:VEVENT
DTSTART;TZID=America/Los_Angeles:20260124T190000
DTEND;TZID=America/Los_Angeles:20260124T220000
DTSTAMP:20260420T010901
CREATED:20260120T185812Z
LAST-MODIFIED:20260120T185812Z
UID:10002590-1769281200-1769292000@calendarsausalito.com
SUMMARY:Osteria Divino: Live music: Cyril Guiraud Duo
DESCRIPTION:
URL:https://calendarsausalito.com/event/osteria-divino-live-music-cyril-guiraud-duo/
LOCATION:Osteria Divino\, 37 Caledonia Street\, Sausalito\, CA\, 94965\, United States
CATEGORIES:Osteria Divino
END:VEVENT
BEGIN:VEVENT
DTSTART;TZID=America/Los_Angeles:20260123T190000
DTEND;TZID=America/Los_Angeles:20260123T220000
DTSTAMP:20260420T010901
CREATED:20260120T185738Z
LAST-MODIFIED:20260120T185738Z
UID:10002589-1769194800-1769205600@calendarsausalito.com
SUMMARY:Osteria Divino: Live music: Parker Grant Trio
DESCRIPTION:
URL:https://calendarsausalito.com/event/osteria-divino-live-music-parker-grant-trio/
LOCATION:Osteria Divino\, 37 Caledonia Street\, Sausalito\, CA\, 94965\, United States
CATEGORIES:Osteria Divino
END:VEVENT
END:VCALENDAR