BEGIN:VCALENDAR
VERSION:2.0
PRODID:-//Calendar Sausalito - ECPv6.15.20//NONSGML v1.0//EN
CALSCALE:GREGORIAN
METHOD:PUBLISH
X-WR-CALNAME:Calendar Sausalito
X-ORIGINAL-URL:https://calendarsausalito.com
X-WR-CALDESC:Events for Calendar Sausalito
REFRESH-INTERVAL;VALUE=DURATION:PT1H
X-Robots-Tag:noindex
X-PUBLISHED-TTL:PT1H
BEGIN:VTIMEZONE
TZID:America/Los_Angeles
BEGIN:DAYLIGHT
TZOFFSETFROM:-0800
TZOFFSETTO:-0700
TZNAME:PDT
DTSTART:20250309T100000
END:DAYLIGHT
BEGIN:STANDARD
TZOFFSETFROM:-0700
TZOFFSETTO:-0800
TZNAME:PST
DTSTART:20251102T090000
END:STANDARD
BEGIN:DAYLIGHT
TZOFFSETFROM:-0800
TZOFFSETTO:-0700
TZNAME:PDT
DTSTART:20260308T100000
END:DAYLIGHT
BEGIN:STANDARD
TZOFFSETFROM:-0700
TZOFFSETTO:-0800
TZNAME:PST
DTSTART:20261101T090000
END:STANDARD
BEGIN:DAYLIGHT
TZOFFSETFROM:-0800
TZOFFSETTO:-0700
TZNAME:PDT
DTSTART:20270314T100000
END:DAYLIGHT
BEGIN:STANDARD
TZOFFSETFROM:-0700
TZOFFSETTO:-0800
TZNAME:PST
DTSTART:20271107T090000
END:STANDARD
END:VTIMEZONE
BEGIN:VEVENT
DTSTART;TZID=America/Los_Angeles:20260312T110000
DTEND;TZID=America/Los_Angeles:20260312T170000
DTSTAMP:20260425T052721
CREATED:20260317T215335Z
LAST-MODIFIED:20260317T215557Z
UID:10009087-1773313200-1773334800@calendarsausalito.com
SUMMARY:P.A.I.N.T. Art Collective: Grafdoodles Exhibition
DESCRIPTION:Grafdoodles Exhibition by Joe Dou Draw\n  \n\n\n\n\n\n\n\nP.A.I.N.T Art Collective proudly presents Joe Dou Draw’s Graf Doodles.  \nThrough the use of markers\, paper and astute observation\, Joe creates a very personal translation of pop culture with his explosive drawing style and direct honesty. Inspired by grafitti\, music\, comics and popular imagery the resulting pop art symbolizes the profuse energy we are influenced by every day. Its the combination of graf messaging and character doodles that record our complex relationship with the culture we live in. \n\n\n\n\n\n\n\n\n\n\n\n\n\n\nDate and Time\n\nExhibition: March 12th – April 13th \n\n\n\nLocation\nP.A.I.N.T Art Collective\n8 Princess St.\nSausalito\, CA 94965 \n8 Princess Street Sausalito CA 94965 \n\n\nFees/Admission\nFree \n\n\nWebsite\nhttps://www.paintartcollective.org/ \n\n\nContact Information\n4158555417\nSend Email
URL:https://calendarsausalito.com/event/p-a-i-n-t-art-collective-grafdoodles-exhibition/2026-03-12/
LOCATION:P.A.I.N.T Art Collective\, 8 Princess Street\, Sausalito\, CA\, 94965\, United States
CATEGORIES:P.A.I.N.T. Art Collective
END:VEVENT
BEGIN:VEVENT
DTSTART;TZID=America/Los_Angeles:20260312T110000
DTEND;TZID=America/Los_Angeles:20260312T170000
DTSTAMP:20260425T052721
CREATED:20260317T220045Z
LAST-MODIFIED:20260317T220045Z
UID:10009826-1773313200-1773334800@calendarsausalito.com
SUMMARY:P.A.I.N.T. Art Collective: Grafdoodles Exhibition
DESCRIPTION:Grafdoodles Exhibition by Joe Dou Draw\n  \n\n\n\n\n\n\n\nP.A.I.N.T Art Collective proudly presents Joe Dou Draw’s Graf Doodles.  \nThrough the use of markers\, paper and astute observation\, Joe creates a very personal translation of pop culture with his explosive drawing style and direct honesty. Inspired by grafitti\, music\, comics and popular imagery the resulting pop art symbolizes the profuse energy we are influenced by every day. Its the combination of graf messaging and character doodles that record our complex relationship with the culture we live in. \n\n\n\n\n\n\n\n\n\n\n\n\n\n\nDate and Time\n\nExhibition: March 12th – April 13th \n\n\n\nLocation\nP.A.I.N.T Art Collective\n8 Princess St.\nSausalito\, CA 94965 \n8 Princess Street Sausalito CA 94965 \n\n\nFees/Admission\nFree \n\n\nWebsite\nhttps://www.paintartcollective.org/ \n\n\nContact Information\n4158555417\nSend Email
URL:https://calendarsausalito.com/event/p-a-i-n-t-art-collective-grafdoodles-exhibition-2/
LOCATION:P.A.I.N.T Art Collective\, 8 Princess Street\, Sausalito\, CA\, 94965\, United States
CATEGORIES:P.A.I.N.T. Art Collective
END:VEVENT
BEGIN:VEVENT
DTSTART;TZID=America/Los_Angeles:20260313T110000
DTEND;TZID=America/Los_Angeles:20260313T170000
DTSTAMP:20260425T052721
CREATED:20260317T215335Z
LAST-MODIFIED:20260317T215557Z
UID:10009088-1773399600-1773421200@calendarsausalito.com
SUMMARY:P.A.I.N.T. Art Collective: Grafdoodles Exhibition
DESCRIPTION:Grafdoodles Exhibition by Joe Dou Draw\n  \n\n\n\n\n\n\n\nP.A.I.N.T Art Collective proudly presents Joe Dou Draw’s Graf Doodles.  \nThrough the use of markers\, paper and astute observation\, Joe creates a very personal translation of pop culture with his explosive drawing style and direct honesty. Inspired by grafitti\, music\, comics and popular imagery the resulting pop art symbolizes the profuse energy we are influenced by every day. Its the combination of graf messaging and character doodles that record our complex relationship with the culture we live in. \n\n\n\n\n\n\n\n\n\n\n\n\n\n\nDate and Time\n\nExhibition: March 12th – April 13th \n\n\n\nLocation\nP.A.I.N.T Art Collective\n8 Princess St.\nSausalito\, CA 94965 \n8 Princess Street Sausalito CA 94965 \n\n\nFees/Admission\nFree \n\n\nWebsite\nhttps://www.paintartcollective.org/ \n\n\nContact Information\n4158555417\nSend Email
URL:https://calendarsausalito.com/event/p-a-i-n-t-art-collective-grafdoodles-exhibition/2026-03-13/
LOCATION:P.A.I.N.T Art Collective\, 8 Princess Street\, Sausalito\, CA\, 94965\, United States
CATEGORIES:P.A.I.N.T. Art Collective
END:VEVENT
BEGIN:VEVENT
DTSTART;TZID=America/Los_Angeles:20260314T110000
DTEND;TZID=America/Los_Angeles:20260314T170000
DTSTAMP:20260425T052721
CREATED:20260317T215335Z
LAST-MODIFIED:20260317T215557Z
UID:10009089-1773486000-1773507600@calendarsausalito.com
SUMMARY:P.A.I.N.T. Art Collective: Grafdoodles Exhibition
DESCRIPTION:Grafdoodles Exhibition by Joe Dou Draw\n  \n\n\n\n\n\n\n\nP.A.I.N.T Art Collective proudly presents Joe Dou Draw’s Graf Doodles.  \nThrough the use of markers\, paper and astute observation\, Joe creates a very personal translation of pop culture with his explosive drawing style and direct honesty. Inspired by grafitti\, music\, comics and popular imagery the resulting pop art symbolizes the profuse energy we are influenced by every day. Its the combination of graf messaging and character doodles that record our complex relationship with the culture we live in. \n\n\n\n\n\n\n\n\n\n\n\n\n\n\nDate and Time\n\nExhibition: March 12th – April 13th \n\n\n\nLocation\nP.A.I.N.T Art Collective\n8 Princess St.\nSausalito\, CA 94965 \n8 Princess Street Sausalito CA 94965 \n\n\nFees/Admission\nFree \n\n\nWebsite\nhttps://www.paintartcollective.org/ \n\n\nContact Information\n4158555417\nSend Email
URL:https://calendarsausalito.com/event/p-a-i-n-t-art-collective-grafdoodles-exhibition/2026-03-14/
LOCATION:P.A.I.N.T Art Collective\, 8 Princess Street\, Sausalito\, CA\, 94965\, United States
CATEGORIES:P.A.I.N.T. Art Collective
END:VEVENT
BEGIN:VEVENT
DTSTART;TZID=America/Los_Angeles:20260315T110000
DTEND;TZID=America/Los_Angeles:20260315T170000
DTSTAMP:20260425T052721
CREATED:20260317T215335Z
LAST-MODIFIED:20260317T215557Z
UID:10009090-1773572400-1773594000@calendarsausalito.com
SUMMARY:P.A.I.N.T. Art Collective: Grafdoodles Exhibition
DESCRIPTION:Grafdoodles Exhibition by Joe Dou Draw\n  \n\n\n\n\n\n\n\nP.A.I.N.T Art Collective proudly presents Joe Dou Draw’s Graf Doodles.  \nThrough the use of markers\, paper and astute observation\, Joe creates a very personal translation of pop culture with his explosive drawing style and direct honesty. Inspired by grafitti\, music\, comics and popular imagery the resulting pop art symbolizes the profuse energy we are influenced by every day. Its the combination of graf messaging and character doodles that record our complex relationship with the culture we live in. \n\n\n\n\n\n\n\n\n\n\n\n\n\n\nDate and Time\n\nExhibition: March 12th – April 13th \n\n\n\nLocation\nP.A.I.N.T Art Collective\n8 Princess St.\nSausalito\, CA 94965 \n8 Princess Street Sausalito CA 94965 \n\n\nFees/Admission\nFree \n\n\nWebsite\nhttps://www.paintartcollective.org/ \n\n\nContact Information\n4158555417\nSend Email
URL:https://calendarsausalito.com/event/p-a-i-n-t-art-collective-grafdoodles-exhibition/2026-03-15/
LOCATION:P.A.I.N.T Art Collective\, 8 Princess Street\, Sausalito\, CA\, 94965\, United States
CATEGORIES:P.A.I.N.T. Art Collective
END:VEVENT
BEGIN:VEVENT
DTSTART;TZID=America/Los_Angeles:20260316T110000
DTEND;TZID=America/Los_Angeles:20260316T170000
DTSTAMP:20260425T052721
CREATED:20260317T215335Z
LAST-MODIFIED:20260317T215557Z
UID:10009091-1773658800-1773680400@calendarsausalito.com
SUMMARY:P.A.I.N.T. Art Collective: Grafdoodles Exhibition
DESCRIPTION:Grafdoodles Exhibition by Joe Dou Draw\n  \n\n\n\n\n\n\n\nP.A.I.N.T Art Collective proudly presents Joe Dou Draw’s Graf Doodles.  \nThrough the use of markers\, paper and astute observation\, Joe creates a very personal translation of pop culture with his explosive drawing style and direct honesty. Inspired by grafitti\, music\, comics and popular imagery the resulting pop art symbolizes the profuse energy we are influenced by every day. Its the combination of graf messaging and character doodles that record our complex relationship with the culture we live in. \n\n\n\n\n\n\n\n\n\n\n\n\n\n\nDate and Time\n\nExhibition: March 12th – April 13th \n\n\n\nLocation\nP.A.I.N.T Art Collective\n8 Princess St.\nSausalito\, CA 94965 \n8 Princess Street Sausalito CA 94965 \n\n\nFees/Admission\nFree \n\n\nWebsite\nhttps://www.paintartcollective.org/ \n\n\nContact Information\n4158555417\nSend Email
URL:https://calendarsausalito.com/event/p-a-i-n-t-art-collective-grafdoodles-exhibition/2026-03-16/
LOCATION:P.A.I.N.T Art Collective\, 8 Princess Street\, Sausalito\, CA\, 94965\, United States
CATEGORIES:P.A.I.N.T. Art Collective
END:VEVENT
BEGIN:VEVENT
DTSTART;TZID=America/Los_Angeles:20260320T170000
DTEND;TZID=America/Los_Angeles:20260320T190000
DTSTAMP:20260425T052721
CREATED:20260317T214104Z
LAST-MODIFIED:20260317T215508Z
UID:10009086-1774026000-1774033200@calendarsausalito.com
SUMMARY:P.A.I.N.T. Art Collective: Artist Reception
DESCRIPTION:Artist Reception Grafdoodles Exhibition by Joe Dou Draw\n  \n\n\n\n\n\n\n\nP.A.I.N.T Art Collective proudly presents Joe Dou Draw’s Graf Doodles.  \nThrough the use of markers\, paper and astute observation\, Joe creates a very personal translation of pop culture with his explosive drawing style and direct honesty. Inspired by grafitti\, music\, comics and popular imagery the resulting pop art symbolizes the profuse energy we are influenced by every day. Its the combination of graf messaging and character doodles that record our complex relationship with the culture we live in. \n\n\n\n\n\n\n\n\n\n\n\n\n\n\nDate and Time\nFriday Mar 20\, 2026\n5:00 PM – 7:00 PM PDT \n\nReception: March 20th\, 5pm – 7pm\nExhibition: March 12th – April 13th \n\n\n\nLocation\nP.A.I.N.T Art Collective\n8 Princess St.\nSausalito\, CA 94965 \n8 Princess Street Sausalito CA 94965 \n\n\nFees/Admission\nFree \n\n\nWebsite\nhttps://www.paintartcollective.org/ \n\n\nContact Information\n4158555417\nSend Email
URL:https://calendarsausalito.com/event/chamber-of-commerce-artist-reception-grafdoodles/
LOCATION:P.A.I.N.T Art Collective\, 8 Princess Street\, Sausalito\, CA\, 94965\, United States
CATEGORIES:P.A.I.N.T. Art Collective
END:VEVENT
BEGIN:VEVENT
DTSTART;TZID=America/Los_Angeles:20260503T110000
DTEND;TZID=America/Los_Angeles:20260503T180000
DTSTAMP:20260425T052721
CREATED:20260424T224210Z
LAST-MODIFIED:20260424T224210Z
UID:10010514-1777806000-1777831200@calendarsausalito.com
SUMMARY:PAINT Art Collective Gallery: Art Exhibition
DESCRIPTION:Licita Fernandez’s Riot of Color and Whimsy – Art Exhibition\nPAINT Art Collective Gallery in Sausalito is proud to exhibit the work of Licita Fernandez. Inspired by the vibrant tradition of Mexican alebrijes\, these paintings feature bold colors\, intricate patterns\, and imaginative forms. The work reflects a joyful\, playful spirit rooted in the rich visual language of Mexican folk art. \n\n\n\n\n\n\n\nMeet the Artist during Marin Open Studios.\n11a m – 6 pm\, May 3\,4\,10 & 11 \n\n\n\n\nRiot of Color and Whimsy Licita Fernandez\n\n\n\nDate and Time\nFriday Apr 24\, 2026 Sunday May 17\, 2026 \n\nOngoing show:\nApril 24th – May 17th  Wednesday through Sunday 11am – 5pm. \nMeet the Artist during Marin Open Studios:\n11a m – 6 pm\, May 3\,4\,10 & 11 \n\n\n\nLocation\nPAINT ART COLLECTIVE\n8 Princess Street\nSausalito\, CA \n8 Princess Street Sausalito CA 94965 \n\n\nFees/Admission\nFree \n\n\nWebsite\nhttps://www.paintartcollective.org/ \n\n\nContact Information\n4158555417\nSend Email
URL:https://calendarsausalito.com/event/paint-art-collective-gallery-art-exhibition/2026-05-03/
LOCATION:PAINT ART COLLECTIVE\, 8 Princess Street\, Sausalito\, CA\, 94965\, United States
CATEGORIES:P.A.I.N.T. Art Collective
END:VEVENT
BEGIN:VEVENT
DTSTART;TZID=America/Los_Angeles:20260504T110000
DTEND;TZID=America/Los_Angeles:20260504T180000
DTSTAMP:20260425T052721
CREATED:20260424T224210Z
LAST-MODIFIED:20260424T224210Z
UID:10010515-1777892400-1777917600@calendarsausalito.com
SUMMARY:PAINT Art Collective Gallery: Art Exhibition
DESCRIPTION:Licita Fernandez’s Riot of Color and Whimsy – Art Exhibition\nPAINT Art Collective Gallery in Sausalito is proud to exhibit the work of Licita Fernandez. Inspired by the vibrant tradition of Mexican alebrijes\, these paintings feature bold colors\, intricate patterns\, and imaginative forms. The work reflects a joyful\, playful spirit rooted in the rich visual language of Mexican folk art. \n\n\n\n\n\n\n\nMeet the Artist during Marin Open Studios.\n11a m – 6 pm\, May 3\,4\,10 & 11 \n\n\n\n\nRiot of Color and Whimsy Licita Fernandez\n\n\n\nDate and Time\nFriday Apr 24\, 2026 Sunday May 17\, 2026 \n\nOngoing show:\nApril 24th – May 17th  Wednesday through Sunday 11am – 5pm. \nMeet the Artist during Marin Open Studios:\n11a m – 6 pm\, May 3\,4\,10 & 11 \n\n\n\nLocation\nPAINT ART COLLECTIVE\n8 Princess Street\nSausalito\, CA \n8 Princess Street Sausalito CA 94965 \n\n\nFees/Admission\nFree \n\n\nWebsite\nhttps://www.paintartcollective.org/ \n\n\nContact Information\n4158555417\nSend Email
URL:https://calendarsausalito.com/event/paint-art-collective-gallery-art-exhibition/2026-05-04/
LOCATION:PAINT ART COLLECTIVE\, 8 Princess Street\, Sausalito\, CA\, 94965\, United States
CATEGORIES:P.A.I.N.T. Art Collective
END:VEVENT
BEGIN:VEVENT
DTSTART;TZID=America/Los_Angeles:20260510T110000
DTEND;TZID=America/Los_Angeles:20260510T180000
DTSTAMP:20260425T052721
CREATED:20260424T224210Z
LAST-MODIFIED:20260424T224210Z
UID:10010516-1778410800-1778436000@calendarsausalito.com
SUMMARY:PAINT Art Collective Gallery: Art Exhibition
DESCRIPTION:Licita Fernandez’s Riot of Color and Whimsy – Art Exhibition\nPAINT Art Collective Gallery in Sausalito is proud to exhibit the work of Licita Fernandez. Inspired by the vibrant tradition of Mexican alebrijes\, these paintings feature bold colors\, intricate patterns\, and imaginative forms. The work reflects a joyful\, playful spirit rooted in the rich visual language of Mexican folk art. \n\n\n\n\n\n\n\nMeet the Artist during Marin Open Studios.\n11a m – 6 pm\, May 3\,4\,10 & 11 \n\n\n\n\nRiot of Color and Whimsy Licita Fernandez\n\n\n\nDate and Time\nFriday Apr 24\, 2026 Sunday May 17\, 2026 \n\nOngoing show:\nApril 24th – May 17th  Wednesday through Sunday 11am – 5pm. \nMeet the Artist during Marin Open Studios:\n11a m – 6 pm\, May 3\,4\,10 & 11 \n\n\n\nLocation\nPAINT ART COLLECTIVE\n8 Princess Street\nSausalito\, CA \n8 Princess Street Sausalito CA 94965 \n\n\nFees/Admission\nFree \n\n\nWebsite\nhttps://www.paintartcollective.org/ \n\n\nContact Information\n4158555417\nSend Email
URL:https://calendarsausalito.com/event/paint-art-collective-gallery-art-exhibition/2026-05-10/
LOCATION:PAINT ART COLLECTIVE\, 8 Princess Street\, Sausalito\, CA\, 94965\, United States
CATEGORIES:P.A.I.N.T. Art Collective
END:VEVENT
BEGIN:VEVENT
DTSTART;TZID=America/Los_Angeles:20260511T110000
DTEND;TZID=America/Los_Angeles:20260511T180000
DTSTAMP:20260425T052721
CREATED:20260424T224210Z
LAST-MODIFIED:20260424T224210Z
UID:10010517-1778497200-1778522400@calendarsausalito.com
SUMMARY:PAINT Art Collective Gallery: Art Exhibition
DESCRIPTION:Licita Fernandez’s Riot of Color and Whimsy – Art Exhibition\nPAINT Art Collective Gallery in Sausalito is proud to exhibit the work of Licita Fernandez. Inspired by the vibrant tradition of Mexican alebrijes\, these paintings feature bold colors\, intricate patterns\, and imaginative forms. The work reflects a joyful\, playful spirit rooted in the rich visual language of Mexican folk art. \n\n\n\n\n\n\n\nMeet the Artist during Marin Open Studios.\n11a m – 6 pm\, May 3\,4\,10 & 11 \n\n\n\n\nRiot of Color and Whimsy Licita Fernandez\n\n\n\nDate and Time\nFriday Apr 24\, 2026 Sunday May 17\, 2026 \n\nOngoing show:\nApril 24th – May 17th  Wednesday through Sunday 11am – 5pm. \nMeet the Artist during Marin Open Studios:\n11a m – 6 pm\, May 3\,4\,10 & 11 \n\n\n\nLocation\nPAINT ART COLLECTIVE\n8 Princess Street\nSausalito\, CA \n8 Princess Street Sausalito CA 94965 \n\n\nFees/Admission\nFree \n\n\nWebsite\nhttps://www.paintartcollective.org/ \n\n\nContact Information\n4158555417\nSend Email
URL:https://calendarsausalito.com/event/paint-art-collective-gallery-art-exhibition/2026-05-11/
LOCATION:PAINT ART COLLECTIVE\, 8 Princess Street\, Sausalito\, CA\, 94965\, United States
CATEGORIES:P.A.I.N.T. Art Collective
END:VEVENT
END:VCALENDAR