BEGIN:VCALENDAR
VERSION:2.0
PRODID:-//Calendar Sausalito - ECPv6.15.20//NONSGML v1.0//EN
CALSCALE:GREGORIAN
METHOD:PUBLISH
X-WR-CALNAME:Calendar Sausalito
X-ORIGINAL-URL:https://calendarsausalito.com
X-WR-CALDESC:Events for Calendar Sausalito
REFRESH-INTERVAL;VALUE=DURATION:PT1H
X-Robots-Tag:noindex
X-PUBLISHED-TTL:PT1H
BEGIN:VTIMEZONE
TZID:America/Los_Angeles
BEGIN:DAYLIGHT
TZOFFSETFROM:-0800
TZOFFSETTO:-0700
TZNAME:PDT
DTSTART:20250309T100000
END:DAYLIGHT
BEGIN:STANDARD
TZOFFSETFROM:-0700
TZOFFSETTO:-0800
TZNAME:PST
DTSTART:20251102T090000
END:STANDARD
BEGIN:DAYLIGHT
TZOFFSETFROM:-0800
TZOFFSETTO:-0700
TZNAME:PDT
DTSTART:20260308T100000
END:DAYLIGHT
BEGIN:STANDARD
TZOFFSETFROM:-0700
TZOFFSETTO:-0800
TZNAME:PST
DTSTART:20261101T090000
END:STANDARD
BEGIN:DAYLIGHT
TZOFFSETFROM:-0800
TZOFFSETTO:-0700
TZNAME:PDT
DTSTART:20270314T100000
END:DAYLIGHT
BEGIN:STANDARD
TZOFFSETFROM:-0700
TZOFFSETTO:-0800
TZNAME:PST
DTSTART:20271107T090000
END:STANDARD
END:VTIMEZONE
BEGIN:VEVENT
DTSTART;TZID=America/Los_Angeles:20260523T100000
DTEND;TZID=America/Los_Angeles:20260523T150000
DTSTAMP:20260419T172648
CREATED:20260107T041232Z
LAST-MODIFIED:20260221T005838Z
UID:10002180-1779530400-1779548400@calendarsausalito.com
SUMMARY:Sausalito Art & Harbor Days
DESCRIPTION:Sausalito Art & Harbor Days\n4th Saturday of the month\n\n2026: 1/24\, 2/28\, 3/28\, 4/24\, 5/22\, 6/27\, 7/25\, 8/22\, 9/26\, 10/24\, 11/28\, 12/26\n\nTracy Way and Ferry Landing Plaza\, Sausalito\n  \nArt\, Eats\, and Beats by the Bay \nSausalito Art and Harbor Days brings a new energy to our waterfront and downtown area every fourth Saturday of the month. Featuring live music and local makers\, it’s not only a fun family-friendly outing\, but also a great opportunity to find unique gifts this season. \nFollow the Sausalito Art & Harbor Days on Instagram! \nQuestions\n\nAny questions about the farmers’ market may be directed to recreation@sausalito.gov or (415) 289-4152.\nThe Parks and Recreation Department office is located at Sausalito City Hall\, 420 Litho Street\, Sausalito\, CA\, 94965\nStay up to date on Parks & Rec events on Instagram and Facebook @sausalitoparksandrecreation\n\nParking\nStreet Parking \nCity Parking Lots
URL:https://calendarsausalito.com/event/sausalito-art-harbor-days/2026-05-23/
CATEGORIES:Sausalito Art & Harbor Days
END:VEVENT
END:VCALENDAR