BEGIN:VCALENDAR
VERSION:2.0
PRODID:-//Calendar Sausalito - ECPv6.15.20//NONSGML v1.0//EN
CALSCALE:GREGORIAN
METHOD:PUBLISH
X-WR-CALNAME:Calendar Sausalito
X-ORIGINAL-URL:https://calendarsausalito.com
X-WR-CALDESC:Events for Calendar Sausalito
REFRESH-INTERVAL;VALUE=DURATION:PT1H
X-Robots-Tag:noindex
X-PUBLISHED-TTL:PT1H
BEGIN:VTIMEZONE
TZID:America/Los_Angeles
BEGIN:DAYLIGHT
TZOFFSETFROM:-0800
TZOFFSETTO:-0700
TZNAME:PDT
DTSTART:20250309T100000
END:DAYLIGHT
BEGIN:STANDARD
TZOFFSETFROM:-0700
TZOFFSETTO:-0800
TZNAME:PST
DTSTART:20251102T090000
END:STANDARD
BEGIN:DAYLIGHT
TZOFFSETFROM:-0800
TZOFFSETTO:-0700
TZNAME:PDT
DTSTART:20260308T100000
END:DAYLIGHT
BEGIN:STANDARD
TZOFFSETFROM:-0700
TZOFFSETTO:-0800
TZNAME:PST
DTSTART:20261101T090000
END:STANDARD
BEGIN:DAYLIGHT
TZOFFSETFROM:-0800
TZOFFSETTO:-0700
TZNAME:PDT
DTSTART:20270314T100000
END:DAYLIGHT
BEGIN:STANDARD
TZOFFSETFROM:-0700
TZOFFSETTO:-0800
TZNAME:PST
DTSTART:20271107T090000
END:STANDARD
END:VTIMEZONE
BEGIN:VEVENT
DTSTART;TZID=America/Los_Angeles:20260416T180000
DTEND;TZID=America/Los_Angeles:20260416T190000
DTSTAMP:20260421T062058
CREATED:20260408T185236Z
LAST-MODIFIED:20260408T185236Z
UID:10010053-1776362400-1776366000@calendarsausalito.com
SUMMARY:Sausalito Books by the Bay: Artist Reception
DESCRIPTION:Artist Reception – David Smith\n\n\n\n\nThursday\, April 16\, 2026\n6:00 PM  7:00 PM\nSausalito Books by the Bay (map)\n\n\n\n\n\n\n\n \n \n\n\n\n\n\n\n\n\n\n\n\nView Event →
URL:https://calendarsausalito.com/event/sausalito-books-by-the-bay-artist-reception-5/
LOCATION:Sausalito Books by the Bay\, 100 Bay Street\, Sausalito\, CA\, 94965\, United States
CATEGORIES:Sausalito Books by the Bay
END:VEVENT
BEGIN:VEVENT
DTSTART;TZID=America/Los_Angeles:20260415T180000
DTEND;TZID=America/Los_Angeles:20260415T190000
DTSTAMP:20260421T062058
CREATED:20260308T185708Z
LAST-MODIFIED:20260408T183342Z
UID:10008237-1776276000-1776279600@calendarsausalito.com
SUMMARY:Sausalito Books by the Bay: Author Event
DESCRIPTION:Author Event – Jeffery Amestoy – “Winters’ Time” \n\n\nWednesday\, April 15\, 2026\n6:00 PM  7:00 PM\nSausalito Books by the Bay (map)\n\n\n\n\n\n\n\n \n \n\n\n\n\n\n\n\n\n\nBuy the book\n\n\n\n\n\n\nView Event →
URL:https://calendarsausalito.com/event/sausalito-books-by-the-bay-author-event-11/
LOCATION:Sausalito Books by the Bay\, 100 Bay Street\, Sausalito\, CA\, 94965\, United States
CATEGORIES:Sausalito Books by the Bay
END:VEVENT
BEGIN:VEVENT
DTSTART;TZID=America/Los_Angeles:20260414T060000
DTEND;TZID=America/Los_Angeles:20260414T190000
DTSTAMP:20260421T062058
CREATED:20260310T181118Z
LAST-MODIFIED:20260408T184427Z
UID:10008243-1776146400-1776193200@calendarsausalito.com
SUMMARY:Sausalito Books by the Bay: Author Event
DESCRIPTION:Author Event – Barry Hoffner – “Belonging to the World”\nSausalito author & world traveler Barry Hoffner (a member of the prestigious 193 Club….having traveled to all 193 countries in the world!) just back from North Korea….His book Belonging to the World  a homage to his late wife Jackie. \n\nTuesday\, April 14\, 2026\n6:00 PM  7:00 PM\nSausalito Books by the Bay (map)\n\n\n\n\n\n\n\n \n \n\n\n\n\n\n\n\n\n\nbuy the book\n\n\n\n\n\n\nView Event →
URL:https://calendarsausalito.com/event/sausalito-books-by-the-bay-author-event-13/
LOCATION:Sausalito Books by the Bay\, 100 Bay Street\, Sausalito\, CA\, 94965\, United States
CATEGORIES:Sausalito Books by the Bay
END:VEVENT
BEGIN:VEVENT
DTSTART;TZID=America/Los_Angeles:20260412T160000
DTEND;TZID=America/Los_Angeles:20260412T170000
DTSTAMP:20260421T062058
CREATED:20260408T185110Z
LAST-MODIFIED:20260408T185110Z
UID:10010052-1776009600-1776013200@calendarsausalito.com
SUMMARY:Sausalito Books by the Bay: Author Event
DESCRIPTION:Author Event – Dennis McNally – “The Last Great Dream”\n\nSunday\, April 12\, 2026\n4:00 PM  5:00 PM\nSausalito Books by the Bay (map)\n\n\n\n\n\n\n\nBuy the Book\n\n\n\n\n\n\nView Event →
URL:https://calendarsausalito.com/event/sausalito-books-by-the-bay-author-event-16/
LOCATION:Sausalito Books by the Bay\, 100 Bay Street\, Sausalito\, CA\, 94965\, United States
CATEGORIES:Sausalito Books by the Bay
END:VEVENT
BEGIN:VEVENT
DTSTART;TZID=America/Los_Angeles:20260412T160000
DTEND;TZID=America/Los_Angeles:20260412T170000
DTSTAMP:20260421T062058
CREATED:20260408T184327Z
LAST-MODIFIED:20260408T184327Z
UID:10010051-1776009600-1776013200@calendarsausalito.com
SUMMARY:Sausalito Books by the Bay: Author Event
DESCRIPTION:Author Event – Dennis McNally – “The Last Great Dream”\n\nSunday\, April 12\, 2026\n4:00 PM  5:00 PM\nSausalito Books by the Bay (map)\n\n\n\n\n\n\n\nBuy the Book\n\n\n\n\n\n\nView Event →
URL:https://calendarsausalito.com/event/sausalito-books-by-the-bay-author-event-15/
LOCATION:Sausalito Books by the Bay\, 100 Bay Street\, Sausalito\, CA\, 94965\, United States
CATEGORIES:Sausalito Books by the Bay
END:VEVENT
BEGIN:VEVENT
DTSTART;TZID=America/Los_Angeles:20260409T060000
DTEND;TZID=America/Los_Angeles:20260409T200000
DTSTAMP:20260421T062058
CREATED:20260308T185623Z
LAST-MODIFIED:20260310T180730Z
UID:10008236-1775714400-1775764800@calendarsausalito.com
SUMMARY:Sausalito Books by the Bay: Writing Program
DESCRIPTION:April 9 – 6 PM – Dominican University MFA Creative Writing Program READING — students\, professors & alumni\n  \n\nRegister Here \n\n\nJoin us to hear Dominican MFA students\, alumni\, and faculty read their work at Sausalito Books by the Bay. \n\n\n\n\n\nEvent Title: MFA Student Readings at Sausalito Books by the Bay\nDate: Thursday\, April 9\nTime: 6:00 – 8:00pm\nLocation: 100 Bay Street\, Sausalito CA 94965\n\nDominican MFA students\, alumni\, and faculty will share new writing at the seaside bookstore in Sausalito. \nReaders To Be Announced. Check this page for updates. \nRegistration Details \nRegistration is encouraged. Registrants will receive event updates and reminders. \nPlease note that you are registering to be a guest at the event\, not a reader. \nThis creative writing event is a service to the public and there is no charge for participating. Dominican University of California is a nonprofit institution. To make a donation to the MFA Scholarship Fund visit our site here. \nContact mfa@dominican.edu with any questions.
URL:https://calendarsausalito.com/event/sausalito-books-by-the-bay-writing-program/
LOCATION:Sausalito Books by the Bay\, 100 Bay Street\, Sausalito\, CA\, 94965\, United States
CATEGORIES:Sausalito Books by the Bay
END:VEVENT
BEGIN:VEVENT
DTSTART;TZID=America/Los_Angeles:20260408T180000
DTEND;TZID=America/Los_Angeles:20260408T190000
DTSTAMP:20260421T062058
CREATED:20260408T184147Z
LAST-MODIFIED:20260408T184147Z
UID:10010049-1775671200-1775674800@calendarsausalito.com
SUMMARY:Sausalito Books by the Bay: Author Event
DESCRIPTION:Author Event – Jacque Gorelick – “Map of a Heart”\n\nWednesday\, April 8\, 2026\n6:00 PM  7:00 PM\nSausalito Books by the Bay (map)\n\n\n\n\n\n\n\n \n \n\n\n\n\n\n\n\n\n\nBuy the Book\n\n\n\n\n\n\nView Event →
URL:https://calendarsausalito.com/event/sausalito-books-by-the-bay-author-event-14/
LOCATION:Sausalito Books by the Bay\, 100 Bay Street\, Sausalito\, CA\, 94965\, United States
CATEGORIES:Sausalito Books by the Bay
END:VEVENT
BEGIN:VEVENT
DTSTART;TZID=America/Los_Angeles:20260325T060000
DTEND;TZID=America/Los_Angeles:20260325T190000
DTSTAMP:20260421T062058
CREATED:20260308T185355Z
LAST-MODIFIED:20260310T173344Z
UID:10008235-1774418400-1774465200@calendarsausalito.com
SUMMARY:Sausalito Books by the Bay: Wanderlust By The Bay!
DESCRIPTION:Wanderlust By The Bay! \nMarch 25th\, 6pm \n \nHosted By Author: Erin Byrne\nWith authors Michael Shapiro & Kimberley Lovato \nJoin us for a gathering of travelers and writers whose curiosity with the world takes them far and wide. Erin\, Michael and Kimberley will launch us from the dock of the bay into three thrilling journeys. NO PASSPORT required! Just a little Wanderlust! \nWine\, lite bites & great camaraderie! \nThis travel-writing-reading harkens back to the Weekday Wanderlust sessions in San Francisco which some may remember from years ago.
URL:https://calendarsausalito.com/event/sausalito-books-by-the-bay-author-event-10/
LOCATION:Sausalito Books by the Bay\, 100 Bay Street\, Sausalito\, CA\, 94965\, United States
CATEGORIES:Sausalito Books by the Bay
END:VEVENT
BEGIN:VEVENT
DTSTART;TZID=America/Los_Angeles:20260322T160000
DTEND;TZID=America/Los_Angeles:20260322T170000
DTSTAMP:20260421T062058
CREATED:20260310T173813Z
LAST-MODIFIED:20260310T173813Z
UID:10008240-1774195200-1774198800@calendarsausalito.com
SUMMARY:Sausalito Books by the Bay: Author Event
DESCRIPTION:Darby Bonomi Unshrinkable \nIn conversation with Holli Kolkey\nVP and Head of Corporate Affairs\, Arcus Biosciences. \nA timely offering as we celebrate women this month. \n \n  \nMany strong\, capable women don’t fail because they lack confidence\, talent\, or ambition. They fail quietly — by criticizing themselves\, diminishing their needs\, and holding back just enough to stay safe. Stop shrinking yourself. Start living full-scale. Dr. Darby Bonomi is a sport psychologist and performance consultant known for her work with high achievers in sport and business.
URL:https://calendarsausalito.com/event/sausalito-books-by-the-bay-author-event-12/
LOCATION:Sausalito Books by the Bay\, 100 Bay Street\, Sausalito\, CA\, 94965\, United States
CATEGORIES:Sausalito Books by the Bay
END:VEVENT
BEGIN:VEVENT
DTSTART;TZID=America/Los_Angeles:20260318T060000
DTEND;TZID=America/Los_Angeles:20260318T190000
DTSTAMP:20260421T062058
CREATED:20260308T184731Z
LAST-MODIFIED:20260310T173508Z
UID:10008232-1773813600-1773860400@calendarsausalito.com
SUMMARY:Sausalito Books by the Bay: Author Event
DESCRIPTION:Author Event Carly Schwartz “I’ll Try Anything Twice”\n\n\n\nWednesday\, March 18\, 2026\n6:00 PM  7:00 PM\nSausalito Books by the Bay (map)\n\n\n\n\n\n\n\n\n\n\n\n\n\n\n\n\n\n\n\n\nBuy the Book\n\n\n\n\n\n\nView Event → \n\n 
URL:https://calendarsausalito.com/event/sausalito-books-by-the-bay-author-event-7/
LOCATION:Sausalito Books by the Bay\, 100 Bay Street\, Sausalito\, CA\, 94965\, United States
CATEGORIES:Sausalito Books by the Bay
END:VEVENT
BEGIN:VEVENT
DTSTART;TZID=America/Los_Angeles:20260312T060000
DTEND;TZID=America/Los_Angeles:20260312T190000
DTSTAMP:20260421T062058
CREATED:20260308T184937Z
LAST-MODIFIED:20260310T181111Z
UID:10008233-1773295200-1773342000@calendarsausalito.com
SUMMARY:Sausalito Books by the Bay: Author Event
DESCRIPTION:Author Event – Mark Lashley – “A Teenage Trip Through The San Francisco 60s”\n\n\n\nThursday\, March 12\, 2026\n6:00 PM  7:00 PM\nSausalito Books by the Bay (map)\n\n\n\n\n\n\n\n\n\n\n\n\n\n\n\n\n\n\n\n\nBuy the Book\n\n\n\n\n\n\nView Event → \n\n 
URL:https://calendarsausalito.com/event/sausalito-books-by-the-bay-author-event-8/
LOCATION:Sausalito Books by the Bay\, 100 Bay Street\, Sausalito\, CA\, 94965\, United States
CATEGORIES:Sausalito Books by the Bay
END:VEVENT
BEGIN:VEVENT
DTSTART;TZID=America/Los_Angeles:20260311T180000
DTEND;TZID=America/Los_Angeles:20260311T190000
DTSTAMP:20260421T062058
CREATED:20260226T201847Z
LAST-MODIFIED:20260226T201847Z
UID:10008202-1773252000-1773255600@calendarsausalito.com
SUMMARY:Sausalito Books by the Bay: Author Event
DESCRIPTION:Author Event – Jeff Greenwald – “The Size of the World”\n\nWednesday\, March 11\, 2026\n6:00 PM  7:00 PM\nSausalito Books by the Bay (map)\n\n\n\n\n\n\n\nBuy the book\n\n\n\n\n\n\nView Event →
URL:https://calendarsausalito.com/event/sausalito-books-by-the-bay-author-event-4/
LOCATION:Sausalito Books by the Bay\, 100 Bay Street\, Sausalito\, CA\, 94965\, United States
CATEGORIES:Sausalito Books by the Bay
END:VEVENT
BEGIN:VEVENT
DTSTART;TZID=America/Los_Angeles:20260310T060000
DTEND;TZID=America/Los_Angeles:20260310T190000
DTSTAMP:20260421T062058
CREATED:20260308T185303Z
LAST-MODIFIED:20260308T185518Z
UID:10008234-1773122400-1773169200@calendarsausalito.com
SUMMARY:Sausalito Books by the Bay: Author Event
DESCRIPTION:March Book Club Discussion – “Twist” – Colum McCann\n\nTuesday\, March 10\, 2026\n5:30 PM  6:30 PM\nSausalito Books by the Bay (map)\nGoogle Calendar  ICS\n\n\n\n\n\n\n\n\n\n\n\n\n\n\n\n\n\n\nBuy the book\n\n\n\n\n\n\nView Event → \n\n 
URL:https://calendarsausalito.com/event/sausalito-books-by-the-bay-author-event-9/
LOCATION:Sausalito Books by the Bay\, 100 Bay Street\, Sausalito\, CA\, 94965\, United States
CATEGORIES:Sausalito Books by the Bay
END:VEVENT
BEGIN:VEVENT
DTSTART;TZID=America/Los_Angeles:20260307T160000
DTEND;TZID=America/Los_Angeles:20260307T170000
DTSTAMP:20260421T062058
CREATED:20260226T201656Z
LAST-MODIFIED:20260226T201656Z
UID:10008201-1772899200-1772902800@calendarsausalito.com
SUMMARY:Sausalito Books by the Bay: Author Event
DESCRIPTION:Author Event – Max Talley – “Peace Love & Haight\n\nSaturday\, March 7\, 2026\n4:00 PM  5:00 PM\nSausalito Books by the Bay (map)\n\n\n\n\n\n\n\n\nBUY THE BOOK\n\n\n\n\n\n\nView Event →
URL:https://calendarsausalito.com/event/sausalito-books-by-the-bay-author-event-3/
LOCATION:Sausalito Books by the Bay\, 100 Bay Street\, Sausalito\, CA\, 94965\, United States
CATEGORIES:Sausalito Books by the Bay
END:VEVENT
BEGIN:VEVENT
DTSTART;TZID=America/Los_Angeles:20260304T180000
DTEND;TZID=America/Los_Angeles:20260304T190000
DTSTAMP:20260421T062058
CREATED:20260226T201515Z
LAST-MODIFIED:20260226T201515Z
UID:10008200-1772647200-1772650800@calendarsausalito.com
SUMMARY:Sausalito Books by the Bay: Author Event
DESCRIPTION:Author Event – Tommie Whitener – “The Showrunner”\n\nWednesday\, March 4\, 2026\n6:00 PM  7:00 PM\nSausalito Books by the Bay (map)\n\n\n\n\n\n\n\nBuy The Book\n\n\n\n\n\n\nView Event →
URL:https://calendarsausalito.com/event/sausalito-books-by-the-bay-author-event-2/
LOCATION:Sausalito Books by the Bay\, 100 Bay Street\, Sausalito\, CA\, 94965\, United States
CATEGORIES:Sausalito Books by the Bay
END:VEVENT
BEGIN:VEVENT
DTSTART;TZID=America/Los_Angeles:20260301T160000
DTEND;TZID=America/Los_Angeles:20260301T170000
DTSTAMP:20260421T062058
CREATED:20260209T204326Z
LAST-MODIFIED:20260209T204326Z
UID:10007132-1772380800-1772384400@calendarsausalito.com
SUMMARY:Sausalito Books by the Bay: Books Binding us Together
DESCRIPTION:Books Binding us Together – “Wuthering Heights”\n\nSunday\, March 1\, 2026\n4:00 PM  5:00 PM\nSausalito Books by the Bay (map)\n\n\n\n\n\n\n\n \n \n\n\n\n\n\n\n\n\n\n\n\n\nBooks Binding us Together \nBrought to you by Literacy by the Bay: Wuthering Heights by Emily Bronte – the book & the movie. \nRevisit this intense\, dark literary masterpiece that defies typical romantic tropes\, watch the movie (in theaters starting February 14th) and come join us to discuss both in this special conversation group. More information and a link to register will be forthcoming\, but SAVE THE DATE\, watch the movie\, and re-read the book (!) for what promises to be a most engaging encounter. \nClick Here To Watch The Movie Trailer \n\n\n\n\n\n\n\n\n\nRegister/Donate\n\n\n\n\n\n\nView Event 
URL:https://calendarsausalito.com/event/sausalito-books-by-the-bay-books-binding-us-together/
LOCATION:Sausalito Books by the Bay\, 100 Bay Street\, Sausalito\, CA\, 94965\, United States
CATEGORIES:Sausalito Books by the Bay
END:VEVENT
BEGIN:VEVENT
DTSTART;TZID=America/Los_Angeles:20260228T163000
DTEND;TZID=America/Los_Angeles:20260228T173000
DTSTAMP:20260421T062058
CREATED:20260209T210403Z
LAST-MODIFIED:20260209T210512Z
UID:10007136-1772296200-1772299800@calendarsausalito.com
SUMMARY:Sausalito Books by the Bay: Artist Reception
DESCRIPTION:Author Event – Carla Kaplan – “Troublemaker: The Fierce\, Unruly Life of Jessica Mitford”\n\nSaturday\, February 28\, 2026\n4:30 PM  5:30 PM\nSausalito Books by the Bay (map)\n\n\n\n\n\n\n\n\n\n\n\n\n\n\n\n\n\n\n\n\n\nIn her new book\, prize-winning\, critically acclaimed biographer Carla Kaplan turns her lens to the wild and unlikely story of Jessica Mitford. The fifth of the six famous Mitford Girls\, Jessica Mitford (also known as Decca)\, was a British aristocrat-turned-American Communist\, famous for exposés like The American Way of Death. The second youngest of the famously beautiful – and brilliant – “Mitford Girls\,” Jessica was brought up by an eccentric English family in the bucolic Cotswolds and went on to be an unforgettable\, subversive\, and irrepressibly funny figure at the center of some of the most pivotal moments of the 20th century. Trading wealth and status for a life of radical activism\, she advocated for civil rights\, free speech\, and an end war\, relentlessly pursuing both justice and joy. \nPersonal note from bookstore owner Cheryl:  Believe it or not (!) I WORKED for Jessica and her radical attorney husband when I was a UC Berkeley  coed in the early 70’s. I had no idea what I was getting into! And I loved every wild minute of it. I “catered” (I use this term loosely\, but she called me the caterer) all their parties which were of course\, utterly fascinating! I also “assisted” with minor household chores… like helping her find her car keys. MOST importantly\, Jessica taught me how to make the perfect cucumber salad… I can’t wait to read \nthe book. \n\n\n\n\n\nBuy the Book\n\n\n\n\n\n\nView Event → \n\n 
URL:https://calendarsausalito.com/event/sausalito-books-by-the-bay-artist-reception-2/
LOCATION:Sausalito Books by the Bay\, 100 Bay Street\, Sausalito\, CA\, 94965\, United States
CATEGORIES:Sausalito Books by the Bay
END:VEVENT
BEGIN:VEVENT
DTSTART;TZID=America/Los_Angeles:20260219T180000
DTEND;TZID=America/Los_Angeles:20260219T190000
DTSTAMP:20260421T062058
CREATED:20260209T210218Z
LAST-MODIFIED:20260209T210509Z
UID:10007135-1771524000-1771527600@calendarsausalito.com
SUMMARY:Sausalito Books by the Bay: Artist Reception
DESCRIPTION:Artist Reception – Mike Monsef\n\nThursday\, February 19\, 2026\n6:00 PM  7:00 PM\nSausalito Books by the Bay (map)\n\n\n\n\n\n\n\n\n\n\n\n\n\n\n\n\n\n\n\n\n\nReception for artist in residence Mike Monsef \nPaintings & Photography \nA long-time Sausalito resident\, most people know Mike as a property manager & realtor\, but an early degree in architecture made for an artistic drive which has led him\, later in life\, to rediscover water color painting and photography. His work will be on our gallery wall through the end of March. \n\n\n\n\n\n\n\nView Event →
URL:https://calendarsausalito.com/event/sausalito-books-by-the-bay-artist-reception/
LOCATION:Sausalito Books by the Bay\, 100 Bay Street\, Sausalito\, CA\, 94965\, United States
CATEGORIES:Sausalito Books by the Bay
END:VEVENT
BEGIN:VEVENT
DTSTART;TZID=America/Los_Angeles:20260215T150000
DTEND;TZID=America/Los_Angeles:20260215T160000
DTSTAMP:20260421T062058
CREATED:20260209T205932Z
LAST-MODIFIED:20260209T205932Z
UID:10007134-1771167600-1771171200@calendarsausalito.com
SUMMARY:Sausalito Books by the Bay: Author Event
DESCRIPTION:Author Event – Kallie Emblidge – “Two Left Feet”\n\nSunday\, February 15\, 2026\n3:00 PM  4:00 PM\nSausalito Books by the Bay (map)\n\n\n\n\n\n\n\nBuy the book\n\n\n\n\n\n\nView Event →
URL:https://calendarsausalito.com/event/sausalito-books-by-the-bay-author-event/
LOCATION:Sausalito Books by the Bay\, 100 Bay Street\, Sausalito\, CA\, 94965\, United States
CATEGORIES:Sausalito Books by the Bay
END:VEVENT
BEGIN:VEVENT
DTSTART;TZID=America/Los_Angeles:20260210T173000
DTEND;TZID=America/Los_Angeles:20260210T183000
DTSTAMP:20260421T062058
CREATED:20260209T205723Z
LAST-MODIFIED:20260209T205723Z
UID:10007133-1770744600-1770748200@calendarsausalito.com
SUMMARY:Sausalito Books by the Bay: Monthly Book Club
DESCRIPTION:Monthly Book Club – “Secrets of the Flesh: A Life of Colette” by Judith Thurman\n\nTuesday\, February 10\, 2026\n5:30 PM  6:30 PM\nSausalito Books by the Bay (map)\n\n\n\n\n\n\n\n \n \n\n\n\n\n\n\n\n\n\n\n\n\nCelebrating the romance of Valentine’s Day and all things Parisian! Colette captivated the Belle Epoque by writing critically acclaimed\, rather erotic novels. Combined with her flamboyant career on the stage\, Colette became one of France’s most notorious novelists and personalities. A celebrity who defied and redefined the conventions of loving and aging in her era. \n\n\n\n\n\n\n\nView Event →
URL:https://calendarsausalito.com/event/sausalito-books-by-the-bay-monthly-book-club/
LOCATION:Sausalito Books by the Bay\, 100 Bay Street\, Sausalito\, CA\, 94965\, United States
CATEGORIES:Sausalito Books by the Bay
END:VEVENT
BEGIN:VEVENT
DTSTART;TZID=America/Los_Angeles:20260130T180000
DTEND;TZID=America/Los_Angeles:20260130T190000
DTSTAMP:20260421T062058
CREATED:20260122T225504Z
LAST-MODIFIED:20260122T225516Z
UID:10002772-1769796000-1769799600@calendarsausalito.com
SUMMARY:Sausalito Books by the Bay: Author Reading
DESCRIPTION:  \n\n\n\n\n\n\n\n\n\n\n\n\n\n\n\n\n\n\n\n\nIn Partnership with the Sausalito Public Library & Bait\n  \n\n\n\n\n\n\nFree To Attend But RSVP
URL:https://calendarsausalito.com/event/sausalito-books-by-the-bay-author-reading/
LOCATION:Sausalito Library\, 420 Litho Street\, Sausalito\, CA\, 94965\, United States
CATEGORIES:Sausalito Books by the Bay,Sausalito Library
END:VEVENT
BEGIN:VEVENT
DTSTART;TZID=America/Los_Angeles:20260128T180000
DTEND;TZID=America/Los_Angeles:20260128T190000
DTSTAMP:20260421T062058
CREATED:20260122T225114Z
LAST-MODIFIED:20260122T225114Z
UID:10002771-1769623200-1769626800@calendarsausalito.com
SUMMARY:Books by the Bay: Author Event - Dick Evans & Hannah Hindley
DESCRIPTION:Buy the Book
URL:https://calendarsausalito.com/event/books-by-the-bay-author-event-dick-evans-hannah-hindley/
LOCATION:Sausalito Books by the Bay\, 100 Bay Street\, Sausalito\, CA\, 94965\, United States
CATEGORIES:Sausalito Books by the Bay
END:VEVENT
END:VCALENDAR