BEGIN:VCALENDAR
VERSION:2.0
PRODID:-//Calendar Sausalito - ECPv6.15.20//NONSGML v1.0//EN
CALSCALE:GREGORIAN
METHOD:PUBLISH
X-WR-CALNAME:Calendar Sausalito
X-ORIGINAL-URL:https://calendarsausalito.com
X-WR-CALDESC:Events for Calendar Sausalito
REFRESH-INTERVAL;VALUE=DURATION:PT1H
X-Robots-Tag:noindex
X-PUBLISHED-TTL:PT1H
BEGIN:VTIMEZONE
TZID:America/Los_Angeles
BEGIN:DAYLIGHT
TZOFFSETFROM:-0800
TZOFFSETTO:-0700
TZNAME:PDT
DTSTART:20250309T100000
END:DAYLIGHT
BEGIN:STANDARD
TZOFFSETFROM:-0700
TZOFFSETTO:-0800
TZNAME:PST
DTSTART:20251102T090000
END:STANDARD
BEGIN:DAYLIGHT
TZOFFSETFROM:-0800
TZOFFSETTO:-0700
TZNAME:PDT
DTSTART:20260308T100000
END:DAYLIGHT
BEGIN:STANDARD
TZOFFSETFROM:-0700
TZOFFSETTO:-0800
TZNAME:PST
DTSTART:20261101T090000
END:STANDARD
BEGIN:DAYLIGHT
TZOFFSETFROM:-0800
TZOFFSETTO:-0700
TZNAME:PDT
DTSTART:20270314T100000
END:DAYLIGHT
BEGIN:STANDARD
TZOFFSETFROM:-0700
TZOFFSETTO:-0800
TZNAME:PST
DTSTART:20271107T090000
END:STANDARD
END:VTIMEZONE
BEGIN:VEVENT
DTSTART;TZID=America/Los_Angeles:20260421T180000
DTEND;TZID=America/Los_Angeles:20260421T190000
DTSTAMP:20260421T043704
CREATED:20260408T185351Z
LAST-MODIFIED:20260408T185400Z
UID:10010054-1776794400-1776798000@calendarsausalito.com
SUMMARY:Sausalito Books by the Bay: Special Event
DESCRIPTION:Special Event – Climate Appropriate Local Gardening\n\nTuesday\, April 21\, 2026\n6:00 PM  7:00 PM\nSausalito Books by the Bay (map)\n\n\n\n\n\n\n\n\n\n\n\n\n\n\n\n\n\n\nBuy the Book\n\n\n\n\n\n\nView Event →
URL:https://calendarsausalito.com/event/sausalito-books-by-the-bay-artist-reception-6/
LOCATION:Sausalito Books by the Bay\, 100 Bay Street\, Sausalito\, CA\, 94965\, United States
CATEGORIES:Sausalito Books by the Bay
END:VEVENT
BEGIN:VEVENT
DTSTART;TZID=America/Los_Angeles:20260425T100000
DTEND;TZID=America/Los_Angeles:20260425T180000
DTSTAMP:20260421T043704
CREATED:20260309T181145Z
LAST-MODIFIED:20260408T185908Z
UID:10008239-1777111200-1777140000@calendarsausalito.com
SUMMARY:Sausalito Books by the Bay: Independent Bookstore Day
DESCRIPTION:Independent Bookstore Day\n\nSaturday\, April 25\, 2026\n10:00 AM  6:00 PM\nSausalito Books by the Bay (map)\n\n\n\n\n\n\n\n\n\n\n\n\n\n\n\n\n\n\n\n\nView Event → \n\n 
URL:https://calendarsausalito.com/event/sausalito-books-by-the-bay-independent-bookstore-day/
LOCATION:Sausalito Books by the Bay\, 100 Bay Street\, Sausalito\, CA\, 94965\, United States
CATEGORIES:Sausalito Books by the Bay
END:VEVENT
BEGIN:VEVENT
DTSTART;TZID=America/Los_Angeles:20260425T160000
DTEND;TZID=America/Los_Angeles:20260425T180000
DTSTAMP:20260421T043704
CREATED:20260408T185943Z
LAST-MODIFIED:20260408T185943Z
UID:10010055-1777132800-1777140000@calendarsausalito.com
SUMMARY:Sausalito Books by the Bay: Special Event
DESCRIPTION:Special Event – Night of the Floating World\n\nSaturday\, April 25\, 2026\n4:00 PM  6:00 PM\nSausalito Books by the Bay (map)\n\n\n\n\n\n\n\nBuy the books\n\n\n\n\n\n\nView Event →
URL:https://calendarsausalito.com/event/sausalito-books-by-the-bay-special-event/
LOCATION:Sausalito Books by the Bay\, 100 Bay Street\, Sausalito\, CA\, 94965\, United States
CATEGORIES:Sausalito Books by the Bay
END:VEVENT
BEGIN:VEVENT
DTSTART;TZID=America/Los_Angeles:20260428T180000
DTEND;TZID=America/Los_Angeles:20260428T190000
DTSTAMP:20260421T043704
CREATED:20260408T190044Z
LAST-MODIFIED:20260408T190044Z
UID:10010056-1777399200-1777402800@calendarsausalito.com
SUMMARY:Sausalito Books by the Bay: Author Event
DESCRIPTION:Author Event – Robert Holmes – “Passages”\n\nTuesday\, April 28\, 2026\n6:00 PM  7:00 PM\nSausalito Books by the Bay (map)\nGoogle Calendar  ICS\n\n\n\n\n\n\n\n \n \n\n\n\n\n\n\n\n\n\nBuy the Book\n\n\n\n\n\n\nView Event →
URL:https://calendarsausalito.com/event/sausalito-books-by-the-bay-author-event-17/
LOCATION:Sausalito Books by the Bay\, 100 Bay Street\, Sausalito\, CA\, 94965\, United States
CATEGORIES:Sausalito Books by the Bay
END:VEVENT
BEGIN:VEVENT
DTSTART;TZID=America/Los_Angeles:20260429T180000
DTEND;TZID=America/Los_Angeles:20260429T190000
DTSTAMP:20260421T043704
CREATED:20260408T190129Z
LAST-MODIFIED:20260408T190129Z
UID:10010057-1777485600-1777489200@calendarsausalito.com
SUMMARY:Sausalito Books by the Bay: Author Event
DESCRIPTION:Author Event – Camille Cusumano – “The Mystique of the Last Cannoli”\n\nWednesday\, April 29\, 2026\n6:00 PM  7:00 PM\nSausalito Books by the Bay (map)\nGoogle Calendar  ICS\n\n\n\n\n\n\n\n \n \n\n\n\n\n\n\n\n\n\nBuy the book\n\n\n\n\n\n\nView Event →
URL:https://calendarsausalito.com/event/sausalito-books-by-the-bay-author-event-18/
LOCATION:Sausalito Books by the Bay\, 100 Bay Street\, Sausalito\, CA\, 94965\, United States
CATEGORIES:Sausalito Books by the Bay
END:VEVENT
BEGIN:VEVENT
DTSTART;TZID=America/Los_Angeles:20260430T180000
DTEND;TZID=America/Los_Angeles:20260430T190000
DTSTAMP:20260421T043704
CREATED:20260408T190620Z
LAST-MODIFIED:20260408T190620Z
UID:10010058-1777572000-1777575600@calendarsausalito.com
SUMMARY:Sausalito Books by the Bay: Poetry Reading
DESCRIPTION:Poetry Reading – Tobey Hiller\, Kathleen Mc Clung\, & Carol Dorf\n\nThursday\, April 30\, 2026\n6:00 PM  7:00 PM\nSausalito Books by the Bay (map)\nGoogle Calendar  ICS\n\n\n\n\n\n\n\n \n \n\n\n\n\n\n\n\n\n\nBUY the book\n\n\n\n\n\n\nView Event →
URL:https://calendarsausalito.com/event/sausalito-books-by-the-bay-poetry-reading/
LOCATION:Sausalito Books by the Bay\, 100 Bay Street\, Sausalito\, CA\, 94965\, United States
CATEGORIES:Sausalito Books by the Bay
END:VEVENT
BEGIN:VEVENT
DTSTART;TZID=America/Los_Angeles:20260507T180000
DTEND;TZID=America/Los_Angeles:20260507T190000
DTSTAMP:20260421T043704
CREATED:20260226T202046Z
LAST-MODIFIED:20260408T190725Z
UID:10008203-1778176800-1778180400@calendarsausalito.com
SUMMARY:Sausalito Books by the Bay: Author Event
DESCRIPTION:Author Event – Satsuki Ina – “The Poet And The Silk Girl”\n\nThursday\, May 7\, 2026\n6:00 PM  7:00 PM\nSausalito Books by the Bay (map)\n\n\n\n\n\n\n\n\n\n\n\n\n\n\n\n\n\n\nBuy the book\n\n\n\n\n\n\nView Event →
URL:https://calendarsausalito.com/event/sausalito-books-by-the-bay-author-event-5/
LOCATION:Sausalito Books by the Bay\, 100 Bay Street\, Sausalito\, CA\, 94965\, United States
CATEGORIES:Sausalito Books by the Bay
END:VEVENT
BEGIN:VEVENT
DTSTART;TZID=America/Los_Angeles:20260509T183000
DTEND;TZID=America/Los_Angeles:20260509T210000
DTSTAMP:20260421T043704
CREATED:20260310T175719Z
LAST-MODIFIED:20260310T175737Z
UID:10008241-1778351400-1778360400@calendarsausalito.com
SUMMARY:Sausalito Sister Cities: Fado at the Pines
DESCRIPTION:Fado at the Pines Presents: By Special Invitation Only………\n  \nAn Celebration of the Traditional String Instruments of Madeira Island\nPresented by Professor Robert Moniz \nMay 9\, 2026 – Doors Open at 6:30pm \nThe Pines\, 33 Miller Ave\, Sausalito\, CA \n\n\n\nRobert Moniz \n\n\n\n\n\n\n\n\nThe Sausalito – Cascais Sister City Council invites you to an unforgettable evening of traditional Madeira string instruments and culture\, featuring Robert Moniz sharing the history of the traditional string instruments of Madeira Island at The Pines historic mansion overlooking Richardson Bay and the City. \nFado at The Pines continues its tradition of bringing the finest in Portuguese music to Sausalito. From traditional Fado of Lisboa\, Fado of Coimbra\, Contemporary Folk Music Roots of Minho and Classical Chamber Music and now the traditional strings instruments. Each style represents a unique part of the Portuguese musical culture.
URL:https://calendarsausalito.com/event/sausalito-sister-cities-fado-at-the-pines/
LOCATION:The Pines\, 33 Miller Ave\, Sausalito\, 94965\, United States
CATEGORIES:Sausalito Books by the Bay,Sausalito Sister Cities
END:VEVENT
BEGIN:VEVENT
DTSTART;TZID=America/Los_Angeles:20260514T180000
DTEND;TZID=America/Los_Angeles:20260514T190000
DTSTAMP:20260421T043704
CREATED:20260226T202149Z
LAST-MODIFIED:20260408T190757Z
UID:10008204-1778781600-1778785200@calendarsausalito.com
SUMMARY:Sausalito Books by the Bay: Author Event
DESCRIPTION:Author Event – Josie Iselin – “The Mysterious World of Bull Kelp Forest”\n\nThursday\, May 14\, 2026\n6:00 PM  7:00 PM\nSausalito Books by the Bay (map)\n\n\n\n\n\n\n\nBuy the Book\n\n\n\n\n\n\nView Event →
URL:https://calendarsausalito.com/event/sausalito-books-by-the-bay-author-event-6/
LOCATION:Sausalito Books by the Bay\, 100 Bay Street\, Sausalito\, CA\, 94965\, United States
CATEGORIES:Sausalito Books by the Bay
END:VEVENT
BEGIN:VEVENT
DTSTART;TZID=America/Los_Angeles:20261011T030000
DTEND;TZID=America/Los_Angeles:20261011T180000
DTSTAMP:20260421T043704
CREATED:20260310T181256Z
LAST-MODIFIED:20260310T181256Z
UID:10008244-1791687600-1791741600@calendarsausalito.com
SUMMARY:Sausalito Books by the Bay: Literacy by the Bay Literary Salon
DESCRIPTION:Save the date:  \nOctober 11 – 3-6 PM – Literacy by the Bay Literary Salon
URL:https://calendarsausalito.com/event/sausalito-books-by-the-bay-literacy-by-the-bay-literary-salon/
LOCATION:Sausalito Books by the Bay\, 100 Bay Street\, Sausalito\, CA\, 94965\, United States
CATEGORIES:Sausalito Books by the Bay
END:VEVENT
BEGIN:VEVENT
DTSTART;TZID=America/Los_Angeles:20261205T110000
DTEND;TZID=America/Los_Angeles:20261205T130000
DTSTAMP:20260421T043704
CREATED:20260310T181352Z
LAST-MODIFIED:20260310T181352Z
UID:10008245-1796468400-1796475600@calendarsausalito.com
SUMMARY:Sausalito Books by the Bay: Holiday Party
DESCRIPTION:Save the date:  \nDecember 5th – 11 AM — Annual Kids Xmas Party with Performing Stars of Marin & Santa Claus
URL:https://calendarsausalito.com/event/sausalito-books-by-the-bay-holiday-party/
LOCATION:Sausalito Books by the Bay\, 100 Bay Street\, Sausalito\, CA\, 94965\, United States
CATEGORIES:Sausalito Books by the Bay
END:VEVENT
END:VCALENDAR