BEGIN:VCALENDAR
VERSION:2.0
PRODID:-//Calendar Sausalito - ECPv6.15.20//NONSGML v1.0//EN
CALSCALE:GREGORIAN
METHOD:PUBLISH
X-WR-CALNAME:Calendar Sausalito
X-ORIGINAL-URL:https://calendarsausalito.com
X-WR-CALDESC:Events for Calendar Sausalito
REFRESH-INTERVAL;VALUE=DURATION:PT1H
X-Robots-Tag:noindex
X-PUBLISHED-TTL:PT1H
BEGIN:VTIMEZONE
TZID:America/Los_Angeles
BEGIN:DAYLIGHT
TZOFFSETFROM:-0800
TZOFFSETTO:-0700
TZNAME:PDT
DTSTART:20250309T100000
END:DAYLIGHT
BEGIN:STANDARD
TZOFFSETFROM:-0700
TZOFFSETTO:-0800
TZNAME:PST
DTSTART:20251102T090000
END:STANDARD
BEGIN:DAYLIGHT
TZOFFSETFROM:-0800
TZOFFSETTO:-0700
TZNAME:PDT
DTSTART:20260308T100000
END:DAYLIGHT
BEGIN:STANDARD
TZOFFSETFROM:-0700
TZOFFSETTO:-0800
TZNAME:PST
DTSTART:20261101T090000
END:STANDARD
BEGIN:DAYLIGHT
TZOFFSETFROM:-0800
TZOFFSETTO:-0700
TZNAME:PDT
DTSTART:20270314T100000
END:DAYLIGHT
BEGIN:STANDARD
TZOFFSETFROM:-0700
TZOFFSETTO:-0800
TZNAME:PST
DTSTART:20271107T090000
END:STANDARD
END:VTIMEZONE
BEGIN:VEVENT
DTSTART;TZID=America/Los_Angeles:20260802T090000
DTEND;TZID=America/Los_Angeles:20260802T140000
DTSTAMP:20260419T234009
CREATED:20260107T040649Z
LAST-MODIFIED:20260107T041629Z
UID:10001944-1785661200-1785679200@calendarsausalito.com
SUMMARY:Sausalito Farmers Market
DESCRIPTION:Sausalito Farmers Market\nThe Dunphy parking lot will be at least partially closed to vehicles to accommodate this event 8am-3pm. \nThe Sausalito Recreation Department is excited to be partnered with a seasoned group of local market vendors\, who have come together to bring this community-oriented event to Sausalito. This market will embrace and reflect Sausalito’s commitment to sustainability and supporting local businesses. Shop for fresh produce\, artisanal products\, and delicious treats then enjoy your goodies and view of the bay in the park. \n\nTips for attendees: \n\nParking in the area is limited\, so please walk\, bike\, or carpool!\nBring your reusable bags\, backpacks\, or wagon to haul your purchases home\n\n\n\nFollow the Sausalito Farmers Market on Instagram! \nQuestions\n\nAny questions about the farmers’ market may be directed to recreation@sausalito.gov or (415) 289-4152.\nThe Parks and Recreation Department office is located at Sausalito City Hall\, 420 Litho Street\, Sausalito\, CA\, 94965\nStay up to date on Parks & Rec events on Instagram and Facebook @sausalitoparksandrecreation\n\nParking\nStreet Parking \nCity Parking Lots
URL:https://calendarsausalito.com/event/sausalito-farmers-market/2026-08-02/
LOCATION:Dunphy Park parking lot\, 1600 Bridgeway\, Sausalito\, CA\, 94965\, United States
CATEGORIES:Sausalito Farmers Market
END:VEVENT
BEGIN:VEVENT
DTSTART;TZID=America/Los_Angeles:20260809T090000
DTEND;TZID=America/Los_Angeles:20260809T140000
DTSTAMP:20260419T234009
CREATED:20260107T040649Z
LAST-MODIFIED:20260107T041629Z
UID:10001945-1786266000-1786284000@calendarsausalito.com
SUMMARY:Sausalito Farmers Market
DESCRIPTION:Sausalito Farmers Market\nThe Dunphy parking lot will be at least partially closed to vehicles to accommodate this event 8am-3pm. \nThe Sausalito Recreation Department is excited to be partnered with a seasoned group of local market vendors\, who have come together to bring this community-oriented event to Sausalito. This market will embrace and reflect Sausalito’s commitment to sustainability and supporting local businesses. Shop for fresh produce\, artisanal products\, and delicious treats then enjoy your goodies and view of the bay in the park. \n\nTips for attendees: \n\nParking in the area is limited\, so please walk\, bike\, or carpool!\nBring your reusable bags\, backpacks\, or wagon to haul your purchases home\n\n\n\nFollow the Sausalito Farmers Market on Instagram! \nQuestions\n\nAny questions about the farmers’ market may be directed to recreation@sausalito.gov or (415) 289-4152.\nThe Parks and Recreation Department office is located at Sausalito City Hall\, 420 Litho Street\, Sausalito\, CA\, 94965\nStay up to date on Parks & Rec events on Instagram and Facebook @sausalitoparksandrecreation\n\nParking\nStreet Parking \nCity Parking Lots
URL:https://calendarsausalito.com/event/sausalito-farmers-market/2026-08-09/
LOCATION:Dunphy Park parking lot\, 1600 Bridgeway\, Sausalito\, CA\, 94965\, United States
CATEGORIES:Sausalito Farmers Market
END:VEVENT
BEGIN:VEVENT
DTSTART;TZID=America/Los_Angeles:20260816T090000
DTEND;TZID=America/Los_Angeles:20260816T140000
DTSTAMP:20260419T234009
CREATED:20260107T040649Z
LAST-MODIFIED:20260107T041629Z
UID:10001946-1786870800-1786888800@calendarsausalito.com
SUMMARY:Sausalito Farmers Market
DESCRIPTION:Sausalito Farmers Market\nThe Dunphy parking lot will be at least partially closed to vehicles to accommodate this event 8am-3pm. \nThe Sausalito Recreation Department is excited to be partnered with a seasoned group of local market vendors\, who have come together to bring this community-oriented event to Sausalito. This market will embrace and reflect Sausalito’s commitment to sustainability and supporting local businesses. Shop for fresh produce\, artisanal products\, and delicious treats then enjoy your goodies and view of the bay in the park. \n\nTips for attendees: \n\nParking in the area is limited\, so please walk\, bike\, or carpool!\nBring your reusable bags\, backpacks\, or wagon to haul your purchases home\n\n\n\nFollow the Sausalito Farmers Market on Instagram! \nQuestions\n\nAny questions about the farmers’ market may be directed to recreation@sausalito.gov or (415) 289-4152.\nThe Parks and Recreation Department office is located at Sausalito City Hall\, 420 Litho Street\, Sausalito\, CA\, 94965\nStay up to date on Parks & Rec events on Instagram and Facebook @sausalitoparksandrecreation\n\nParking\nStreet Parking \nCity Parking Lots
URL:https://calendarsausalito.com/event/sausalito-farmers-market/2026-08-16/
LOCATION:Dunphy Park parking lot\, 1600 Bridgeway\, Sausalito\, CA\, 94965\, United States
CATEGORIES:Sausalito Farmers Market
END:VEVENT
BEGIN:VEVENT
DTSTART;TZID=America/Los_Angeles:20260823T090000
DTEND;TZID=America/Los_Angeles:20260823T140000
DTSTAMP:20260419T234009
CREATED:20260107T040649Z
LAST-MODIFIED:20260107T041629Z
UID:10001947-1787475600-1787493600@calendarsausalito.com
SUMMARY:Sausalito Farmers Market
DESCRIPTION:Sausalito Farmers Market\nThe Dunphy parking lot will be at least partially closed to vehicles to accommodate this event 8am-3pm. \nThe Sausalito Recreation Department is excited to be partnered with a seasoned group of local market vendors\, who have come together to bring this community-oriented event to Sausalito. This market will embrace and reflect Sausalito’s commitment to sustainability and supporting local businesses. Shop for fresh produce\, artisanal products\, and delicious treats then enjoy your goodies and view of the bay in the park. \n\nTips for attendees: \n\nParking in the area is limited\, so please walk\, bike\, or carpool!\nBring your reusable bags\, backpacks\, or wagon to haul your purchases home\n\n\n\nFollow the Sausalito Farmers Market on Instagram! \nQuestions\n\nAny questions about the farmers’ market may be directed to recreation@sausalito.gov or (415) 289-4152.\nThe Parks and Recreation Department office is located at Sausalito City Hall\, 420 Litho Street\, Sausalito\, CA\, 94965\nStay up to date on Parks & Rec events on Instagram and Facebook @sausalitoparksandrecreation\n\nParking\nStreet Parking \nCity Parking Lots
URL:https://calendarsausalito.com/event/sausalito-farmers-market/2026-08-23/
LOCATION:Dunphy Park parking lot\, 1600 Bridgeway\, Sausalito\, CA\, 94965\, United States
CATEGORIES:Sausalito Farmers Market
END:VEVENT
BEGIN:VEVENT
DTSTART;TZID=America/Los_Angeles:20260830T090000
DTEND;TZID=America/Los_Angeles:20260830T140000
DTSTAMP:20260419T234009
CREATED:20260107T040649Z
LAST-MODIFIED:20260107T041629Z
UID:10001948-1788080400-1788098400@calendarsausalito.com
SUMMARY:Sausalito Farmers Market
DESCRIPTION:Sausalito Farmers Market\nThe Dunphy parking lot will be at least partially closed to vehicles to accommodate this event 8am-3pm. \nThe Sausalito Recreation Department is excited to be partnered with a seasoned group of local market vendors\, who have come together to bring this community-oriented event to Sausalito. This market will embrace and reflect Sausalito’s commitment to sustainability and supporting local businesses. Shop for fresh produce\, artisanal products\, and delicious treats then enjoy your goodies and view of the bay in the park. \n\nTips for attendees: \n\nParking in the area is limited\, so please walk\, bike\, or carpool!\nBring your reusable bags\, backpacks\, or wagon to haul your purchases home\n\n\n\nFollow the Sausalito Farmers Market on Instagram! \nQuestions\n\nAny questions about the farmers’ market may be directed to recreation@sausalito.gov or (415) 289-4152.\nThe Parks and Recreation Department office is located at Sausalito City Hall\, 420 Litho Street\, Sausalito\, CA\, 94965\nStay up to date on Parks & Rec events on Instagram and Facebook @sausalitoparksandrecreation\n\nParking\nStreet Parking \nCity Parking Lots
URL:https://calendarsausalito.com/event/sausalito-farmers-market/2026-08-30/
LOCATION:Dunphy Park parking lot\, 1600 Bridgeway\, Sausalito\, CA\, 94965\, United States
CATEGORIES:Sausalito Farmers Market
END:VEVENT
END:VCALENDAR