BEGIN:VCALENDAR
VERSION:2.0
PRODID:-//Calendar Sausalito - ECPv6.15.20//NONSGML v1.0//EN
CALSCALE:GREGORIAN
METHOD:PUBLISH
X-WR-CALNAME:Calendar Sausalito
X-ORIGINAL-URL:https://calendarsausalito.com
X-WR-CALDESC:Events for Calendar Sausalito
REFRESH-INTERVAL;VALUE=DURATION:PT1H
X-Robots-Tag:noindex
X-PUBLISHED-TTL:PT1H
BEGIN:VTIMEZONE
TZID:America/Los_Angeles
BEGIN:DAYLIGHT
TZOFFSETFROM:-0800
TZOFFSETTO:-0700
TZNAME:PDT
DTSTART:20250309T100000
END:DAYLIGHT
BEGIN:STANDARD
TZOFFSETFROM:-0700
TZOFFSETTO:-0800
TZNAME:PST
DTSTART:20251102T090000
END:STANDARD
BEGIN:DAYLIGHT
TZOFFSETFROM:-0800
TZOFFSETTO:-0700
TZNAME:PDT
DTSTART:20260308T100000
END:DAYLIGHT
BEGIN:STANDARD
TZOFFSETFROM:-0700
TZOFFSETTO:-0800
TZNAME:PST
DTSTART:20261101T090000
END:STANDARD
BEGIN:DAYLIGHT
TZOFFSETFROM:-0800
TZOFFSETTO:-0700
TZNAME:PDT
DTSTART:20270314T100000
END:DAYLIGHT
BEGIN:STANDARD
TZOFFSETFROM:-0700
TZOFFSETTO:-0800
TZNAME:PST
DTSTART:20271107T090000
END:STANDARD
END:VTIMEZONE
BEGIN:VEVENT
DTSTART;TZID=America/Los_Angeles:20260314T103000
DTEND;TZID=America/Los_Angeles:20260314T120000
DTSTAMP:20260419T154752
CREATED:20260131T182059Z
LAST-MODIFIED:20260131T182437Z
UID:10001173-1773484200-1773489600@calendarsausalito.com
SUMMARY:Sausalito Historical Walking Tour
DESCRIPTION:Buy Tickets
URL:https://calendarsausalito.com/event/sausalito-historical-walking-tour-2/2026-03-14/
LOCATION:Ice House Museum\, 780 Bridgeway\, Sausalito\, CA\, 94965\, United States
CATEGORIES:Sausalito Historical Society
END:VEVENT
BEGIN:VEVENT
DTSTART;TZID=America/Los_Angeles:20260328T103000
DTEND;TZID=America/Los_Angeles:20260328T120000
DTSTAMP:20260419T154752
CREATED:20260131T182059Z
LAST-MODIFIED:20260131T182437Z
UID:10001175-1774693800-1774699200@calendarsausalito.com
SUMMARY:Sausalito Historical Walking Tour
DESCRIPTION:Buy Tickets
URL:https://calendarsausalito.com/event/sausalito-historical-walking-tour-2/2026-03-28/
LOCATION:Ice House Museum\, 780 Bridgeway\, Sausalito\, CA\, 94965\, United States
CATEGORIES:Sausalito Historical Society
END:VEVENT
END:VCALENDAR