BEGIN:VCALENDAR
VERSION:2.0
PRODID:-//Calendar Sausalito - ECPv6.15.20//NONSGML v1.0//EN
CALSCALE:GREGORIAN
METHOD:PUBLISH
X-ORIGINAL-URL:https://calendarsausalito.com
X-WR-CALDESC:Events for Calendar Sausalito
REFRESH-INTERVAL;VALUE=DURATION:PT1H
X-Robots-Tag:noindex
X-PUBLISHED-TTL:PT1H
BEGIN:VTIMEZONE
TZID:America/Los_Angeles
BEGIN:DAYLIGHT
TZOFFSETFROM:-0800
TZOFFSETTO:-0700
TZNAME:PDT
DTSTART:20250309T100000
END:DAYLIGHT
BEGIN:STANDARD
TZOFFSETFROM:-0700
TZOFFSETTO:-0800
TZNAME:PST
DTSTART:20251102T090000
END:STANDARD
BEGIN:DAYLIGHT
TZOFFSETFROM:-0800
TZOFFSETTO:-0700
TZNAME:PDT
DTSTART:20260308T100000
END:DAYLIGHT
BEGIN:STANDARD
TZOFFSETFROM:-0700
TZOFFSETTO:-0800
TZNAME:PST
DTSTART:20261101T090000
END:STANDARD
BEGIN:DAYLIGHT
TZOFFSETFROM:-0800
TZOFFSETTO:-0700
TZNAME:PDT
DTSTART:20270314T100000
END:DAYLIGHT
BEGIN:STANDARD
TZOFFSETFROM:-0700
TZOFFSETTO:-0800
TZNAME:PST
DTSTART:20271107T090000
END:STANDARD
END:VTIMEZONE
BEGIN:VEVENT
DTSTART;TZID=America/Los_Angeles:20260601T100000
DTEND;TZID=America/Los_Angeles:20260601T130000
DTSTAMP:20260419T173336
CREATED:20260408T193336Z
LAST-MODIFIED:20260408T193346Z
UID:10010075-1780308000-1780318800@calendarsausalito.com
SUMMARY:Sausalito Historical Society: New Exhibit Opening: “Authors”
DESCRIPTION:New Exhibit Opening: “Authors”\n \n“Authors” is a new exhibit by the Sausalito Historical Society highlighting the published works of  40 late Sausalito writers. \nThe collection includes poets\, novelists\, playwrights\, story tellers\, maritime adventurers\, academics\, biographers\, screenwriters\, cartoonists\, pundits – and in some cases – characters in their own right. \nOn view are author biographies\, quintessential quotes\, and copies of their publications. \nThe exhibit can be viewed on the top floor of City Hall in the Historical Society offices during these hours: \nMonday and Wednesday\n10 a.m. to 1 p.m. \n2nd and 4th Saturday of the Month\n12 p.m. to 3p.m. \nAn Opening Reception will be held on Friday April 10th at 6 p.m. on the top floor of City Hall in the Historical Society exhibit room. \nMany of the publications are available from the MARINet  county-wide lending library system\, https://marinet.bibliocommons.com/ \nWhile many of these works are out of print\, a few can be purchased from the Sausalito Historical Society and some are available online.
URL:https://calendarsausalito.com/event/sausalito-historical-society-new-exhibit-opening-authors-2/2026-06-01/
LOCATION:Historical Society Exhibit Room\, City Hall\, 420 Litho Street\, Sausalito\, CA\, 94965\, United States
CATEGORIES:Sausalito Historical Society
END:VEVENT
BEGIN:VEVENT
DTSTART;TZID=America/Los_Angeles:20260603T100000
DTEND;TZID=America/Los_Angeles:20260603T130000
DTSTAMP:20260419T173336
CREATED:20260408T193336Z
LAST-MODIFIED:20260408T193346Z
UID:10010076-1780480800-1780491600@calendarsausalito.com
SUMMARY:Sausalito Historical Society: New Exhibit Opening: “Authors”
DESCRIPTION:New Exhibit Opening: “Authors”\n \n“Authors” is a new exhibit by the Sausalito Historical Society highlighting the published works of  40 late Sausalito writers. \nThe collection includes poets\, novelists\, playwrights\, story tellers\, maritime adventurers\, academics\, biographers\, screenwriters\, cartoonists\, pundits – and in some cases – characters in their own right. \nOn view are author biographies\, quintessential quotes\, and copies of their publications. \nThe exhibit can be viewed on the top floor of City Hall in the Historical Society offices during these hours: \nMonday and Wednesday\n10 a.m. to 1 p.m. \n2nd and 4th Saturday of the Month\n12 p.m. to 3p.m. \nAn Opening Reception will be held on Friday April 10th at 6 p.m. on the top floor of City Hall in the Historical Society exhibit room. \nMany of the publications are available from the MARINet  county-wide lending library system\, https://marinet.bibliocommons.com/ \nWhile many of these works are out of print\, a few can be purchased from the Sausalito Historical Society and some are available online.
URL:https://calendarsausalito.com/event/sausalito-historical-society-new-exhibit-opening-authors-2/2026-06-03/
LOCATION:Historical Society Exhibit Room\, City Hall\, 420 Litho Street\, Sausalito\, CA\, 94965\, United States
CATEGORIES:Sausalito Historical Society
END:VEVENT
BEGIN:VEVENT
DTSTART;TZID=America/Los_Angeles:20260606T103000
DTEND;TZID=America/Los_Angeles:20260606T120000
DTSTAMP:20260419T173336
CREATED:20260131T182059Z
LAST-MODIFIED:20260131T182437Z
UID:10001185-1780741800-1780747200@calendarsausalito.com
SUMMARY:Sausalito Historical Walking Tour
DESCRIPTION:Buy Tickets
URL:https://calendarsausalito.com/event/sausalito-historical-walking-tour-2/2026-06-06/
LOCATION:Ice House Museum\, 780 Bridgeway\, Sausalito\, CA\, 94965\, United States
CATEGORIES:Sausalito Historical Society
END:VEVENT
BEGIN:VEVENT
DTSTART;TZID=America/Los_Angeles:20260608T100000
DTEND;TZID=America/Los_Angeles:20260608T130000
DTSTAMP:20260419T173336
CREATED:20260408T193336Z
LAST-MODIFIED:20260408T193346Z
UID:10010077-1780912800-1780923600@calendarsausalito.com
SUMMARY:Sausalito Historical Society: New Exhibit Opening: “Authors”
DESCRIPTION:New Exhibit Opening: “Authors”\n \n“Authors” is a new exhibit by the Sausalito Historical Society highlighting the published works of  40 late Sausalito writers. \nThe collection includes poets\, novelists\, playwrights\, story tellers\, maritime adventurers\, academics\, biographers\, screenwriters\, cartoonists\, pundits – and in some cases – characters in their own right. \nOn view are author biographies\, quintessential quotes\, and copies of their publications. \nThe exhibit can be viewed on the top floor of City Hall in the Historical Society offices during these hours: \nMonday and Wednesday\n10 a.m. to 1 p.m. \n2nd and 4th Saturday of the Month\n12 p.m. to 3p.m. \nAn Opening Reception will be held on Friday April 10th at 6 p.m. on the top floor of City Hall in the Historical Society exhibit room. \nMany of the publications are available from the MARINet  county-wide lending library system\, https://marinet.bibliocommons.com/ \nWhile many of these works are out of print\, a few can be purchased from the Sausalito Historical Society and some are available online.
URL:https://calendarsausalito.com/event/sausalito-historical-society-new-exhibit-opening-authors-2/2026-06-08/
LOCATION:Historical Society Exhibit Room\, City Hall\, 420 Litho Street\, Sausalito\, CA\, 94965\, United States
CATEGORIES:Sausalito Historical Society
END:VEVENT
BEGIN:VEVENT
DTSTART;TZID=America/Los_Angeles:20260610T100000
DTEND;TZID=America/Los_Angeles:20260610T130000
DTSTAMP:20260419T173336
CREATED:20260408T193336Z
LAST-MODIFIED:20260408T193346Z
UID:10010078-1781085600-1781096400@calendarsausalito.com
SUMMARY:Sausalito Historical Society: New Exhibit Opening: “Authors”
DESCRIPTION:New Exhibit Opening: “Authors”\n \n“Authors” is a new exhibit by the Sausalito Historical Society highlighting the published works of  40 late Sausalito writers. \nThe collection includes poets\, novelists\, playwrights\, story tellers\, maritime adventurers\, academics\, biographers\, screenwriters\, cartoonists\, pundits – and in some cases – characters in their own right. \nOn view are author biographies\, quintessential quotes\, and copies of their publications. \nThe exhibit can be viewed on the top floor of City Hall in the Historical Society offices during these hours: \nMonday and Wednesday\n10 a.m. to 1 p.m. \n2nd and 4th Saturday of the Month\n12 p.m. to 3p.m. \nAn Opening Reception will be held on Friday April 10th at 6 p.m. on the top floor of City Hall in the Historical Society exhibit room. \nMany of the publications are available from the MARINet  county-wide lending library system\, https://marinet.bibliocommons.com/ \nWhile many of these works are out of print\, a few can be purchased from the Sausalito Historical Society and some are available online.
URL:https://calendarsausalito.com/event/sausalito-historical-society-new-exhibit-opening-authors-2/2026-06-10/
LOCATION:Historical Society Exhibit Room\, City Hall\, 420 Litho Street\, Sausalito\, CA\, 94965\, United States
CATEGORIES:Sausalito Historical Society
END:VEVENT
BEGIN:VEVENT
DTSTART;TZID=America/Los_Angeles:20260613T120000
DTEND;TZID=America/Los_Angeles:20260613T150000
DTSTAMP:20260419T173336
CREATED:20260408T193458Z
LAST-MODIFIED:20260408T193701Z
UID:10010402-1781352000-1781362800@calendarsausalito.com
SUMMARY:Sausalito Historical Society: New Exhibit Opening: “Authors”
DESCRIPTION:New Exhibit Opening: “Authors”\n \n“Authors” is a new exhibit by the Sausalito Historical Society highlighting the published works of  40 late Sausalito writers. \nThe collection includes poets\, novelists\, playwrights\, story tellers\, maritime adventurers\, academics\, biographers\, screenwriters\, cartoonists\, pundits – and in some cases – characters in their own right. \nOn view are author biographies\, quintessential quotes\, and copies of their publications. \nThe exhibit can be viewed on the top floor of City Hall in the Historical Society offices during these hours: \nMonday and Wednesday\n10 a.m. to 1 p.m. \n2nd and 4th Saturday of the Month\n12 p.m. to 3p.m. \nAn Opening Reception will be held on Friday April 10th at 6 p.m. on the top floor of City Hall in the Historical Society exhibit room. \nMany of the publications are available from the MARINet  county-wide lending library system\, https://marinet.bibliocommons.com/ \nWhile many of these works are out of print\, a few can be purchased from the Sausalito Historical Society and some are available online.
URL:https://calendarsausalito.com/event/sausalito-historical-society-new-exhibit-opening-authors-3/2026-06-13/
LOCATION:Historical Society Exhibit Room\, City Hall\, 420 Litho Street\, Sausalito\, CA\, 94965\, United States
CATEGORIES:Sausalito Historical Society
END:VEVENT
BEGIN:VEVENT
DTSTART;TZID=America/Los_Angeles:20260615T100000
DTEND;TZID=America/Los_Angeles:20260615T130000
DTSTAMP:20260419T173336
CREATED:20260408T193336Z
LAST-MODIFIED:20260408T193346Z
UID:10010079-1781517600-1781528400@calendarsausalito.com
SUMMARY:Sausalito Historical Society: New Exhibit Opening: “Authors”
DESCRIPTION:New Exhibit Opening: “Authors”\n \n“Authors” is a new exhibit by the Sausalito Historical Society highlighting the published works of  40 late Sausalito writers. \nThe collection includes poets\, novelists\, playwrights\, story tellers\, maritime adventurers\, academics\, biographers\, screenwriters\, cartoonists\, pundits – and in some cases – characters in their own right. \nOn view are author biographies\, quintessential quotes\, and copies of their publications. \nThe exhibit can be viewed on the top floor of City Hall in the Historical Society offices during these hours: \nMonday and Wednesday\n10 a.m. to 1 p.m. \n2nd and 4th Saturday of the Month\n12 p.m. to 3p.m. \nAn Opening Reception will be held on Friday April 10th at 6 p.m. on the top floor of City Hall in the Historical Society exhibit room. \nMany of the publications are available from the MARINet  county-wide lending library system\, https://marinet.bibliocommons.com/ \nWhile many of these works are out of print\, a few can be purchased from the Sausalito Historical Society and some are available online.
URL:https://calendarsausalito.com/event/sausalito-historical-society-new-exhibit-opening-authors-2/2026-06-15/
LOCATION:Historical Society Exhibit Room\, City Hall\, 420 Litho Street\, Sausalito\, CA\, 94965\, United States
CATEGORIES:Sausalito Historical Society
END:VEVENT
BEGIN:VEVENT
DTSTART;TZID=America/Los_Angeles:20260617T100000
DTEND;TZID=America/Los_Angeles:20260617T130000
DTSTAMP:20260419T173336
CREATED:20260408T193336Z
LAST-MODIFIED:20260408T193346Z
UID:10010080-1781690400-1781701200@calendarsausalito.com
SUMMARY:Sausalito Historical Society: New Exhibit Opening: “Authors”
DESCRIPTION:New Exhibit Opening: “Authors”\n \n“Authors” is a new exhibit by the Sausalito Historical Society highlighting the published works of  40 late Sausalito writers. \nThe collection includes poets\, novelists\, playwrights\, story tellers\, maritime adventurers\, academics\, biographers\, screenwriters\, cartoonists\, pundits – and in some cases – characters in their own right. \nOn view are author biographies\, quintessential quotes\, and copies of their publications. \nThe exhibit can be viewed on the top floor of City Hall in the Historical Society offices during these hours: \nMonday and Wednesday\n10 a.m. to 1 p.m. \n2nd and 4th Saturday of the Month\n12 p.m. to 3p.m. \nAn Opening Reception will be held on Friday April 10th at 6 p.m. on the top floor of City Hall in the Historical Society exhibit room. \nMany of the publications are available from the MARINet  county-wide lending library system\, https://marinet.bibliocommons.com/ \nWhile many of these works are out of print\, a few can be purchased from the Sausalito Historical Society and some are available online.
URL:https://calendarsausalito.com/event/sausalito-historical-society-new-exhibit-opening-authors-2/2026-06-17/
LOCATION:Historical Society Exhibit Room\, City Hall\, 420 Litho Street\, Sausalito\, CA\, 94965\, United States
CATEGORIES:Sausalito Historical Society
END:VEVENT
BEGIN:VEVENT
DTSTART;TZID=America/Los_Angeles:20260620T103000
DTEND;TZID=America/Los_Angeles:20260620T120000
DTSTAMP:20260419T173336
CREATED:20260131T182059Z
LAST-MODIFIED:20260131T182437Z
UID:10001187-1781951400-1781956800@calendarsausalito.com
SUMMARY:Sausalito Historical Walking Tour
DESCRIPTION:Buy Tickets
URL:https://calendarsausalito.com/event/sausalito-historical-walking-tour-2/2026-06-20/
LOCATION:Ice House Museum\, 780 Bridgeway\, Sausalito\, CA\, 94965\, United States
CATEGORIES:Sausalito Historical Society
END:VEVENT
BEGIN:VEVENT
DTSTART;TZID=America/Los_Angeles:20260622T100000
DTEND;TZID=America/Los_Angeles:20260622T130000
DTSTAMP:20260419T173336
CREATED:20260408T193336Z
LAST-MODIFIED:20260408T193346Z
UID:10010081-1782122400-1782133200@calendarsausalito.com
SUMMARY:Sausalito Historical Society: New Exhibit Opening: “Authors”
DESCRIPTION:New Exhibit Opening: “Authors”\n \n“Authors” is a new exhibit by the Sausalito Historical Society highlighting the published works of  40 late Sausalito writers. \nThe collection includes poets\, novelists\, playwrights\, story tellers\, maritime adventurers\, academics\, biographers\, screenwriters\, cartoonists\, pundits – and in some cases – characters in their own right. \nOn view are author biographies\, quintessential quotes\, and copies of their publications. \nThe exhibit can be viewed on the top floor of City Hall in the Historical Society offices during these hours: \nMonday and Wednesday\n10 a.m. to 1 p.m. \n2nd and 4th Saturday of the Month\n12 p.m. to 3p.m. \nAn Opening Reception will be held on Friday April 10th at 6 p.m. on the top floor of City Hall in the Historical Society exhibit room. \nMany of the publications are available from the MARINet  county-wide lending library system\, https://marinet.bibliocommons.com/ \nWhile many of these works are out of print\, a few can be purchased from the Sausalito Historical Society and some are available online.
URL:https://calendarsausalito.com/event/sausalito-historical-society-new-exhibit-opening-authors-2/2026-06-22/
LOCATION:Historical Society Exhibit Room\, City Hall\, 420 Litho Street\, Sausalito\, CA\, 94965\, United States
CATEGORIES:Sausalito Historical Society
END:VEVENT
BEGIN:VEVENT
DTSTART;TZID=America/Los_Angeles:20260624T100000
DTEND;TZID=America/Los_Angeles:20260624T130000
DTSTAMP:20260419T173336
CREATED:20260408T193336Z
LAST-MODIFIED:20260408T193346Z
UID:10010082-1782295200-1782306000@calendarsausalito.com
SUMMARY:Sausalito Historical Society: New Exhibit Opening: “Authors”
DESCRIPTION:New Exhibit Opening: “Authors”\n \n“Authors” is a new exhibit by the Sausalito Historical Society highlighting the published works of  40 late Sausalito writers. \nThe collection includes poets\, novelists\, playwrights\, story tellers\, maritime adventurers\, academics\, biographers\, screenwriters\, cartoonists\, pundits – and in some cases – characters in their own right. \nOn view are author biographies\, quintessential quotes\, and copies of their publications. \nThe exhibit can be viewed on the top floor of City Hall in the Historical Society offices during these hours: \nMonday and Wednesday\n10 a.m. to 1 p.m. \n2nd and 4th Saturday of the Month\n12 p.m. to 3p.m. \nAn Opening Reception will be held on Friday April 10th at 6 p.m. on the top floor of City Hall in the Historical Society exhibit room. \nMany of the publications are available from the MARINet  county-wide lending library system\, https://marinet.bibliocommons.com/ \nWhile many of these works are out of print\, a few can be purchased from the Sausalito Historical Society and some are available online.
URL:https://calendarsausalito.com/event/sausalito-historical-society-new-exhibit-opening-authors-2/2026-06-24/
LOCATION:Historical Society Exhibit Room\, City Hall\, 420 Litho Street\, Sausalito\, CA\, 94965\, United States
CATEGORIES:Sausalito Historical Society
END:VEVENT
BEGIN:VEVENT
DTSTART;TZID=America/Los_Angeles:20260627T120000
DTEND;TZID=America/Los_Angeles:20260627T150000
DTSTAMP:20260419T173336
CREATED:20260408T193730Z
LAST-MODIFIED:20260408T193730Z
UID:10010423-1782561600-1782572400@calendarsausalito.com
SUMMARY:Sausalito Historical Society: New Exhibit Opening: “Authors”
DESCRIPTION:New Exhibit Opening: “Authors”\n \n“Authors” is a new exhibit by the Sausalito Historical Society highlighting the published works of  40 late Sausalito writers. \nThe collection includes poets\, novelists\, playwrights\, story tellers\, maritime adventurers\, academics\, biographers\, screenwriters\, cartoonists\, pundits – and in some cases – characters in their own right. \nOn view are author biographies\, quintessential quotes\, and copies of their publications. \nThe exhibit can be viewed on the top floor of City Hall in the Historical Society offices during these hours: \nMonday and Wednesday\n10 a.m. to 1 p.m. \n2nd and 4th Saturday of the Month\n12 p.m. to 3p.m. \nAn Opening Reception will be held on Friday April 10th at 6 p.m. on the top floor of City Hall in the Historical Society exhibit room. \nMany of the publications are available from the MARINet  county-wide lending library system\, https://marinet.bibliocommons.com/ \nWhile many of these works are out of print\, a few can be purchased from the Sausalito Historical Society and some are available online.
URL:https://calendarsausalito.com/event/sausalito-historical-society-new-exhibit-opening-authors-4/2026-06-27/
LOCATION:Historical Society Exhibit Room\, City Hall\, 420 Litho Street\, Sausalito\, CA\, 94965\, United States
CATEGORIES:Sausalito Historical Society
END:VEVENT
BEGIN:VEVENT
DTSTART;TZID=America/Los_Angeles:20260629T100000
DTEND;TZID=America/Los_Angeles:20260629T130000
DTSTAMP:20260419T173336
CREATED:20260408T193336Z
LAST-MODIFIED:20260408T193346Z
UID:10010083-1782727200-1782738000@calendarsausalito.com
SUMMARY:Sausalito Historical Society: New Exhibit Opening: “Authors”
DESCRIPTION:New Exhibit Opening: “Authors”\n \n“Authors” is a new exhibit by the Sausalito Historical Society highlighting the published works of  40 late Sausalito writers. \nThe collection includes poets\, novelists\, playwrights\, story tellers\, maritime adventurers\, academics\, biographers\, screenwriters\, cartoonists\, pundits – and in some cases – characters in their own right. \nOn view are author biographies\, quintessential quotes\, and copies of their publications. \nThe exhibit can be viewed on the top floor of City Hall in the Historical Society offices during these hours: \nMonday and Wednesday\n10 a.m. to 1 p.m. \n2nd and 4th Saturday of the Month\n12 p.m. to 3p.m. \nAn Opening Reception will be held on Friday April 10th at 6 p.m. on the top floor of City Hall in the Historical Society exhibit room. \nMany of the publications are available from the MARINet  county-wide lending library system\, https://marinet.bibliocommons.com/ \nWhile many of these works are out of print\, a few can be purchased from the Sausalito Historical Society and some are available online.
URL:https://calendarsausalito.com/event/sausalito-historical-society-new-exhibit-opening-authors-2/2026-06-29/
LOCATION:Historical Society Exhibit Room\, City Hall\, 420 Litho Street\, Sausalito\, CA\, 94965\, United States
CATEGORIES:Sausalito Historical Society
END:VEVENT
END:VCALENDAR