BEGIN:VCALENDAR
VERSION:2.0
PRODID:-//Calendar Sausalito - ECPv6.15.20//NONSGML v1.0//EN
CALSCALE:GREGORIAN
METHOD:PUBLISH
X-WR-CALNAME:Calendar Sausalito
X-ORIGINAL-URL:https://calendarsausalito.com
X-WR-CALDESC:Events for Calendar Sausalito
REFRESH-INTERVAL;VALUE=DURATION:PT1H
X-Robots-Tag:noindex
X-PUBLISHED-TTL:PT1H
BEGIN:VTIMEZONE
TZID:America/Los_Angeles
BEGIN:DAYLIGHT
TZOFFSETFROM:-0800
TZOFFSETTO:-0700
TZNAME:PDT
DTSTART:20250309T100000
END:DAYLIGHT
BEGIN:STANDARD
TZOFFSETFROM:-0700
TZOFFSETTO:-0800
TZNAME:PST
DTSTART:20251102T090000
END:STANDARD
BEGIN:DAYLIGHT
TZOFFSETFROM:-0800
TZOFFSETTO:-0700
TZNAME:PDT
DTSTART:20260308T100000
END:DAYLIGHT
BEGIN:STANDARD
TZOFFSETFROM:-0700
TZOFFSETTO:-0800
TZNAME:PST
DTSTART:20261101T090000
END:STANDARD
BEGIN:DAYLIGHT
TZOFFSETFROM:-0800
TZOFFSETTO:-0700
TZNAME:PDT
DTSTART:20270314T100000
END:DAYLIGHT
BEGIN:STANDARD
TZOFFSETFROM:-0700
TZOFFSETTO:-0800
TZNAME:PST
DTSTART:20271107T090000
END:STANDARD
END:VTIMEZONE
BEGIN:VEVENT
DTSTART;TZID=America/Los_Angeles:20260105T113000
DTEND;TZID=America/Los_Angeles:20260105T130000
DTSTAMP:20260425T100548
CREATED:20251226T193339Z
LAST-MODIFIED:20260220T204916Z
UID:10007904-1767612600-1767618000@calendarsausalito.com
SUMMARY:Sausalito Village: Souper Monday Club
DESCRIPTION:Souper Monday Club – open to all older adults in 94965 \nSausalito Village will host Souper Monday Club at Campbell Hall from 11:30 a.m. to 1:00 p.m. on the first Monday of each month (unless it falls on a holiday — then it may shift to the next Monday). \nAttendees are invited to enjoy two different types of hearty soups from this month’s sponsor\, and celebrate Souper Monday’s one-year anniversary of bringing residents together to enjoy a meal in community.\nTables will be set to provide a warm and inviting restaurant feel. Volunteers will serve bread\, dessert\, and drinks at your table along with your choice of soup. There is no charge to attend\, but please register in advance.. \n\nFees/Admission\nNo charge but registration is required. \n\n\nContact Information\nSausalitoVillageRSVP@gmail.com\nSend Email
URL:https://calendarsausalito.com/event/souper-monday-club/
LOCATION:Campbell Hall\, 70 Santa Rosa\, Sausalito\, CA\, 95965\, United States
CATEGORIES:Sausalito Village
END:VEVENT
END:VCALENDAR