BEGIN:VCALENDAR
VERSION:2.0
PRODID:-//Calendar Sausalito - ECPv6.15.20//NONSGML v1.0//EN
CALSCALE:GREGORIAN
METHOD:PUBLISH
X-WR-CALNAME:Calendar Sausalito
X-ORIGINAL-URL:https://calendarsausalito.com
X-WR-CALDESC:Events for Calendar Sausalito
REFRESH-INTERVAL;VALUE=DURATION:PT1H
X-Robots-Tag:noindex
X-PUBLISHED-TTL:PT1H
BEGIN:VTIMEZONE
TZID:America/Los_Angeles
BEGIN:DAYLIGHT
TZOFFSETFROM:-0800
TZOFFSETTO:-0700
TZNAME:PDT
DTSTART:20250309T100000
END:DAYLIGHT
BEGIN:STANDARD
TZOFFSETFROM:-0700
TZOFFSETTO:-0800
TZNAME:PST
DTSTART:20251102T090000
END:STANDARD
BEGIN:DAYLIGHT
TZOFFSETFROM:-0800
TZOFFSETTO:-0700
TZNAME:PDT
DTSTART:20260308T100000
END:DAYLIGHT
BEGIN:STANDARD
TZOFFSETFROM:-0700
TZOFFSETTO:-0800
TZNAME:PST
DTSTART:20261101T090000
END:STANDARD
BEGIN:DAYLIGHT
TZOFFSETFROM:-0800
TZOFFSETTO:-0700
TZNAME:PDT
DTSTART:20270314T100000
END:DAYLIGHT
BEGIN:STANDARD
TZOFFSETFROM:-0700
TZOFFSETTO:-0800
TZNAME:PST
DTSTART:20271107T090000
END:STANDARD
END:VTIMEZONE
BEGIN:VEVENT
DTSTART;TZID=America/Los_Angeles:20260421T154500
DTEND;TZID=America/Los_Angeles:20260421T164500
DTSTAMP:20260421T043411
CREATED:20260310T184349Z
LAST-MODIFIED:20260310T203330Z
UID:10008955-1776786300-1776789900@calendarsausalito.com
SUMMARY:Sausalito Village: Gentle Yoga for older adults
DESCRIPTION:Enroll for all classes:  https://sausalito.recdesk.com/Community/Program?category=2   Adult-Fitness or Call (415) 289-4152 \nGENTLE MAT YOGA with Becky Hand. Stretch and strengthen your limbs and improve your balance with this class that unites body\, mind and spirit. Bring your own yoga mat\, wear comfy clothes\, and an empty stomach. \n\nWHEN:  Tuesdays\, 3:45pm – 4:45pm\nWHERE:  Exercise/Dance Studio\, downstairs in City Hall
URL:https://calendarsausalito.com/event/sausalito-village-gentle-yoga-for-older-adults/2026-04-21/
LOCATION:Exercise Room\, City Hall\, 420 Litho Street\, Sausalito\, CA\, 94965\, United States
CATEGORIES:Sausalito Village
END:VEVENT
BEGIN:VEVENT
DTSTART;TZID=America/Los_Angeles:20260422T160000
DTEND;TZID=America/Los_Angeles:20260422T173000
DTSTAMP:20260421T043411
CREATED:20260408T203322Z
LAST-MODIFIED:20260408T203322Z
UID:10010463-1776873600-1776879000@calendarsausalito.com
SUMMARY:Sausalito Village: Floating Homes Tour
DESCRIPTION:Volunteer Orientation\n\nWed 04 / 22 / 2026\n4:00 PM to 5:30 PM\n\nWhere\nCampbell Hall\n70 Santa Rosa Avenue\nSausalito California 94965\n\nWho can attend\nVolunteers only\n\nPrice\nSee event description\n\n\n\n\n\n\n\nRegister for this event \n  \nPlease Join us on April 22nd for a \nSausalito Village & CARSS Volunteer Orientation\nA chance to connect\, learn\, and enhance your role supporting members in our community \nWhether you’re new or have been volunteering for years\, this is a great opportunity to: \n* Refresh your understanding of Sausalito Village and CARSS (Call A Ride for Sausalito Seniors)\n* Learn about current programs and priorities\n* Review important guidelines — especially for drivers\n* Meet fellow volunteers and share experiences \nWHEN:  Wednesday\, April 22\, 4:00pm – 5:30pm\nWHERE:  Campbell Hall\, 70 Santa Rosa\nRSVP: Register on event calendar or contact Wendy at infocarss4you@gmail.com \nPizza\, salad and drinks will be served. \nPlease spread the word and invite your friends and neighbors who might be interested in volunteering. We need more volunteers!
URL:https://calendarsausalito.com/event/sausalito-village-floating-homes-tour-2/
LOCATION:Campbell Hall\, 70 Santa Rosa\, Sausalito\, CA\, 95965\, United States
CATEGORIES:Sausalito Village
END:VEVENT
BEGIN:VEVENT
DTSTART;TZID=America/Los_Angeles:20260422T160000
DTEND;TZID=America/Los_Angeles:20260422T173000
DTSTAMP:20260421T043411
CREATED:20260415T195730Z
LAST-MODIFIED:20260415T195730Z
UID:10010508-1776873600-1776879000@calendarsausalito.com
SUMMARY:Sausalito Village: Volunteer Orientation
DESCRIPTION:Volunteer Orientation\n \n\n\n\nWhen\nWed 04 / 22 / 2026\n4:00 PM to 5:30 PM\n\nWhere\nCampbell Hall\n70 Santa Rosa Avenue\nSausalito California 94965\n\nWho can attend\nVolunteers only\n\nPrice\nSee event description – Register for this event\n\n\n\n\n\nPlease Join us on April 22nd for a Sausalito Village & CARSS Volunteer Orientation \nA chance to connect\, learn\, and enhance your role supporting members in our community \nWhether you’re new or have been volunteering for years\, this is a great opportunity to: \n* Refresh your understanding of Sausalito Village and CARSS (Call A Ride for Sausalito Seniors)\n* Learn about current programs and priorities\n* Review important guidelines — especially for drivers\n* Meet fellow volunteers and share experiences \nWHEN:  Wednesday\, April 22\, 4:00pm – 5:30pm\nWHERE:  Campbell Hall\, 70 Santa Rosa\nRSVP: Register on event calendar or contact Wendy at infocarss4you@gmail.com \nPizza\, salad and drinks will be served. \nPlease spread the word and invite your friends and neighbors who might be interested in volunteering. We need more volunteers!
URL:https://calendarsausalito.com/event/sausalito-village-volunteer-orientation/
LOCATION:Campbell Hall\, 70 Santa Rosa\, Sausalito\, CA\, 95965\, United States
CATEGORIES:Sausalito Village
END:VEVENT
BEGIN:VEVENT
DTSTART;TZID=America/Los_Angeles:20260423T160000
DTEND;TZID=America/Los_Angeles:20260423T170000
DTSTAMP:20260421T043411
CREATED:20260310T183844Z
LAST-MODIFIED:20260310T184418Z
UID:10008694-1776960000-1776963600@calendarsausalito.com
SUMMARY:Sausalito Village: Weekly Poetry
DESCRIPTION:Ongoing Poetry Group\n\n\nSV volunteer and member\, Lucinda Watson\, facilitates a weekly poetry writing group hosted by Sausalito Village. The group meets weekly for one hour on Zoom\, with the purpose of writing\, sharing\, and deepening our engagement with poetry. \nLucinda brings years of experience and is listed in Poets & Writers. Her 2021 Poetry Collection was published by Golden Antelope Press and she holds a master’s degree in writing. Her vision is to create a space that is focused\, inspiring\, and fully centered on poetry—rather than small talk. \nEach week\, members will have the opportunity to read their work aloud and request the type of feedback they prefer: either constructive/critical or positive-only\, depending on comfort level and personal goals. This approach makes the group welcoming to both beginning poets and those with more experience. \nRSVP for the recurring Zoom link. \nEvent calendar: https://sausalito.helpfulvillage.com/events?neighborhood=SV
URL:https://calendarsausalito.com/event/sausalito-village-weekly-poetry-2/2026-04-23/
LOCATION:
CATEGORIES:Sausalito Village
END:VEVENT
BEGIN:VEVENT
DTSTART;TZID=America/Los_Angeles:20260423T183000
DTEND;TZID=America/Los_Angeles:20260423T203000
DTSTAMP:20260421T043411
CREATED:20260415T192940Z
LAST-MODIFIED:20260415T192940Z
UID:10010504-1776969000-1776976200@calendarsausalito.com
SUMMARY:Sausalito Village: CARSS rides for SWC Poetry Event
DESCRIPTION:CARSS rides for SWC Poetry Event\n\n\nWhen\nThu 04 / 23 / 2026\n6:00 PM to 7:30 PM\n\nWhere\nSausalito Woman’s Club\n120 Central Ave\nSausalito CA 94965\n\nWho can attend\nOpen to all\n\nPrice\nSee event description\n\n\n\n\n\nJoin us for an Evening of Poetry – April 23\, 2026\, 6:30pm – 8:00pm \nA Sausalito Woman’s Club Event \nExplore where the particular and universal\,\nthe actual and possible  intersect. \nHear readings from teachers\, clergy\, moms\nand dads\, and students\, as they share\nwords that sear\, that soothe\, that jostle\nour minds and mark our hearts \n  \nRSVP on Eventbrite for the event: https://www.eventbrite.com/e/an-evening-of-poetry-tickets-1984164138350?aff=oddtdtcreator \nLimited parking at Christ Church available. \nCall or email Wendy for a door to door CARSS ride 48 hours ahead at 415-944-5474 or email infoCARSS4You@gmail.com
URL:https://calendarsausalito.com/event/sausalito-village-carss-rides-for-swc-poetry-event/
LOCATION:Sausalito Woman’s Club House\, 120 Central Avenue\, Sausalito\, CA\, 94965\, United States
CATEGORIES:Sausalito Village
END:VEVENT
BEGIN:VEVENT
DTSTART;TZID=America/Los_Angeles:20260426T160000
DTEND;TZID=America/Los_Angeles:20260426T170000
DTSTAMP:20260421T043411
CREATED:20260310T203249Z
LAST-MODIFIED:20260310T203249Z
UID:10009008-1777219200-1777222800@calendarsausalito.com
SUMMARY:Sausalito Village: Line Dancing
DESCRIPTION:SV is NOW partnering with Sausalito Parks and Rec through an Intergenerational grant received by Sausalito P&R\n\nSign up for each class through Parks and Rec: https://cityofsausalito.perfectmind.com/24457/Classes/BookMe4LandingPages/Class?classId=15e3c83a-0e03-4a45-9791-3d0eb0bda0ef&occurrenceDate=20240114\n\n\nYou can also attend as a ‘Drop In’ but will be required to sign a waiver when you arrive.\n\nLaurie Reemsnyder is your wonderful teacher who will guide you through the dances.  We’ll do mostly beginning and one wall dances at least the first few workshops\, but adjust based on who is coming.\n\nMusic is old school\, contemporary\, disco\, jazz\, R&B\, and a little Latin.\n\nOpen to all\, geared to seniors.\n\nWear comfortable clothing and shoes.  Dance shoes encouraged if you have them to provide the right amount of ‘slide’.\n\nIMPORTANT:  If you are new and want to meet with Laurie ahead of class to go over basic moves\, email her: phototeacher94@gmail.com  several days ahead\n\nAdd to Google Calendar\n\nExercise Room\, City Hall\n420 Litho Street\nSausalito CA
URL:https://calendarsausalito.com/event/sausalito-village-line-dancing/2026-04-26/
LOCATION:Exercise Room\, City Hall\, 420 Litho Street\, Sausalito\, CA\, 94965\, United States
CATEGORIES:Sausalito Village
END:VEVENT
BEGIN:VEVENT
DTSTART;TZID=America/Los_Angeles:20260427T110000
DTEND;TZID=America/Los_Angeles:20260427T120000
DTSTAMP:20260421T043411
CREATED:20260323T205243Z
LAST-MODIFIED:20260323T205243Z
UID:10010034-1777287600-1777291200@calendarsausalito.com
SUMMARY:Sausalito Village: Stretch and Strengthen with Rayner
DESCRIPTION:Make it part of your Monday morning routine\n\n\n       \n\n\n\nStretch and Strengthen with Rayner\nTime: 11:00 AM Pacific Time\nEvery 2nd and 4th Monday  \nJoin Zoom Meeting at 11:00 with this link: https://us02web.zoom.us/j/85644027660?pwd=eVRuNjN5QTExOG1RM0xUbW40VFBEUT09 \nThis class is a wonderful morning pick-me-up. Exercise with new friends on Zoom to energize and feel good all day.  Rayner is a certified Yoga teacher and therapist and her classes are fun and a good  all-around workout.  Each week she focuses on a different aspect of wellness\, always incorporating yoga-based stretches\, breathing and guided relaxation.  Classes are a mix of cardio\, strength\, increased mobility and balance and may include Qi Gong\, or the optional use of light weights or other props.  All that is required is a chair for seated stretches\, and for support during standing movements.  Everything can be modified so that you feel comfortable at any level. \n________________________________ \nJoin us for an hour of uplifting energy and spirits\, and maintain your healthy body and mind!” \nQuestions?  Contact Sharon sharon126@aol.com and 415-272-6608 \nNEED HELP accessing ZOOM? Click here: How to Join a Zoom Meeting \nKnow someone who wants to listen by phone?  We can provide a call in number\, email SausalitoVillageRSVP@gmail.com
URL:https://calendarsausalito.com/event/sausalito-village-stretch-and-strengthen-with-rayner-2/2026-04-27/
LOCATION:
CATEGORIES:Sausalito Village
END:VEVENT
BEGIN:VEVENT
DTSTART;TZID=America/Los_Angeles:20260427T110000
DTEND;TZID=America/Los_Angeles:20260427T123000
DTSTAMP:20260421T043411
CREATED:20260415T192005Z
LAST-MODIFIED:20260415T192005Z
UID:10010491-1777287600-1777293000@calendarsausalito.com
SUMMARY:Sausalito Village: Men's Group - Coffee and Conversation
DESCRIPTION:Men’s Coffee – Meet at the Presbyterian Church for coffee and conversation.\n\n\n\nPastor Paul Mowry and his partner\, Joey Silverman\, host this gathering twice a month — on the second and fourth Mondays at 11:00am. \nTea\, coffee\, water and light nibbles will be served. \nJoin us for relaxed conversation\, connection\, and camaraderie in a welcoming setting. \nWe meet in the room below the church\, accessible by the stairs located next to the church entrance. \n\nParking is non-existent at the church.  Reserve a ride with CARSS (Call A Ride for Sausalito Seniors) 48 hours ahead by calling 415-944-5474 or emailing InfoCARSS4You@gmail.com
URL:https://calendarsausalito.com/event/sausalito-village-mens-group-coffee-and-conversation-2/2026-04-27/
LOCATION:Sausalito Presbyterian Church\, 112 Bulkley Ave\, Sausalito\, CA\, 94965\, United States
CATEGORIES:Sausalito Village
END:VEVENT
BEGIN:VEVENT
DTSTART;TZID=America/Los_Angeles:20260428T154500
DTEND;TZID=America/Los_Angeles:20260428T164500
DTSTAMP:20260421T043411
CREATED:20260310T184349Z
LAST-MODIFIED:20260310T203330Z
UID:10008956-1777391100-1777394700@calendarsausalito.com
SUMMARY:Sausalito Village: Gentle Yoga for older adults
DESCRIPTION:Enroll for all classes:  https://sausalito.recdesk.com/Community/Program?category=2   Adult-Fitness or Call (415) 289-4152 \nGENTLE MAT YOGA with Becky Hand. Stretch and strengthen your limbs and improve your balance with this class that unites body\, mind and spirit. Bring your own yoga mat\, wear comfy clothes\, and an empty stomach. \n\nWHEN:  Tuesdays\, 3:45pm – 4:45pm\nWHERE:  Exercise/Dance Studio\, downstairs in City Hall
URL:https://calendarsausalito.com/event/sausalito-village-gentle-yoga-for-older-adults/2026-04-28/
LOCATION:Exercise Room\, City Hall\, 420 Litho Street\, Sausalito\, CA\, 94965\, United States
CATEGORIES:Sausalito Village
END:VEVENT
BEGIN:VEVENT
DTSTART;TZID=America/Los_Angeles:20260429T090000
DTEND;TZID=America/Los_Angeles:20260429T140000
DTSTAMP:20260421T043411
CREATED:20260415T193701Z
LAST-MODIFIED:20260415T193701Z
UID:10010505-1777453200-1777471200@calendarsausalito.com
SUMMARY:Sausalito Village: Walking tour
DESCRIPTION:Walking tour of North Beach from SF Historical Society\n\n\nWhen\nWed 04 / 29 / 2026\n9:00 AM to 2:00 PM\n\nWho can attend\nMembers and Volunteers\nLimited Capacity: 4 spots available \nPrice\n$35.00 – Purchase Tickets\n\n\n\n\nWe will meet at 9:00am at Dunphy Park and take hired transportation to the starting point.\n\n\nThe museum is not generally open on Wednesdays\, however\, they are going to open at 9:30 for our SV private group to come in\, visit their very small but extremely interesting museum and use the restrooms before the tour starts at 10:00 a.m. sharp.  Steve Johnson is the tour guide.  The tour begins at the museum at 608 Commercial Street and ends up at Washington Square at the Italian restaurant\, Tony’s Pizza Napoletana\, 1570 Stockton Street. \n$35 per person. This is the cost of the tour and goes directly to the SF Historical Society.  Sausalito Village will cover the cost of the paid transportation. \nDress in layers for SF\, comfortable shoes\, sun hats maybe. \nIf you are a member on fee waiver\, we can offer a discount of $20 for this event.  Call Wendy in the office at 415-332-3325 to arrange payment. \nPurchase Tickets
URL:https://calendarsausalito.com/event/sausalito-village-walking-tour/
LOCATION:Dunphy Park\, Bridgeway at\, Napa St\, Sausalito\, CA\, 94965\, United States
CATEGORIES:Sausalito Village
END:VEVENT
BEGIN:VEVENT
DTSTART;TZID=America/Los_Angeles:20260430T160000
DTEND;TZID=America/Los_Angeles:20260430T170000
DTSTAMP:20260421T043411
CREATED:20260310T183844Z
LAST-MODIFIED:20260310T184418Z
UID:10008695-1777564800-1777568400@calendarsausalito.com
SUMMARY:Sausalito Village: Weekly Poetry
DESCRIPTION:Ongoing Poetry Group\n\n\nSV volunteer and member\, Lucinda Watson\, facilitates a weekly poetry writing group hosted by Sausalito Village. The group meets weekly for one hour on Zoom\, with the purpose of writing\, sharing\, and deepening our engagement with poetry. \nLucinda brings years of experience and is listed in Poets & Writers. Her 2021 Poetry Collection was published by Golden Antelope Press and she holds a master’s degree in writing. Her vision is to create a space that is focused\, inspiring\, and fully centered on poetry—rather than small talk. \nEach week\, members will have the opportunity to read their work aloud and request the type of feedback they prefer: either constructive/critical or positive-only\, depending on comfort level and personal goals. This approach makes the group welcoming to both beginning poets and those with more experience. \nRSVP for the recurring Zoom link. \nEvent calendar: https://sausalito.helpfulvillage.com/events?neighborhood=SV
URL:https://calendarsausalito.com/event/sausalito-village-weekly-poetry-2/2026-04-30/
LOCATION:
CATEGORIES:Sausalito Village
END:VEVENT
END:VCALENDAR