BEGIN:VCALENDAR
VERSION:2.0
PRODID:-//Calendar Sausalito - ECPv6.15.20//NONSGML v1.0//EN
CALSCALE:GREGORIAN
METHOD:PUBLISH
X-WR-CALNAME:Calendar Sausalito
X-ORIGINAL-URL:https://calendarsausalito.com
X-WR-CALDESC:Events for Calendar Sausalito
REFRESH-INTERVAL;VALUE=DURATION:PT1H
X-Robots-Tag:noindex
X-PUBLISHED-TTL:PT1H
BEGIN:VTIMEZONE
TZID:America/Los_Angeles
BEGIN:DAYLIGHT
TZOFFSETFROM:-0800
TZOFFSETTO:-0700
TZNAME:PDT
DTSTART:20250309T100000
END:DAYLIGHT
BEGIN:STANDARD
TZOFFSETFROM:-0700
TZOFFSETTO:-0800
TZNAME:PST
DTSTART:20251102T090000
END:STANDARD
BEGIN:DAYLIGHT
TZOFFSETFROM:-0800
TZOFFSETTO:-0700
TZNAME:PDT
DTSTART:20260308T100000
END:DAYLIGHT
BEGIN:STANDARD
TZOFFSETFROM:-0700
TZOFFSETTO:-0800
TZNAME:PST
DTSTART:20261101T090000
END:STANDARD
BEGIN:DAYLIGHT
TZOFFSETFROM:-0800
TZOFFSETTO:-0700
TZNAME:PDT
DTSTART:20270314T100000
END:DAYLIGHT
BEGIN:STANDARD
TZOFFSETFROM:-0700
TZOFFSETTO:-0800
TZNAME:PST
DTSTART:20271107T090000
END:STANDARD
END:VTIMEZONE
BEGIN:VEVENT
DTSTART;TZID=America/Los_Angeles:20260303T093000
DTEND;TZID=America/Los_Angeles:20260303T140000
DTSTAMP:20260423T070314
CREATED:20260120T172315Z
LAST-MODIFIED:20260220T223918Z
UID:10008037-1772530200-1772546400@calendarsausalito.com
SUMMARY:SWC: BALTIMORE CANYON\, DAWN FALLS\, KING MOUNTAIN LOOP HIKE
DESCRIPTION:BALTIMORE CANYON\, DAWN FALLS\, KING MOUNTAIN LOOP HIKE – NEW DATE\n\nMarch 3 @ 9:30 am – 2:00 pm\n\n\n\n\nLet’s try a second time and pray for no rain …. maybe more of you can join us for one of Marin’s best kept secrets. We will start at Baltimore Canyon dipping into a canopy of magnificent redwoods and fern groves. The Dawn Falls trail skirts and crosses the Larkspur Creek passing by the lovely Dawn Falls. After a short steep zigzag climb we will arrive at Southern Marin Fire Road and then loop around Kent Woodlands to King Mountain. At the Ladybug trail junction we will start our descent back into the canyon and out. This hike is so serene\, secluded\, quiet and powerful. As one ranger is quoted “if you listen carefully\, you might still hear the drumbeats of the old “hippy” camp that was once there. Moderate 5 mi hike\, poles recommended. \nLunch will follow at Farmhouse Local in Larkspur Please RSVP by 2/27 via text to Kathy Page 415-218-9453 or Lynnie Spiller 415-385-1253
URL:https://calendarsausalito.com/event/swc-baltimore-canyon-dawn-falls-king-mountain-loop-hike/
LOCATION:CA
CATEGORIES:Sausalito Woman's Club (SWC)
END:VEVENT
BEGIN:VEVENT
DTSTART;TZID=America/Los_Angeles:20260303T133000
DTEND;TZID=America/Los_Angeles:20260303T153000
DTSTAMP:20260423T070314
CREATED:20260120T164450Z
LAST-MODIFIED:20260120T170621Z
UID:10002243-1772544600-1772551800@calendarsausalito.com
SUMMARY:SWC: MAH JONG
DESCRIPTION:Tuesdays\, October through May\, 1:30 – 3:30 pm\nEveryone with some Mah Jong experience is welcome to play. Players are encouraged to bring a Mahjong set to share. Meetings are in the boardroom at the club or at players’ homes this year. Contact Heidi Snowden to find the location and to arrange for lessons\, if interested. Chair Heidi Snowden 415–887–9028\, heidisnowden@me.com.
URL:https://calendarsausalito.com/event/mah-jong/2026-03-03/
LOCATION:Sausalito Woman’s Club House\, 120 Central Avenue\, Sausalito\, CA\, 94965\, United States
CATEGORIES:Sausalito Woman's Club (SWC)
END:VEVENT
BEGIN:VEVENT
DTSTART;TZID=America/Los_Angeles:20260310T133000
DTEND;TZID=America/Los_Angeles:20260310T153000
DTSTAMP:20260423T070314
CREATED:20260120T164450Z
LAST-MODIFIED:20260120T170621Z
UID:10002244-1773149400-1773156600@calendarsausalito.com
SUMMARY:SWC: MAH JONG
DESCRIPTION:Tuesdays\, October through May\, 1:30 – 3:30 pm\nEveryone with some Mah Jong experience is welcome to play. Players are encouraged to bring a Mahjong set to share. Meetings are in the boardroom at the club or at players’ homes this year. Contact Heidi Snowden to find the location and to arrange for lessons\, if interested. Chair Heidi Snowden 415–887–9028\, heidisnowden@me.com.
URL:https://calendarsausalito.com/event/mah-jong/2026-03-10/
LOCATION:Sausalito Woman’s Club House\, 120 Central Avenue\, Sausalito\, CA\, 94965\, United States
CATEGORIES:Sausalito Woman's Club (SWC)
END:VEVENT
BEGIN:VEVENT
DTSTART;TZID=America/Los_Angeles:20260317T133000
DTEND;TZID=America/Los_Angeles:20260317T153000
DTSTAMP:20260423T070314
CREATED:20260120T164450Z
LAST-MODIFIED:20260120T170621Z
UID:10002245-1773754200-1773761400@calendarsausalito.com
SUMMARY:SWC: MAH JONG
DESCRIPTION:Tuesdays\, October through May\, 1:30 – 3:30 pm\nEveryone with some Mah Jong experience is welcome to play. Players are encouraged to bring a Mahjong set to share. Meetings are in the boardroom at the club or at players’ homes this year. Contact Heidi Snowden to find the location and to arrange for lessons\, if interested. Chair Heidi Snowden 415–887–9028\, heidisnowden@me.com.
URL:https://calendarsausalito.com/event/mah-jong/2026-03-17/
LOCATION:Sausalito Woman’s Club House\, 120 Central Avenue\, Sausalito\, CA\, 94965\, United States
CATEGORIES:Sausalito Woman's Club (SWC)
END:VEVENT
BEGIN:VEVENT
DTSTART;TZID=America/Los_Angeles:20260317T190000
DTEND;TZID=America/Los_Angeles:20260317T210000
DTSTAMP:20260423T070314
CREATED:20260120T174440Z
LAST-MODIFIED:20260120T174440Z
UID:10002439-1773774000-1773781200@calendarsausalito.com
SUMMARY:SWC: JINKS DRESS REHEARSAL PERFORMANCE
DESCRIPTION:JINKS DRESS REHEARSAL PERFORMANCE \nPerformance for friends of the cast and members unable to attend Low Jinks or Founder’s Day. Light appetizers\, no–host bar. \n$20. PURCHASE TICKETS by 3/10. \nCo-Chairs: Stephanie Loos\, Megan O’Connor
URL:https://calendarsausalito.com/event/swc-jinks-dress-rehearsal-performance/
LOCATION:Sausalito Woman’s Club House\, 120 Central Avenue\, Sausalito\, CA\, 94965\, United States
CATEGORIES:Sausalito Woman's Club (SWC)
END:VEVENT
BEGIN:VEVENT
DTSTART;TZID=America/Los_Angeles:20260319T120000
DTEND;TZID=America/Los_Angeles:20260319T170000
DTSTAMP:20260423T070314
CREATED:20260120T174604Z
LAST-MODIFIED:20260120T174604Z
UID:10002440-1773921600-1773939600@calendarsausalito.com
SUMMARY:SWC: FOUNDERS’ DAY LUNCHEON & HIGH JINKS
DESCRIPTION:General Chair / Producer: Denise Gustafsson\nCo–Chair / Luncheon Chair: Lauren Gertz\nChefs: Maria Hildebrand\, Charlene Mendez\nDecor: Debra Andelin\, Millie Zinman\, Pat Boddy\, Jennifer\nWechsler\, Stephanie Holdsworth\nWriter: Karen Betzner\nDirector: Candace Curtis\nCost: $45. Schedule & Reservations to be announced.
URL:https://calendarsausalito.com/event/swc-founders-day-luncheon-high-jinks/
LOCATION:Sausalito Woman’s Club House\, 120 Central Avenue\, Sausalito\, CA\, 94965\, United States
CATEGORIES:Sausalito Woman's Club (SWC)
END:VEVENT
BEGIN:VEVENT
DTSTART;TZID=America/Los_Angeles:20260321T180000
DTEND;TZID=America/Los_Angeles:20260321T220000
DTSTAMP:20260423T070314
CREATED:20260120T174710Z
LAST-MODIFIED:20260120T174710Z
UID:10002441-1774116000-1774130400@calendarsausalito.com
SUMMARY:SWC: LOW JINKS
DESCRIPTION:Final show of this year’s hilarious JINKS! Appetizers\, Dessert and No–Host Bar.\n\n\n$25. RSVP by 3/15. C \no-Chairs: Aleah Mainzer\, Ana Escuder
URL:https://calendarsausalito.com/event/swc-low-jinks/
LOCATION:Sausalito Woman’s Club House\, 120 Central Avenue\, Sausalito\, CA\, 94965\, United States
CATEGORIES:Sausalito Woman's Club (SWC)
END:VEVENT
BEGIN:VEVENT
DTSTART;TZID=America/Los_Angeles:20260324T133000
DTEND;TZID=America/Los_Angeles:20260324T153000
DTSTAMP:20260423T070314
CREATED:20260120T164450Z
LAST-MODIFIED:20260120T170621Z
UID:10002246-1774359000-1774366200@calendarsausalito.com
SUMMARY:SWC: MAH JONG
DESCRIPTION:Tuesdays\, October through May\, 1:30 – 3:30 pm\nEveryone with some Mah Jong experience is welcome to play. Players are encouraged to bring a Mahjong set to share. Meetings are in the boardroom at the club or at players’ homes this year. Contact Heidi Snowden to find the location and to arrange for lessons\, if interested. Chair Heidi Snowden 415–887–9028\, heidisnowden@me.com.
URL:https://calendarsausalito.com/event/mah-jong/2026-03-24/
LOCATION:Sausalito Woman’s Club House\, 120 Central Avenue\, Sausalito\, CA\, 94965\, United States
CATEGORIES:Sausalito Woman's Club (SWC)
END:VEVENT
BEGIN:VEVENT
DTSTART;TZID=America/Los_Angeles:20260325T150000
DTEND;TZID=America/Los_Angeles:20260325T163000
DTSTAMP:20260423T070314
CREATED:20260120T174830Z
LAST-MODIFIED:20260120T174830Z
UID:10002442-1774450800-1774456200@calendarsausalito.com
SUMMARY:SWC: BRING ON THE JOY
DESCRIPTION:A joyful hour of movement and creative activities to music\, guaranteed to bring laughter and connection to one another. Bring back your sense of fun and playfulness and leave all your stress behind! Different workshops each class Limit 24\, 12 minimum to hold class.\n\n\n\nNo cost. RSVP by 3/18 to Chair Rayner Needleman.
URL:https://calendarsausalito.com/event/swc-bring-on-the-joy/
LOCATION:Sausalito Woman’s Club House\, 120 Central Avenue\, Sausalito\, CA\, 94965\, United States
CATEGORIES:Sausalito Woman's Club (SWC)
END:VEVENT
BEGIN:VEVENT
DTSTART;TZID=America/Los_Angeles:20260327T183000
DTEND;TZID=America/Los_Angeles:20260327T220000
DTSTAMP:20260423T070314
CREATED:20260322T060242Z
LAST-MODIFIED:20260322T060242Z
UID:10009989-1774636200-1774648800@calendarsausalito.com
SUMMARY:SWC: A Night in Positano
DESCRIPTION:Join Us for A Night in Positano – Sausalito Nursery School’s 2026 Gala\n\n\nCome celebrate and support the Sausalito Nursery School and our community’s children with an evening of coastal Italian elegance and charm. \nEntry includes: \n\nProsecco on Arrival\nDelicious Hors D’oeurves\nA No-Host Bar with a Signature Cocktail\nA Luxurious Silent Auction and a Raffle\nLively Music and Dancing\n\nAll proceeds from this celebration go to support classroom and afterschool enrichment programming\, teachers\, and the students at Sausalito Nursery School. SNS appreciates your support\, now in its 86th year of serving the community with a unique cooperative experience featuring a remarkable and special partnership between parents and the school. \n\n\n\n\n\n\nGeneral Admission\n95 USD\n\n\n\n\nGet Tickets
URL:https://calendarsausalito.com/event/swc-a-night-in-positano/
LOCATION:Sausalito Woman’s Club House\, 120 Central Avenue\, Sausalito\, CA\, 94965\, United States
CATEGORIES:Sausalito Woman's Club (SWC)
END:VEVENT
BEGIN:VEVENT
DTSTART;TZID=America/Los_Angeles:20260330T100000
DTEND;TZID=America/Los_Angeles:20260330T140000
DTSTAMP:20260423T070314
CREATED:20260120T175046Z
LAST-MODIFIED:20260120T175046Z
UID:10002443-1774864800-1774879200@calendarsausalito.com
SUMMARY:SWC: ANGEL ISLAND HIKE
DESCRIPTION:Monday\, March 30\, 2026 | 10:00am – Depart via Tiburon Ferry 10:00am / Return via Tiburon Ferry 3:20pm. \n\n\n\n\nStep back in time and take in breathtaking views on this memorable day trip to Angel Island State Park. We’ll catch the 10:00am ferry from Tiburon and explore the island on foot\, enjoying 360° panoramic views of San Francisco\, the Golden Gate Bridge\, Mt. Tam\, and beyond. This hike offers two options: a moderate loop around the island or a shorter walk combined with a shuttle ride to the island’s historic immigration station. There\, we’ll visit several small museums that chronicle the fascinating history of Angel Island from 1910–1940. Bring your lunch\, water\, layers\, and a hat. Trekking poles are optional.\nRSVP by 3/28 to Co-leaders Margo Merle and Nancy Curran.
URL:https://calendarsausalito.com/event/swc-angel-island-hike/
LOCATION:CA
CATEGORIES:Sausalito Woman's Club (SWC)
END:VEVENT
BEGIN:VEVENT
DTSTART;TZID=America/Los_Angeles:20260331T133000
DTEND;TZID=America/Los_Angeles:20260331T153000
DTSTAMP:20260423T070314
CREATED:20260120T164450Z
LAST-MODIFIED:20260120T170621Z
UID:10002247-1774963800-1774971000@calendarsausalito.com
SUMMARY:SWC: MAH JONG
DESCRIPTION:Tuesdays\, October through May\, 1:30 – 3:30 pm\nEveryone with some Mah Jong experience is welcome to play. Players are encouraged to bring a Mahjong set to share. Meetings are in the boardroom at the club or at players’ homes this year. Contact Heidi Snowden to find the location and to arrange for lessons\, if interested. Chair Heidi Snowden 415–887–9028\, heidisnowden@me.com.
URL:https://calendarsausalito.com/event/mah-jong/2026-03-31/
LOCATION:Sausalito Woman’s Club House\, 120 Central Avenue\, Sausalito\, CA\, 94965\, United States
CATEGORIES:Sausalito Woman's Club (SWC)
END:VEVENT
END:VCALENDAR