BEGIN:VCALENDAR
VERSION:2.0
PRODID:-//Calendar Sausalito - ECPv6.15.20//NONSGML v1.0//EN
CALSCALE:GREGORIAN
METHOD:PUBLISH
X-WR-CALNAME:Calendar Sausalito
X-ORIGINAL-URL:https://calendarsausalito.com
X-WR-CALDESC:Events for Calendar Sausalito
REFRESH-INTERVAL;VALUE=DURATION:PT1H
X-Robots-Tag:noindex
X-PUBLISHED-TTL:PT1H
BEGIN:VTIMEZONE
TZID:America/Los_Angeles
BEGIN:DAYLIGHT
TZOFFSETFROM:-0800
TZOFFSETTO:-0700
TZNAME:PDT
DTSTART:20250309T100000
END:DAYLIGHT
BEGIN:STANDARD
TZOFFSETFROM:-0700
TZOFFSETTO:-0800
TZNAME:PST
DTSTART:20251102T090000
END:STANDARD
BEGIN:DAYLIGHT
TZOFFSETFROM:-0800
TZOFFSETTO:-0700
TZNAME:PDT
DTSTART:20260308T100000
END:DAYLIGHT
BEGIN:STANDARD
TZOFFSETFROM:-0700
TZOFFSETTO:-0800
TZNAME:PST
DTSTART:20261101T090000
END:STANDARD
BEGIN:DAYLIGHT
TZOFFSETFROM:-0800
TZOFFSETTO:-0700
TZNAME:PDT
DTSTART:20270314T100000
END:DAYLIGHT
BEGIN:STANDARD
TZOFFSETFROM:-0700
TZOFFSETTO:-0800
TZNAME:PST
DTSTART:20271107T090000
END:STANDARD
END:VTIMEZONE
BEGIN:VEVENT
DTSTART;TZID=America/Los_Angeles:20260420T083000
DTEND;TZID=America/Los_Angeles:20260420T140000
DTSTAMP:20260419T142336
CREATED:20260120T180119Z
LAST-MODIFIED:20260120T180119Z
UID:10002449-1776673800-1776693600@calendarsausalito.com
SUMMARY:SWC: PRESIDIO LOOP HIKE
DESCRIPTION:Monday\, April 20\, 2026 | 8:45am – Meet at SWC to carpool \n\n\nExplore our local National Park gem – the Presidio – on this beautiful 5.5 mile loop starting at Tunnel Tops Park. We’ll walk to Inspiration Point\, continue past the Golf Course\, Mountain Lake\, and the former Public Health Service Hospital to the coastal bluff above Baker Beach. Our route will then take us to the southern end of the Golden Gate Bridge down to Crissy Field and back to the starting point. This hike blends coastal views\, natural beauty\, and rich military history. We’ll enjoy a picnic lunch from Il Parco at the scenic Tunnel Tops park overlooking the Golden Gate Bridge and Sausalito. \nRSVP by 4/17 to Co-leaders Jennifer Gridley and Karen Wilcox.
URL:https://calendarsausalito.com/event/swc-presidio-loop-hike/
LOCATION:Sausalito Woman’s Club House\, 120 Central Avenue\, Sausalito\, CA\, 94965\, United States
CATEGORIES:Sausalito Woman's Club (SWC)
END:VEVENT
BEGIN:VEVENT
DTSTART;TZID=America/Los_Angeles:20260421T133000
DTEND;TZID=America/Los_Angeles:20260421T153000
DTSTAMP:20260419T142336
CREATED:20260120T164450Z
LAST-MODIFIED:20260120T170621Z
UID:10002250-1776778200-1776785400@calendarsausalito.com
SUMMARY:SWC: MAH JONG
DESCRIPTION:Tuesdays\, October through May\, 1:30 – 3:30 pm\nEveryone with some Mah Jong experience is welcome to play. Players are encouraged to bring a Mahjong set to share. Meetings are in the boardroom at the club or at players’ homes this year. Contact Heidi Snowden to find the location and to arrange for lessons\, if interested. Chair Heidi Snowden 415–887–9028\, heidisnowden@me.com.
URL:https://calendarsausalito.com/event/mah-jong/2026-04-21/
LOCATION:Sausalito Woman’s Club House\, 120 Central Avenue\, Sausalito\, CA\, 94965\, United States
CATEGORIES:Sausalito Woman's Club (SWC)
END:VEVENT
BEGIN:VEVENT
DTSTART;TZID=America/Los_Angeles:20260423T183000
DTEND;TZID=America/Los_Angeles:20260423T210000
DTSTAMP:20260419T142336
CREATED:20260120T180314Z
LAST-MODIFIED:20260408T185521Z
UID:10002450-1776969000-1776978000@calendarsausalito.com
SUMMARY:SWC: AN EVENING OF POETRY
DESCRIPTION:An Evening of Poetry\n\n\n\nJoin us for a special community gathering celebrating some of the best poetry of our times \nHear readings from teachers\, clergy\, moms and dads\, business folks\, students\, and award winning poets as they share words that sear\, that soothe\, that jostle our minds and mark our hearts. Committee: Barbara Holmes\, Averel Wilson\, Laurie Tandy\, Karen Roark\, Roberta Malloy\, Maria Paterno\, Cheryl Popp and Leslie Hail. \nLimit 150. No charge.\nRSVP by 4/20 to Barbara Holmes. \n\n\n\nThursday\, April 23\, 2026\n6:30 PM  9:00 PM\nSausalito Woman’s Club (map)\n\n\n\n\n\n\n\n\n\n \n \n\n\n\n\n\n\n\n\n\n\n\nView Event →
URL:https://calendarsausalito.com/event/swc-an-evening-of-poetry/
LOCATION:Sausalito Woman’s Club House\, 120 Central Avenue\, Sausalito\, CA\, 94965\, United States
CATEGORIES:Sausalito Woman's Club (SWC)
END:VEVENT
BEGIN:VEVENT
DTSTART;TZID=America/Los_Angeles:20260426T150000
DTEND;TZID=America/Los_Angeles:20260426T163000
DTSTAMP:20260419T142336
CREATED:20260120T180418Z
LAST-MODIFIED:20260120T180418Z
UID:10002451-1777215600-1777221000@calendarsausalito.com
SUMMARY:SWC: A MAGICAL MUSICAL JOURNEY
DESCRIPTION:Fabulous classical violinist\, Charmian Stewart\, and equally fabulous classical cellist\, Amanda Craver –– The Forget–Me–Knots –– perform traditional Celtic\, Scandinavian\, and American music on the violin\, cello\, Hardanger fiddle\, and Nyckelharpa. Lively tunes and haunting melodies will set the Club reverberating with their fascinating performance. Light refreshments reflective of the program and wine available.\n\n\n  \nLimit 100. Cost $25. PURCHASE TICKET by 4/24\nCo–Chairs Paula Monsef\, Susie Visher.
URL:https://calendarsausalito.com/event/swc-a-magical-musical-journey/
LOCATION:Sausalito Woman’s Club House\, 120 Central Avenue\, Sausalito\, CA\, 94965\, United States
CATEGORIES:Sausalito Woman's Club (SWC)
END:VEVENT
BEGIN:VEVENT
DTSTART;TZID=America/Los_Angeles:20260429T103000
DTEND;TZID=America/Los_Angeles:20260429T113000
DTSTAMP:20260419T142336
CREATED:20260120T180545Z
LAST-MODIFIED:20260120T180545Z
UID:10002452-1777458600-1777462200@calendarsausalito.com
SUMMARY:SWC: FIRE SMART LANDSCAPING
DESCRIPTION:Meet at Southern Marin Fire Station #4 to view their community education native plant and defensible space strategy for reducing wildfire risk around your home with Q&A. Sustainability Chairs Julie Carlson & Laurie Tandy.\n\n\n\n  \nRSVP to Julie Carlson.
URL:https://calendarsausalito.com/event/swc-fire-smart-landscaping/
LOCATION:Sausalito Woman’s Club House\, 120 Central Avenue\, Sausalito\, CA\, 94965\, United States
CATEGORIES:Sausalito Woman's Club (SWC)
END:VEVENT
END:VCALENDAR