BEGIN:VCALENDAR
VERSION:2.0
PRODID:-//Calendar Sausalito - ECPv6.15.20//NONSGML v1.0//EN
CALSCALE:GREGORIAN
METHOD:PUBLISH
X-WR-CALNAME:Calendar Sausalito
X-ORIGINAL-URL:https://calendarsausalito.com
X-WR-CALDESC:Events for Calendar Sausalito
REFRESH-INTERVAL;VALUE=DURATION:PT1H
X-Robots-Tag:noindex
X-PUBLISHED-TTL:PT1H
BEGIN:VTIMEZONE
TZID:America/Los_Angeles
BEGIN:DAYLIGHT
TZOFFSETFROM:-0800
TZOFFSETTO:-0700
TZNAME:PDT
DTSTART:20250309T100000
END:DAYLIGHT
BEGIN:STANDARD
TZOFFSETFROM:-0700
TZOFFSETTO:-0800
TZNAME:PST
DTSTART:20251102T090000
END:STANDARD
BEGIN:DAYLIGHT
TZOFFSETFROM:-0800
TZOFFSETTO:-0700
TZNAME:PDT
DTSTART:20260308T100000
END:DAYLIGHT
BEGIN:STANDARD
TZOFFSETFROM:-0700
TZOFFSETTO:-0800
TZNAME:PST
DTSTART:20261101T090000
END:STANDARD
BEGIN:DAYLIGHT
TZOFFSETFROM:-0800
TZOFFSETTO:-0700
TZNAME:PDT
DTSTART:20270314T100000
END:DAYLIGHT
BEGIN:STANDARD
TZOFFSETFROM:-0700
TZOFFSETTO:-0800
TZNAME:PST
DTSTART:20271107T090000
END:STANDARD
END:VTIMEZONE
BEGIN:VEVENT
DTSTART;TZID=America/Los_Angeles:20260527T180000
DTEND;TZID=America/Los_Angeles:20260527T193000
DTSTAMP:20260421T061915
CREATED:20260120T183125Z
LAST-MODIFIED:20260120T183125Z
UID:10002463-1779904800-1779910200@calendarsausalito.com
SUMMARY:SWC: ARTIFICIAL INTELLIGENCE: IT’S REAL AND COMING FOR YOU
DESCRIPTION:Join Edward J. Delp\, The Charles William Harrison Distinguished Professor of Electrical and Computer Engineering and Professor of Biomedical Engineering at Purdue University as he provides an overview of AI\, generated media\, deepfake videos and popular AI tools. The presentation provides an approachable way to learn how AI impacts our daily lives and our world. AI expertise not required to attend. No limit. Light refreshments. Open to the public. \nCost $10. PURCHASE TICKET by 5/20 \nChair Tia Hensler.
URL:https://calendarsausalito.com/event/swc-artificial-intelligence-its-real-and-coming-for-you/
LOCATION:Sausalito Woman’s Club House\, 120 Central Avenue\, Sausalito\, CA\, 94965\, United States
CATEGORIES:Sausalito Woman's Club (SWC)
END:VEVENT
BEGIN:VEVENT
DTSTART;TZID=America/Los_Angeles:20260527T180000
DTEND;TZID=America/Los_Angeles:20260527T193000
DTSTAMP:20260421T061915
CREATED:20260408T181828Z
LAST-MODIFIED:20260408T181828Z
UID:10010047-1779904800-1779910200@calendarsausalito.com
SUMMARY:Sausalito Woman's Club: Prospective New Member Open House
DESCRIPTION:ARTIFICIAL INTELLIGENCE: IT’S REAL AND COMING FOR YOU\n\nMay 27 @ 6:00 pm – 7:30 pm\n10.00$\n\n\n\nJoin Edward J. Delp\, The Charles William Harrison Distinguished Professor of Electrical and Computer Engineering and Professor of Biomedical Engineering at Purdue University as he provides an overview of AI\, generated media\, deepfake videos and popular AI tools. The presentation provides an approachable way to learn how AI impacts our daily lives and our world. AI expertise not required to attend. No limit. Light refreshments. Open to the public. \nCost $10. PURCHASE TICKET by 5/20 \nChair Tia Hensler.
URL:https://calendarsausalito.com/event/sausalito-womans-club-prospective-new-member-open-house-2/
LOCATION:Sausalito Woman’s Club House\, 120 Central Avenue\, Sausalito\, CA\, 94965\, United States
CATEGORIES:Sausalito Woman's Club (SWC)
END:VEVENT
BEGIN:VEVENT
DTSTART;TZID=America/Los_Angeles:20260607T150000
DTEND;TZID=America/Los_Angeles:20260607T173000
DTSTAMP:20260421T061915
CREATED:20260120T182958Z
LAST-MODIFIED:20260120T182958Z
UID:10002462-1780844400-1780853400@calendarsausalito.com
SUMMARY:SWC: SRF SCHOLARSHIP AWARDS
DESCRIPTION:Scholarship 70th Anniversary Annual Award Ceremony \nPlease join us in celebrating the 70th Anniversary of the Sausalito Woman’s Club Scholarship Recognition Fund (SWCSRF) and this year’s inspiring scholarship recipients. Meet the scholars whose dreams are being realized through your continued generosity. The program will be followed by a reception hosted by the SWCSRF Board. \nRSVP by 6/3 to Chair Sylvia Fong.
URL:https://calendarsausalito.com/event/swc-srf-scholarship-awards/
LOCATION:Sausalito Woman’s Club House\, 120 Central Avenue\, Sausalito\, CA\, 94965\, United States
CATEGORIES:Sausalito Woman's Club (SWC)
END:VEVENT
BEGIN:VEVENT
DTSTART;TZID=America/Los_Angeles:20260609T080000
DTEND;TZID=America/Los_Angeles:20260609T140000
DTSTAMP:20260421T061915
CREATED:20260120T182856Z
LAST-MODIFIED:20260120T182856Z
UID:10002461-1780992000-1781013600@calendarsausalito.com
SUMMARY:SWC: HORSE HILL HIKE
DESCRIPTION:Tuesday\, June 9\, 2026 | 9:00am – Meet at SWC to carpool \nWe’ll close out the hiking season with a local favorite—a 4.5-mile loop through Mill Valley’s Escalon Fire Road and Camino Alto Bowl. The trail climbs gradually up the ridge\, rewarding us with views of Horse Hill to (hopefully) meet its grazing equine residents. This scenic and gentle hike is perfect for ending the season on a high note. Lunch to follow at The Cantina\, a lively spot nearby. RSVP by 6/6 to Co-leaders Kathy Atkins-Page and Helen Bennett.
URL:https://calendarsausalito.com/event/swc-horse-hill-hike/
LOCATION:Sausalito Woman’s Club House\, 120 Central Avenue\, Sausalito\, CA\, 94965\, United States
CATEGORIES:Sausalito Woman's Club (SWC)
END:VEVENT
BEGIN:VEVENT
DTSTART;TZID=America/Los_Angeles:20260613T130000
DTEND;TZID=America/Los_Angeles:20260613T150000
DTSTAMP:20260421T061915
CREATED:20260120T182741Z
LAST-MODIFIED:20260120T182741Z
UID:10002460-1781355600-1781362800@calendarsausalito.com
SUMMARY:SWC: CeCe CHATS – AGING\, END–OF–LIFE WISHES\, AND FINDING MEANING IN LATER LIFE
DESCRIPTION:Later Life Coach Cecile “Cece” O’Connor\, a seasoned registered nurse with over forty years of experience\, aims to shed light on the challenges that often go unaddressed\, empowering older adults to find agency\, purpose\, and fulfillment as they age. This platform is also a stand against ageism\, advocating for a society that values every stage of life. \nLimit 100. Cost $20. PURCHASE TICKET by 5/22 \nChair Caroline BonN
URL:https://calendarsausalito.com/event/swc-cece-chats-aging-end-of-life-wishes-and-finding-meaning-in-later-life/
LOCATION:Sausalito Center for the Arts\, 750 Bridgeway\, Sausalito\, CA\, 94965\, United States
CATEGORIES:Sausalito Woman's Club (SWC)
END:VEVENT
BEGIN:VEVENT
DTSTART;TZID=America/Los_Angeles:20260617T190000
DTEND;TZID=America/Los_Angeles:20260617T210000
DTSTAMP:20260421T061915
CREATED:20260120T181836Z
LAST-MODIFIED:20260120T181836Z
UID:10002459-1781722800-1781730000@calendarsausalito.com
SUMMARY:SWC: SAUSALITO PLAYERS PERFORMANCE
DESCRIPTION:The Sausalito Players perform staged readings of plays as well as a holiday variety show. All shows are free and snacks and wine are provided. Chair Candace Curtis.
URL:https://calendarsausalito.com/event/swc-sausalito-players-performance-2/
LOCATION:Sausalito Woman’s Club House\, 120 Central Avenue\, Sausalito\, CA\, 94965\, United States
CATEGORIES:Sausalito Woman's Club (SWC)
END:VEVENT
BEGIN:VEVENT
DTSTART;TZID=America/Los_Angeles:20260704T100000
DTEND;TZID=America/Los_Angeles:20260704T120000
DTSTAMP:20260421T061915
CREATED:20260120T180653Z
LAST-MODIFIED:20260120T180653Z
UID:10002453-1783159200-1783166400@calendarsausalito.com
SUMMARY:SWC: FOURTH OF JULY PARADE
DESCRIPTION:
URL:https://calendarsausalito.com/event/swc-fourth-of-july-parade/
LOCATION:Sausalito Woman’s Club House\, 120 Central Avenue\, Sausalito\, CA\, 94965\, United States
CATEGORIES:Sausalito Woman's Club (SWC)
END:VEVENT
END:VCALENDAR