BEGIN:VCALENDAR
VERSION:2.0
PRODID:-//Calendar Sausalito - ECPv6.15.20//NONSGML v1.0//EN
CALSCALE:GREGORIAN
METHOD:PUBLISH
X-WR-CALNAME:Calendar Sausalito
X-ORIGINAL-URL:https://calendarsausalito.com
X-WR-CALDESC:Events for Calendar Sausalito
REFRESH-INTERVAL;VALUE=DURATION:PT1H
X-Robots-Tag:noindex
X-PUBLISHED-TTL:PT1H
BEGIN:VTIMEZONE
TZID:America/Los_Angeles
BEGIN:DAYLIGHT
TZOFFSETFROM:-0800
TZOFFSETTO:-0700
TZNAME:PDT
DTSTART:20250309T100000
END:DAYLIGHT
BEGIN:STANDARD
TZOFFSETFROM:-0700
TZOFFSETTO:-0800
TZNAME:PST
DTSTART:20251102T090000
END:STANDARD
BEGIN:DAYLIGHT
TZOFFSETFROM:-0800
TZOFFSETTO:-0700
TZNAME:PDT
DTSTART:20260308T100000
END:DAYLIGHT
BEGIN:STANDARD
TZOFFSETFROM:-0700
TZOFFSETTO:-0800
TZNAME:PST
DTSTART:20261101T090000
END:STANDARD
BEGIN:DAYLIGHT
TZOFFSETFROM:-0800
TZOFFSETTO:-0700
TZNAME:PDT
DTSTART:20270314T100000
END:DAYLIGHT
BEGIN:STANDARD
TZOFFSETFROM:-0700
TZOFFSETTO:-0800
TZNAME:PST
DTSTART:20271107T090000
END:STANDARD
END:VTIMEZONE
BEGIN:VEVENT
DTSTART;TZID=America/Los_Angeles:20260404T150000
DTEND;TZID=America/Los_Angeles:20260404T170000
DTSTAMP:20260421T081955
CREATED:20260322T054502Z
LAST-MODIFIED:20260322T054519Z
UID:10009833-1775314800-1775322000@calendarsausalito.com
SUMMARY:SWC: SEX\, SCANDAL\, AND MYSTERY IN HOLLYWOOD HISTORY
DESCRIPTION:SEX\, SCANDAL\, AND MYSTERY IN HOLLYWOOD HISTORY\nApril 4 @ 3:00 Pm – 5:00 pm \nCome join Jan Wahl\, a 2-time Emmy winner\, member of the Directors Guild of America\, and long-time SWC club member\, as she takes us on a sexy\, wild journey through Hollywood history. \nWe’ll check out Hollywood scandals that make today’s look tame and learn how sexuality on screen has changed over the years. \nAdults only. Light snacks and no-host bar.
URL:https://calendarsausalito.com/event/1768/
LOCATION:Sausalito Woman’s Club House\, 120 Central Avenue\, Sausalito\, CA\, 94965\, United States
CATEGORIES:Sausalito Woman's Club (SWC)
END:VEVENT
BEGIN:VEVENT
DTSTART;TZID=America/Los_Angeles:20260406T090000
DTEND;TZID=America/Los_Angeles:20260406T140000
DTSTAMP:20260421T081955
CREATED:20260120T175151Z
LAST-MODIFIED:20260120T175151Z
UID:10002444-1775466000-1775484000@calendarsausalito.com
SUMMARY:SWC: STEEP RAVINE LOOP HIKE
DESCRIPTION:Monday\, April 6\, 2026 | 9:00am – Meet at SWC to carpool \n\n\n\n\nThis 7.5-mile loop combines ocean vistas and redwood ravines in one of Marin’s most iconic hikes. We’ll start at Pantoll and descend the Matt Davis Trail toward Stinson Beach\, a mostly downhill 4.5 mile stretch with open coastal views. After lunch at Parkside Café\, we’ll hike back up via the lush and shady Steep Ravine Trail\, ascending through fern-filled canyons and alongside wooden ladders and waterfalls. This is a strenuous but rewarding hike – ideal for strong walkers. Bring water\, a hat\, hiking shoes\, and money for lunch. Poles encouraged. \nRSVP by 4/3 to Co-leaders Susan Watson and Dana Whitson.
URL:https://calendarsausalito.com/event/swc-steep-ravine-loop-hike/
LOCATION:Sausalito Woman’s Club House\, 120 Central Avenue\, Sausalito\, CA\, 94965\, United States
CATEGORIES:Sausalito Woman's Club (SWC)
END:VEVENT
BEGIN:VEVENT
DTSTART;TZID=America/Los_Angeles:20260407T133000
DTEND;TZID=America/Los_Angeles:20260407T153000
DTSTAMP:20260421T081955
CREATED:20260120T164450Z
LAST-MODIFIED:20260120T170621Z
UID:10002248-1775568600-1775575800@calendarsausalito.com
SUMMARY:SWC: MAH JONG
DESCRIPTION:Tuesdays\, October through May\, 1:30 – 3:30 pm\nEveryone with some Mah Jong experience is welcome to play. Players are encouraged to bring a Mahjong set to share. Meetings are in the boardroom at the club or at players’ homes this year. Contact Heidi Snowden to find the location and to arrange for lessons\, if interested. Chair Heidi Snowden 415–887–9028\, heidisnowden@me.com.
URL:https://calendarsausalito.com/event/mah-jong/2026-04-07/
LOCATION:Sausalito Woman’s Club House\, 120 Central Avenue\, Sausalito\, CA\, 94965\, United States
CATEGORIES:Sausalito Woman's Club (SWC)
END:VEVENT
BEGIN:VEVENT
DTSTART;TZID=America/Los_Angeles:20260407T173000
DTEND;TZID=America/Los_Angeles:20260407T190000
DTSTAMP:20260421T081955
CREATED:20260120T175629Z
LAST-MODIFIED:20260120T175658Z
UID:10002445-1775583000-1775588400@calendarsausalito.com
SUMMARY:SWC: INTRODUCTION TO AESTHETIC PRUNING WITH THE MARIN MASTER GARDENER PRUNING GUILD
DESCRIPTION:Wish you knew how to prune your Japanese maple or lemon tree? Join SWC member and Marin Master Gardener Sharna Brockett for an intro to aesthetic pruning. Learn its vision and philosophy\, key concepts like the “What\,” “Why\,” “How\,” and “When\,” and techniques for shaping shrubs and small trees—plus resources to support your pruning journey with confidence.\n\n\n\n\nLimit 20. No charge. RSVP by 4/7 to Chair Sharna Brockett.
URL:https://calendarsausalito.com/event/swc-introduction-to-aesthetic-pruning-with-the-marin-master-gardener-pruning-guild/
LOCATION:Sausalito Woman’s Club House\, 120 Central Avenue\, Sausalito\, CA\, 94965\, United States
CATEGORIES:Sausalito Woman's Club (SWC)
END:VEVENT
BEGIN:VEVENT
DTSTART;TZID=America/Los_Angeles:20260408T180000
DTEND;TZID=America/Los_Angeles:20260408T193000
DTSTAMP:20260421T081955
CREATED:20260317T212701Z
LAST-MODIFIED:20260317T212701Z
UID:10009085-1775671200-1775676600@calendarsausalito.com
SUMMARY:Sausalito Woman's Club: Prospective New Member Open House
DESCRIPTION:Friends and Neighbors Wanted – Our Club has Membership Openings!! \nWe are having a Prospective New Member Open House on Wednesday\, April 8 from 6:00 to 7:30 pm at the Club. Please be thinking about any friends or neighbors that you think might be interested in joining the Club. Bring them with you to the Open House so they can learn more about the Club. This is a casual drop in event\, but we still need to know how many will be coming so RSVP to Donna Bachle at donna_bachle@yahoo.com. \nPlease be aware that changes to the Bylaws were made last Spring regarding sponsorship. The revisions are noted in bold. \nRevised: “The application shall be signed by three sponsors. The primary Sponsor shall have been a member of the Club for one (1) year and shall be in good standing and shall have known the applicant personally for at least one (1) year. The Co-sponsors shall have been a member for one (1) year and shall be in good standing and shall have known the applicant personally for six (6) months. Board members may also sponsor or co-sponsor new applicants. Any Board member who sponsors a potential new member shall recuse herself from any board vote on the admission of that potential new member. Sponsors and Co-sponsors shall not be related to the applicant or to each other. A member can sponsor or co-sponsor up to two (2) applicants per year.
URL:https://calendarsausalito.com/event/sausalito-womans-club-prospective-new-member-open-house/
LOCATION:Sausalito Woman’s Club House\, 120 Central Avenue\, Sausalito\, CA\, 94965\, United States
CATEGORIES:Sausalito Woman's Club (SWC)
END:VEVENT
BEGIN:VEVENT
DTSTART;TZID=America/Los_Angeles:20260414T133000
DTEND;TZID=America/Los_Angeles:20260414T153000
DTSTAMP:20260421T081955
CREATED:20260120T164450Z
LAST-MODIFIED:20260120T170621Z
UID:10002249-1776173400-1776180600@calendarsausalito.com
SUMMARY:SWC: MAH JONG
DESCRIPTION:Tuesdays\, October through May\, 1:30 – 3:30 pm\nEveryone with some Mah Jong experience is welcome to play. Players are encouraged to bring a Mahjong set to share. Meetings are in the boardroom at the club or at players’ homes this year. Contact Heidi Snowden to find the location and to arrange for lessons\, if interested. Chair Heidi Snowden 415–887–9028\, heidisnowden@me.com.
URL:https://calendarsausalito.com/event/mah-jong/2026-04-14/
LOCATION:Sausalito Woman’s Club House\, 120 Central Avenue\, Sausalito\, CA\, 94965\, United States
CATEGORIES:Sausalito Woman's Club (SWC)
END:VEVENT
BEGIN:VEVENT
DTSTART;TZID=America/Los_Angeles:20260418T180000
DTEND;TZID=America/Los_Angeles:20260418T210000
DTSTAMP:20260421T081955
CREATED:20260120T180014Z
LAST-MODIFIED:20260120T180014Z
UID:10002448-1776535200-1776546000@calendarsausalito.com
SUMMARY:SWC: Celebrating 70 Years of Impact: The SWCSRF Black and White Gala
DESCRIPTION:“Dust off your favorite black-and-white attire and join us for an evening of glamour\, stories\, and shared purpose. We’ll celebrate 70 years of scholarships with food\, music\, and sparkling conversation—fueling even more dreams for the decades ahead.” \nProceeds benefit the Sausalito Woman’s Club Scholarship Recognition Fund (SWCSRF)\, 501(c)(3): 68-023-9954 \nThe Evening: \nDoors open 5:30 pm\nDelectable hors d’oeuvers\nOpen bar\nMusic & Dance\nRaffles and auctions \n$95 per ticket\, RSVP by 4/13/2026 \n*Limited Parking (Christ Episcopal Church Lot Available)– Carpool/Uber encouraged \nPurchase Tickets/Sponsor \nBecome a Sponsor – Help Us Support Local Scholars \n\nVisionary Sponsor: $5000\nCommunity Champion: $2\,500-$4\,999\nScholar Advocate: $1\,000-$2\,499\nCommunity Builder: $500-$999\nEducation Ally: $250-$499\nScholar Supporter: $100-$249\nFriends of SWCSRF: up to $99\n\nSponsorship donation is fully tax deductible (ID: 68-0239954). For more information about sponsorship benefit\, click Learn More. \nBecause California law prohibits raffle ticket sales online or by credit card\, advance purchases must be made by contacting treasurer@swcsrf.org\, or you may buy tickets at the event. Raffle tickets are $25 each or 5 for $100
URL:https://calendarsausalito.com/event/swc-celebrating-70-years-of-impact-the-swcsrf-black-and-white-gala/
LOCATION:Sausalito Woman’s Club House\, 120 Central Avenue\, Sausalito\, CA\, 94965\, United States
CATEGORIES:Sausalito Woman's Club (SWC)
END:VEVENT
BEGIN:VEVENT
DTSTART;TZID=America/Los_Angeles:20260420T083000
DTEND;TZID=America/Los_Angeles:20260420T140000
DTSTAMP:20260421T081955
CREATED:20260120T180119Z
LAST-MODIFIED:20260120T180119Z
UID:10002449-1776673800-1776693600@calendarsausalito.com
SUMMARY:SWC: PRESIDIO LOOP HIKE
DESCRIPTION:Monday\, April 20\, 2026 | 8:45am – Meet at SWC to carpool \n\n\nExplore our local National Park gem – the Presidio – on this beautiful 5.5 mile loop starting at Tunnel Tops Park. We’ll walk to Inspiration Point\, continue past the Golf Course\, Mountain Lake\, and the former Public Health Service Hospital to the coastal bluff above Baker Beach. Our route will then take us to the southern end of the Golden Gate Bridge down to Crissy Field and back to the starting point. This hike blends coastal views\, natural beauty\, and rich military history. We’ll enjoy a picnic lunch from Il Parco at the scenic Tunnel Tops park overlooking the Golden Gate Bridge and Sausalito. \nRSVP by 4/17 to Co-leaders Jennifer Gridley and Karen Wilcox.
URL:https://calendarsausalito.com/event/swc-presidio-loop-hike/
LOCATION:Sausalito Woman’s Club House\, 120 Central Avenue\, Sausalito\, CA\, 94965\, United States
CATEGORIES:Sausalito Woman's Club (SWC)
END:VEVENT
BEGIN:VEVENT
DTSTART;TZID=America/Los_Angeles:20260421T133000
DTEND;TZID=America/Los_Angeles:20260421T153000
DTSTAMP:20260421T081955
CREATED:20260120T164450Z
LAST-MODIFIED:20260120T170621Z
UID:10002250-1776778200-1776785400@calendarsausalito.com
SUMMARY:SWC: MAH JONG
DESCRIPTION:Tuesdays\, October through May\, 1:30 – 3:30 pm\nEveryone with some Mah Jong experience is welcome to play. Players are encouraged to bring a Mahjong set to share. Meetings are in the boardroom at the club or at players’ homes this year. Contact Heidi Snowden to find the location and to arrange for lessons\, if interested. Chair Heidi Snowden 415–887–9028\, heidisnowden@me.com.
URL:https://calendarsausalito.com/event/mah-jong/2026-04-21/
LOCATION:Sausalito Woman’s Club House\, 120 Central Avenue\, Sausalito\, CA\, 94965\, United States
CATEGORIES:Sausalito Woman's Club (SWC)
END:VEVENT
BEGIN:VEVENT
DTSTART;TZID=America/Los_Angeles:20260423T183000
DTEND;TZID=America/Los_Angeles:20260423T210000
DTSTAMP:20260421T081956
CREATED:20260120T180314Z
LAST-MODIFIED:20260408T185521Z
UID:10002450-1776969000-1776978000@calendarsausalito.com
SUMMARY:SWC: AN EVENING OF POETRY
DESCRIPTION:An Evening of Poetry\n\n\n\nJoin us for a special community gathering celebrating some of the best poetry of our times \nHear readings from teachers\, clergy\, moms and dads\, business folks\, students\, and award winning poets as they share words that sear\, that soothe\, that jostle our minds and mark our hearts. Committee: Barbara Holmes\, Averel Wilson\, Laurie Tandy\, Karen Roark\, Roberta Malloy\, Maria Paterno\, Cheryl Popp and Leslie Hail. \nLimit 150. No charge.\nRSVP by 4/20 to Barbara Holmes. \n\n\n\nThursday\, April 23\, 2026\n6:30 PM  9:00 PM\nSausalito Woman’s Club (map)\n\n\n\n\n\n\n\n\n\n \n \n\n\n\n\n\n\n\n\n\n\n\nView Event →
URL:https://calendarsausalito.com/event/swc-an-evening-of-poetry/
LOCATION:Sausalito Woman’s Club House\, 120 Central Avenue\, Sausalito\, CA\, 94965\, United States
CATEGORIES:Sausalito Woman's Club (SWC)
END:VEVENT
BEGIN:VEVENT
DTSTART;TZID=America/Los_Angeles:20260426T150000
DTEND;TZID=America/Los_Angeles:20260426T163000
DTSTAMP:20260421T081956
CREATED:20260120T180418Z
LAST-MODIFIED:20260120T180418Z
UID:10002451-1777215600-1777221000@calendarsausalito.com
SUMMARY:SWC: A MAGICAL MUSICAL JOURNEY
DESCRIPTION:Fabulous classical violinist\, Charmian Stewart\, and equally fabulous classical cellist\, Amanda Craver –– The Forget–Me–Knots –– perform traditional Celtic\, Scandinavian\, and American music on the violin\, cello\, Hardanger fiddle\, and Nyckelharpa. Lively tunes and haunting melodies will set the Club reverberating with their fascinating performance. Light refreshments reflective of the program and wine available.\n\n\n  \nLimit 100. Cost $25. PURCHASE TICKET by 4/24\nCo–Chairs Paula Monsef\, Susie Visher.
URL:https://calendarsausalito.com/event/swc-a-magical-musical-journey/
LOCATION:Sausalito Woman’s Club House\, 120 Central Avenue\, Sausalito\, CA\, 94965\, United States
CATEGORIES:Sausalito Woman's Club (SWC)
END:VEVENT
BEGIN:VEVENT
DTSTART;TZID=America/Los_Angeles:20260429T103000
DTEND;TZID=America/Los_Angeles:20260429T113000
DTSTAMP:20260421T081956
CREATED:20260120T180545Z
LAST-MODIFIED:20260120T180545Z
UID:10002452-1777458600-1777462200@calendarsausalito.com
SUMMARY:SWC: FIRE SMART LANDSCAPING
DESCRIPTION:Meet at Southern Marin Fire Station #4 to view their community education native plant and defensible space strategy for reducing wildfire risk around your home with Q&A. Sustainability Chairs Julie Carlson & Laurie Tandy.\n\n\n\n  \nRSVP to Julie Carlson.
URL:https://calendarsausalito.com/event/swc-fire-smart-landscaping/
LOCATION:Sausalito Woman’s Club House\, 120 Central Avenue\, Sausalito\, CA\, 94965\, United States
CATEGORIES:Sausalito Woman's Club (SWC)
END:VEVENT
BEGIN:VEVENT
DTSTART;TZID=America/Los_Angeles:20260501T093000
DTEND;TZID=America/Los_Angeles:20260501T140000
DTSTAMP:20260421T081956
CREATED:20260120T180848Z
LAST-MODIFIED:20260120T180848Z
UID:10002454-1777627800-1777644000@calendarsausalito.com
SUMMARY:SWC: FIELD TRIP TO CURIOUS FLORA (aka ANNIE’S ANNUALS)
DESCRIPTION:Sue Currier and Kim Huff will be your guides on the annual trip to Curious Flora’s wholesale nursery in Richmond to buy spring plants. Lunch to follow at Little Louie’s in Pt Richmond. Carpool from SWC. If it’s raining\, this event will be moved to the following week\, May 8. \nLimit 25. RSVP by 4/24 to Co-Chairs Sue Currier\, Kim Huff.
URL:https://calendarsausalito.com/event/swc-field-trip-to-curious-flora-aka-annies-annuals/
LOCATION:Sausalito Woman’s Club House\, 120 Central Avenue\, Sausalito\, CA\, 94965\, United States
CATEGORIES:Sausalito Woman's Club (SWC)
END:VEVENT
BEGIN:VEVENT
DTSTART;TZID=America/Los_Angeles:20260504T100000
DTEND;TZID=America/Los_Angeles:20260504T130000
DTSTAMP:20260421T081956
CREATED:20260120T180942Z
LAST-MODIFIED:20260120T180942Z
UID:10002455-1777888800-1777899600@calendarsausalito.com
SUMMARY:SWC: MEXICAN TAMALE MAKING WORKSHOP
DESCRIPTION:Learn how to make tamales from scratch in this 2–day workshop. The first day we’ll prepare the chicken filling. The second day we’ll make the masa\, stuff it with filling\, wrap in banana leaves and steam them. Then we’ll enjoy a Cinco de Mayo lunch together. Culinary Committee Event. \nLimit 15. Cost $20. By 4/13 \nPURCHASE TICKET \nChair Heidi Snowden.
URL:https://calendarsausalito.com/event/swc-mexican-tamale-making-workshop/
LOCATION:Sausalito Woman’s Club House\, 120 Central Avenue\, Sausalito\, CA\, 94965\, United States
CATEGORIES:Sausalito Woman's Club (SWC)
END:VEVENT
BEGIN:VEVENT
DTSTART;TZID=America/Los_Angeles:20260505T080000
DTEND;TZID=America/Los_Angeles:20260505T170000
DTSTAMP:20260421T081956
CREATED:20260120T181049Z
LAST-MODIFIED:20260120T181049Z
UID:10002456-1777968000-1778000400@calendarsausalito.com
SUMMARY:SWC: MEXICAN TAMALE MAKING WORKSHOP
DESCRIPTION:Learn how to make tamales from scratch in this 2–day workshop. The first day we’ll prepare the chicken filling. The second day we’ll make the masa\, stuff it with filling\, wrap in banana leaves and steam them. Then we’ll enjoy a Cinco de Mayo lunch together. Culinary Committee Event. \nLimit 15. Cost $20. By 4/13 \nPURCHASE TICKET \nChair Heidi Snowden.
URL:https://calendarsausalito.com/event/swc-mexican-tamale-making-workshop-2/
LOCATION:Sausalito Woman’s Club House\, 120 Central Avenue\, Sausalito\, CA\, 94965\, United States
CATEGORIES:Sausalito Woman's Club (SWC)
END:VEVENT
BEGIN:VEVENT
DTSTART;TZID=America/Los_Angeles:20260513T170000
DTEND;TZID=America/Los_Angeles:20260513T183000
DTSTAMP:20260421T081956
CREATED:20260120T181221Z
LAST-MODIFIED:20260120T181221Z
UID:10002457-1778691600-1778697000@calendarsausalito.com
SUMMARY:SWC: BRING ON THE JOY
DESCRIPTION:A joyful hour of movement and creative activities to music\, guaranteed to bring laughter and connection to one another. Bring back your sense of fun and playfulness and leave all your stress behind! Different workshops each class. Limit 24\, 12 minimum to hold class.\n\n\n\n  \nNo cost. RSVP by 5/ 6 Chair Rayner Needleman.
URL:https://calendarsausalito.com/event/swc-bring-on-the-joy-2/
LOCATION:CA
CATEGORIES:Sausalito Woman's Club (SWC)
END:VEVENT
BEGIN:VEVENT
DTSTART;TZID=America/Los_Angeles:20260514T170000
DTEND;TZID=America/Los_Angeles:20260514T190000
DTSTAMP:20260421T081956
CREATED:20260120T181314Z
LAST-MODIFIED:20260120T181314Z
UID:10002458-1778778000-1778785200@calendarsausalito.com
SUMMARY:SWC: LEGACY GIVING
DESCRIPTION:What will your Legacy be? Seminar with financial planner\, estate lawyer to inform members about estate giving\, to determine best way to support SWC\, its beloved Julia Morgan building\, and the important work it does to support our community’s scholars. Refreshments and appetizers. \nNo limit. No charge. RSVP by 5/7. Chair Holly Stewart.
URL:https://calendarsausalito.com/event/swc-legacy-giving/
LOCATION:Sausalito Woman’s Club House\, 120 Central Avenue\, Sausalito\, CA\, 94965\, United States
CATEGORIES:Sausalito Woman's Club (SWC)
END:VEVENT
BEGIN:VEVENT
DTSTART;TZID=America/Los_Angeles:20260518T083000
DTEND;TZID=America/Los_Angeles:20260518T140000
DTSTAMP:20260421T081956
CREATED:20260120T183440Z
LAST-MODIFIED:20260120T183440Z
UID:10002466-1779093000-1779112800@calendarsausalito.com
SUMMARY:SWC: MT TAM – WEST POINT INN HIKE
DESCRIPTION:Monday\, May 18\, 2026 | 8:45am – Meet at SWC to carpool \nExperience the best of Mt. Tamalpais on this scenic 5-mile loop. Starting at Rock Springs\, we’ll descend to Boot Jack and make our way across the Matt Davis Trail\, taking in the coastal views and traveling on some rugged terrain\, crossing wooden bridges\, and traversing over creeks. Our climb brings us to the historic West Point Inn—an old stagecoach stop nestled in the hills—followed by lunch at the Mountain Theatre\, a beautiful stone amphitheater with panoramic vistas. Bring layers for changing weather\, hiking poles for uneven terrain\, and your own picnic lunch. \nRSVP by 5/15 to Co-leaders Karen Wilcox and Jennifer Gridley.
URL:https://calendarsausalito.com/event/swc-mt-tam-west-point-inn-hike/
LOCATION:CA
CATEGORIES:Sausalito Woman's Club (SWC)
END:VEVENT
BEGIN:VEVENT
DTSTART;TZID=America/Los_Angeles:20260520T183000
DTEND;TZID=America/Los_Angeles:20260520T210000
DTSTAMP:20260421T081956
CREATED:20260120T183345Z
LAST-MODIFIED:20260120T183345Z
UID:10002465-1779301800-1779310800@calendarsausalito.com
SUMMARY:SWC: PRESIDENT’S THANK YOU PARTY
DESCRIPTION:Watch for details! \nChair Renee Lee
URL:https://calendarsausalito.com/event/swc-presidents-thank-you-party/
LOCATION:Sausalito Woman’s Club House\, 120 Central Avenue\, Sausalito\, CA\, 94965\, United States
CATEGORIES:Sausalito Woman's Club (SWC)
END:VEVENT
BEGIN:VEVENT
DTSTART;TZID=America/Los_Angeles:20260521T160000
DTEND;TZID=America/Los_Angeles:20260521T180000
DTSTAMP:20260421T081956
CREATED:20260120T183246Z
LAST-MODIFIED:20260120T183246Z
UID:10002464-1779379200-1779386400@calendarsausalito.com
SUMMARY:SWC: BOOK DISCUSSION: Remarkably Bright Creatures
DESCRIPTION:May 21\, 2026 at 4pm \nRemarkably Bright Creatures by Shelby Van Pelt is a heartwarming story of an unlikely friendship between a grieving widow and a clever octopus. As their bond grows\, buried secrets come to light in this unique and uplifting novel about connection\, loss\, healing\, and second chances. Discussant Elizabeth Pierce.
URL:https://calendarsausalito.com/event/swc-book-discussion-remarkably-bright-creatures/
LOCATION:Sausalito Woman’s Club House\, 120 Central Avenue\, Sausalito\, CA\, 94965\, United States
CATEGORIES:Sausalito Woman's Club (SWC)
END:VEVENT
BEGIN:VEVENT
DTSTART;TZID=America/Los_Angeles:20260527T180000
DTEND;TZID=America/Los_Angeles:20260527T193000
DTSTAMP:20260421T081956
CREATED:20260120T183125Z
LAST-MODIFIED:20260120T183125Z
UID:10002463-1779904800-1779910200@calendarsausalito.com
SUMMARY:SWC: ARTIFICIAL INTELLIGENCE: IT’S REAL AND COMING FOR YOU
DESCRIPTION:Join Edward J. Delp\, The Charles William Harrison Distinguished Professor of Electrical and Computer Engineering and Professor of Biomedical Engineering at Purdue University as he provides an overview of AI\, generated media\, deepfake videos and popular AI tools. The presentation provides an approachable way to learn how AI impacts our daily lives and our world. AI expertise not required to attend. No limit. Light refreshments. Open to the public. \nCost $10. PURCHASE TICKET by 5/20 \nChair Tia Hensler.
URL:https://calendarsausalito.com/event/swc-artificial-intelligence-its-real-and-coming-for-you/
LOCATION:Sausalito Woman’s Club House\, 120 Central Avenue\, Sausalito\, CA\, 94965\, United States
CATEGORIES:Sausalito Woman's Club (SWC)
END:VEVENT
BEGIN:VEVENT
DTSTART;TZID=America/Los_Angeles:20260527T180000
DTEND;TZID=America/Los_Angeles:20260527T193000
DTSTAMP:20260421T081956
CREATED:20260408T181828Z
LAST-MODIFIED:20260408T181828Z
UID:10010047-1779904800-1779910200@calendarsausalito.com
SUMMARY:Sausalito Woman's Club: Prospective New Member Open House
DESCRIPTION:ARTIFICIAL INTELLIGENCE: IT’S REAL AND COMING FOR YOU\n\nMay 27 @ 6:00 pm – 7:30 pm\n10.00$\n\n\n\nJoin Edward J. Delp\, The Charles William Harrison Distinguished Professor of Electrical and Computer Engineering and Professor of Biomedical Engineering at Purdue University as he provides an overview of AI\, generated media\, deepfake videos and popular AI tools. The presentation provides an approachable way to learn how AI impacts our daily lives and our world. AI expertise not required to attend. No limit. Light refreshments. Open to the public. \nCost $10. PURCHASE TICKET by 5/20 \nChair Tia Hensler.
URL:https://calendarsausalito.com/event/sausalito-womans-club-prospective-new-member-open-house-2/
LOCATION:Sausalito Woman’s Club House\, 120 Central Avenue\, Sausalito\, CA\, 94965\, United States
CATEGORIES:Sausalito Woman's Club (SWC)
END:VEVENT
BEGIN:VEVENT
DTSTART;TZID=America/Los_Angeles:20260607T150000
DTEND;TZID=America/Los_Angeles:20260607T173000
DTSTAMP:20260421T081956
CREATED:20260120T182958Z
LAST-MODIFIED:20260120T182958Z
UID:10002462-1780844400-1780853400@calendarsausalito.com
SUMMARY:SWC: SRF SCHOLARSHIP AWARDS
DESCRIPTION:Scholarship 70th Anniversary Annual Award Ceremony \nPlease join us in celebrating the 70th Anniversary of the Sausalito Woman’s Club Scholarship Recognition Fund (SWCSRF) and this year’s inspiring scholarship recipients. Meet the scholars whose dreams are being realized through your continued generosity. The program will be followed by a reception hosted by the SWCSRF Board. \nRSVP by 6/3 to Chair Sylvia Fong.
URL:https://calendarsausalito.com/event/swc-srf-scholarship-awards/
LOCATION:Sausalito Woman’s Club House\, 120 Central Avenue\, Sausalito\, CA\, 94965\, United States
CATEGORIES:Sausalito Woman's Club (SWC)
END:VEVENT
BEGIN:VEVENT
DTSTART;TZID=America/Los_Angeles:20260609T080000
DTEND;TZID=America/Los_Angeles:20260609T140000
DTSTAMP:20260421T081956
CREATED:20260120T182856Z
LAST-MODIFIED:20260120T182856Z
UID:10002461-1780992000-1781013600@calendarsausalito.com
SUMMARY:SWC: HORSE HILL HIKE
DESCRIPTION:Tuesday\, June 9\, 2026 | 9:00am – Meet at SWC to carpool \nWe’ll close out the hiking season with a local favorite—a 4.5-mile loop through Mill Valley’s Escalon Fire Road and Camino Alto Bowl. The trail climbs gradually up the ridge\, rewarding us with views of Horse Hill to (hopefully) meet its grazing equine residents. This scenic and gentle hike is perfect for ending the season on a high note. Lunch to follow at The Cantina\, a lively spot nearby. RSVP by 6/6 to Co-leaders Kathy Atkins-Page and Helen Bennett.
URL:https://calendarsausalito.com/event/swc-horse-hill-hike/
LOCATION:Sausalito Woman’s Club House\, 120 Central Avenue\, Sausalito\, CA\, 94965\, United States
CATEGORIES:Sausalito Woman's Club (SWC)
END:VEVENT
BEGIN:VEVENT
DTSTART;TZID=America/Los_Angeles:20260613T130000
DTEND;TZID=America/Los_Angeles:20260613T150000
DTSTAMP:20260421T081956
CREATED:20260120T182741Z
LAST-MODIFIED:20260120T182741Z
UID:10002460-1781355600-1781362800@calendarsausalito.com
SUMMARY:SWC: CeCe CHATS – AGING\, END–OF–LIFE WISHES\, AND FINDING MEANING IN LATER LIFE
DESCRIPTION:Later Life Coach Cecile “Cece” O’Connor\, a seasoned registered nurse with over forty years of experience\, aims to shed light on the challenges that often go unaddressed\, empowering older adults to find agency\, purpose\, and fulfillment as they age. This platform is also a stand against ageism\, advocating for a society that values every stage of life. \nLimit 100. Cost $20. PURCHASE TICKET by 5/22 \nChair Caroline BonN
URL:https://calendarsausalito.com/event/swc-cece-chats-aging-end-of-life-wishes-and-finding-meaning-in-later-life/
LOCATION:Sausalito Center for the Arts\, 750 Bridgeway\, Sausalito\, CA\, 94965\, United States
CATEGORIES:Sausalito Woman's Club (SWC)
END:VEVENT
BEGIN:VEVENT
DTSTART;TZID=America/Los_Angeles:20260617T190000
DTEND;TZID=America/Los_Angeles:20260617T210000
DTSTAMP:20260421T081956
CREATED:20260120T181836Z
LAST-MODIFIED:20260120T181836Z
UID:10002459-1781722800-1781730000@calendarsausalito.com
SUMMARY:SWC: SAUSALITO PLAYERS PERFORMANCE
DESCRIPTION:The Sausalito Players perform staged readings of plays as well as a holiday variety show. All shows are free and snacks and wine are provided. Chair Candace Curtis.
URL:https://calendarsausalito.com/event/swc-sausalito-players-performance-2/
LOCATION:Sausalito Woman’s Club House\, 120 Central Avenue\, Sausalito\, CA\, 94965\, United States
CATEGORIES:Sausalito Woman's Club (SWC)
END:VEVENT
BEGIN:VEVENT
DTSTART;TZID=America/Los_Angeles:20260704T100000
DTEND;TZID=America/Los_Angeles:20260704T120000
DTSTAMP:20260421T081956
CREATED:20260120T180653Z
LAST-MODIFIED:20260120T180653Z
UID:10002453-1783159200-1783166400@calendarsausalito.com
SUMMARY:SWC: FOURTH OF JULY PARADE
DESCRIPTION:
URL:https://calendarsausalito.com/event/swc-fourth-of-july-parade/
LOCATION:Sausalito Woman’s Club House\, 120 Central Avenue\, Sausalito\, CA\, 94965\, United States
CATEGORIES:Sausalito Woman's Club (SWC)
END:VEVENT
END:VCALENDAR