BEGIN:VCALENDAR
VERSION:2.0
PRODID:-//Calendar Sausalito - ECPv6.15.20//NONSGML v1.0//EN
CALSCALE:GREGORIAN
METHOD:PUBLISH
X-WR-CALNAME:Calendar Sausalito
X-ORIGINAL-URL:https://calendarsausalito.com
X-WR-CALDESC:Events for Calendar Sausalito
REFRESH-INTERVAL;VALUE=DURATION:PT1H
X-Robots-Tag:noindex
X-PUBLISHED-TTL:PT1H
BEGIN:VTIMEZONE
TZID:America/Los_Angeles
BEGIN:DAYLIGHT
TZOFFSETFROM:-0800
TZOFFSETTO:-0700
TZNAME:PDT
DTSTART:20250309T100000
END:DAYLIGHT
BEGIN:STANDARD
TZOFFSETFROM:-0700
TZOFFSETTO:-0800
TZNAME:PST
DTSTART:20251102T090000
END:STANDARD
BEGIN:DAYLIGHT
TZOFFSETFROM:-0800
TZOFFSETTO:-0700
TZNAME:PDT
DTSTART:20260308T100000
END:DAYLIGHT
BEGIN:STANDARD
TZOFFSETFROM:-0700
TZOFFSETTO:-0800
TZNAME:PST
DTSTART:20261101T090000
END:STANDARD
BEGIN:DAYLIGHT
TZOFFSETFROM:-0800
TZOFFSETTO:-0700
TZNAME:PDT
DTSTART:20270314T100000
END:DAYLIGHT
BEGIN:STANDARD
TZOFFSETFROM:-0700
TZOFFSETTO:-0800
TZNAME:PST
DTSTART:20271107T090000
END:STANDARD
END:VTIMEZONE
BEGIN:VEVENT
DTSTART;TZID=America/Los_Angeles:20260327T183000
DTEND;TZID=America/Los_Angeles:20260327T203000
DTSTAMP:20260419T234216
CREATED:20260323T195038Z
LAST-MODIFIED:20260323T195038Z
UID:10009995-1774636200-1774643400@calendarsausalito.com
SUMMARY:Spaulding Marine Center: The Alchemist Quintet
DESCRIPTION:The Alchemist Quintet \n$25.00 – Purchase Tickets\n\n\n\n\n\n\n\n\n\nAn evening of Modern Jazz and Musical Alchemy. \nOne voice\, one breath – modern jazz reimagined through diverse influences and original compositions. \nNotes on a page are bent\, reshaped\, reimagined. Simple elements become more valuable. You might hear a middle ages English dance\, an Indian raga\, a taste of bebop from a college town\, a lush chordal piece with Eastern European influences. An ensemble celebrates their instruments and diverse backgrounds to create music not heard before… but remembers\, newness cannot forget the past. \nMembers of the band have recorded or performed with Ian Anderson/Jethro Tull\, Joe Lovano\, Gloria Estefan\, Jazz Mafia\, Marcos Silva\, Kai Eckhardt (John McLaughlin)\, Terrence Brewer\, Gerald Beckett\, Steve McQuarry\, Oscar Stagnaro (Paquito D’Rivera)\, Resonance Jazz\, Mark Feldman\, Benny Rietveld (Miles Davis\, Santana)\, Barbara Morrison\, Sandy Cressman\, The Stray Horns\, and the Mandala Orchestra; in the US\, Europe\, Mexico\, Argentina\, Brasil\, and in the Bay Area\, notably at SFJazz and Yoshi’s. \nNew CD\, Ghost Radio. \nYoutube videos: \nCastles out of Ashes \nFall Equinox
URL:https://calendarsausalito.com/event/spaulding-marine-center-the-alchemist-quintet/
LOCATION:Spaulding Marine Center\, 600 Gate 5 Rd\, Sausalito\, 94965
CATEGORIES:Spaulding Marine Center
END:VEVENT
BEGIN:VEVENT
DTSTART;TZID=America/Los_Angeles:20260501T180000
DTEND;TZID=America/Los_Angeles:20260501T210000
DTSTAMP:20260419T234216
CREATED:20260323T195238Z
LAST-MODIFIED:20260323T195350Z
UID:10009996-1777658400-1777669200@calendarsausalito.com
SUMMARY:Spaulding Marine Center: Michèle Walther in the One-Woman-Orchestra
DESCRIPTION:Michèle Walther in the One-Woman-Orchestra\n \n\nFriday\, May 1\, 2026\n6:00 PM  9:00 PM\n\n\n\n\n\n\n\n\n\n\nJoin us at Spaulding Marine Center for a special live music show by the water. Expect an intimate performance blending violin\, voice\, and layered sound in a relaxed waterfront setting. More details coming soon.
URL:https://calendarsausalito.com/event/spaulding-marine-center-the-alchemist-quintet-2/
LOCATION:Spaulding Marine Center\, 600 Gate 5 Rd\, Sausalito\, 94965
CATEGORIES:Spaulding Marine Center
END:VEVENT
BEGIN:VEVENT
DTSTART;TZID=America/Los_Angeles:20260606T173000
DTEND;TZID=America/Los_Angeles:20260606T210000
DTSTAMP:20260419T234216
CREATED:20260323T195437Z
LAST-MODIFIED:20260323T195437Z
UID:10009997-1780767000-1780779600@calendarsausalito.com
SUMMARY:Spaulding Marine Center: Summer Party
DESCRIPTION:Summer Party\n \n\nSaturday\, June 6\, 2026\n5:30 PM  9:00 PM\n\n\n\n\n\n\n\n\n\n\nSave the Date for a summer party at Spaulding Marine Center!\nMark your calendar — we’d love to see you there. \nDetails to follow.
URL:https://calendarsausalito.com/event/spaulding-marine-center-summer-party/
LOCATION:Spaulding Marine Center\, 600 Gate 5 Rd\, Sausalito\, 94965
CATEGORIES:Spaulding Marine Center
END:VEVENT
END:VCALENDAR