BEGIN:VCALENDAR
VERSION:2.0
PRODID:-//Calendar Sausalito - ECPv6.15.20//NONSGML v1.0//EN
CALSCALE:GREGORIAN
METHOD:PUBLISH
X-WR-CALNAME:Calendar Sausalito
X-ORIGINAL-URL:https://calendarsausalito.com
X-WR-CALDESC:Events for Calendar Sausalito
REFRESH-INTERVAL;VALUE=DURATION:PT1H
X-Robots-Tag:noindex
X-PUBLISHED-TTL:PT1H
BEGIN:VTIMEZONE
TZID:America/Los_Angeles
BEGIN:DAYLIGHT
TZOFFSETFROM:-0800
TZOFFSETTO:-0700
TZNAME:PDT
DTSTART:20250309T100000
END:DAYLIGHT
BEGIN:STANDARD
TZOFFSETFROM:-0700
TZOFFSETTO:-0800
TZNAME:PST
DTSTART:20251102T090000
END:STANDARD
BEGIN:DAYLIGHT
TZOFFSETFROM:-0800
TZOFFSETTO:-0700
TZNAME:PDT
DTSTART:20260308T100000
END:DAYLIGHT
BEGIN:STANDARD
TZOFFSETFROM:-0700
TZOFFSETTO:-0800
TZNAME:PST
DTSTART:20261101T090000
END:STANDARD
BEGIN:DAYLIGHT
TZOFFSETFROM:-0800
TZOFFSETTO:-0700
TZNAME:PDT
DTSTART:20270314T100000
END:DAYLIGHT
BEGIN:STANDARD
TZOFFSETFROM:-0700
TZOFFSETTO:-0800
TZNAME:PST
DTSTART:20271107T090000
END:STANDARD
END:VTIMEZONE
BEGIN:VEVENT
DTSTART;TZID=America/Los_Angeles:20260522T080000
DTEND;TZID=America/Los_Angeles:20260522T170000
DTSTAMP:20260419T192028
CREATED:20260221T212453Z
LAST-MODIFIED:20260221T212453Z
UID:10008054-1779436800-1779469200@calendarsausalito.com
SUMMARY:SCA: The National Sculpture Society
DESCRIPTION:The National Sculpture Society\n\n\n\n\n\n\n\n\n\nThe National Sculpture Society (NSS) California Community and the Sausalito Center For The Arts is proud to present a juried sculpture show May 22 – June 21\, 2026. \nThe show is open to all sculptors residing west of the Rockies. Participating works will have been juried into the show by NSS. \nThere will be a reception at the Center on the including sculpture demonstrations and talks. Other artists will be at the reception to discuss their work. A $1000 award for the Best in Show\, as judged by the National Sculpture Society.
URL:https://calendarsausalito.com/event/sca-the-national-sculpture-society/2026-05-22/
LOCATION:Sausalito Center for the Arts\, 750 Bridgeway\, Sausalito\, CA\, 94965\, United States
CATEGORIES:Sausalito Center for the Arts (SCA)
END:VEVENT
BEGIN:VEVENT
DTSTART;TZID=America/Los_Angeles:20260523T080000
DTEND;TZID=America/Los_Angeles:20260523T170000
DTSTAMP:20260419T192028
CREATED:20260221T212453Z
LAST-MODIFIED:20260221T212453Z
UID:10008055-1779523200-1779555600@calendarsausalito.com
SUMMARY:SCA: The National Sculpture Society
DESCRIPTION:The National Sculpture Society\n\n\n\n\n\n\n\n\n\nThe National Sculpture Society (NSS) California Community and the Sausalito Center For The Arts is proud to present a juried sculpture show May 22 – June 21\, 2026. \nThe show is open to all sculptors residing west of the Rockies. Participating works will have been juried into the show by NSS. \nThere will be a reception at the Center on the including sculpture demonstrations and talks. Other artists will be at the reception to discuss their work. A $1000 award for the Best in Show\, as judged by the National Sculpture Society.
URL:https://calendarsausalito.com/event/sca-the-national-sculpture-society/2026-05-23/
LOCATION:Sausalito Center for the Arts\, 750 Bridgeway\, Sausalito\, CA\, 94965\, United States
CATEGORIES:Sausalito Center for the Arts (SCA)
END:VEVENT
BEGIN:VEVENT
DTSTART;TZID=America/Los_Angeles:20260524T080000
DTEND;TZID=America/Los_Angeles:20260524T170000
DTSTAMP:20260419T192028
CREATED:20260221T212453Z
LAST-MODIFIED:20260221T212453Z
UID:10008056-1779609600-1779642000@calendarsausalito.com
SUMMARY:SCA: The National Sculpture Society
DESCRIPTION:The National Sculpture Society\n\n\n\n\n\n\n\n\n\nThe National Sculpture Society (NSS) California Community and the Sausalito Center For The Arts is proud to present a juried sculpture show May 22 – June 21\, 2026. \nThe show is open to all sculptors residing west of the Rockies. Participating works will have been juried into the show by NSS. \nThere will be a reception at the Center on the including sculpture demonstrations and talks. Other artists will be at the reception to discuss their work. A $1000 award for the Best in Show\, as judged by the National Sculpture Society.
URL:https://calendarsausalito.com/event/sca-the-national-sculpture-society/2026-05-24/
LOCATION:Sausalito Center for the Arts\, 750 Bridgeway\, Sausalito\, CA\, 94965\, United States
CATEGORIES:Sausalito Center for the Arts (SCA)
END:VEVENT
BEGIN:VEVENT
DTSTART;TZID=America/Los_Angeles:20260527T080000
DTEND;TZID=America/Los_Angeles:20260527T170000
DTSTAMP:20260419T192028
CREATED:20260221T212546Z
LAST-MODIFIED:20260221T212546Z
UID:10008060-1779868800-1779901200@calendarsausalito.com
SUMMARY:SCA: The National Sculpture Society
DESCRIPTION:The National Sculpture Society\n\n\n\n\n\n\n\n\n\nThe National Sculpture Society (NSS) California Community and the Sausalito Center For The Arts is proud to present a juried sculpture show May 22 – June 21\, 2026. \nThe show is open to all sculptors residing west of the Rockies. Participating works will have been juried into the show by NSS. \nThere will be a reception at the Center on the including sculpture demonstrations and talks. Other artists will be at the reception to discuss their work. A $1000 award for the Best in Show\, as judged by the National Sculpture Society.
URL:https://calendarsausalito.com/event/sca-the-national-sculpture-society-2/2026-05-27/
LOCATION:Sausalito Center for the Arts\, 750 Bridgeway\, Sausalito\, CA\, 94965\, United States
CATEGORIES:Sausalito Center for the Arts (SCA)
END:VEVENT
BEGIN:VEVENT
DTSTART;TZID=America/Los_Angeles:20260528T080000
DTEND;TZID=America/Los_Angeles:20260528T170000
DTSTAMP:20260419T192028
CREATED:20260221T212546Z
LAST-MODIFIED:20260221T212546Z
UID:10008061-1779955200-1779987600@calendarsausalito.com
SUMMARY:SCA: The National Sculpture Society
DESCRIPTION:The National Sculpture Society\n\n\n\n\n\n\n\n\n\nThe National Sculpture Society (NSS) California Community and the Sausalito Center For The Arts is proud to present a juried sculpture show May 22 – June 21\, 2026. \nThe show is open to all sculptors residing west of the Rockies. Participating works will have been juried into the show by NSS. \nThere will be a reception at the Center on the including sculpture demonstrations and talks. Other artists will be at the reception to discuss their work. A $1000 award for the Best in Show\, as judged by the National Sculpture Society.
URL:https://calendarsausalito.com/event/sca-the-national-sculpture-society-2/2026-05-28/
LOCATION:Sausalito Center for the Arts\, 750 Bridgeway\, Sausalito\, CA\, 94965\, United States
CATEGORIES:Sausalito Center for the Arts (SCA)
END:VEVENT
BEGIN:VEVENT
DTSTART;TZID=America/Los_Angeles:20260529T080000
DTEND;TZID=America/Los_Angeles:20260529T170000
DTSTAMP:20260419T192028
CREATED:20260221T212546Z
LAST-MODIFIED:20260221T212546Z
UID:10008062-1780041600-1780074000@calendarsausalito.com
SUMMARY:SCA: The National Sculpture Society
DESCRIPTION:The National Sculpture Society\n\n\n\n\n\n\n\n\n\nThe National Sculpture Society (NSS) California Community and the Sausalito Center For The Arts is proud to present a juried sculpture show May 22 – June 21\, 2026. \nThe show is open to all sculptors residing west of the Rockies. Participating works will have been juried into the show by NSS. \nThere will be a reception at the Center on the including sculpture demonstrations and talks. Other artists will be at the reception to discuss their work. A $1000 award for the Best in Show\, as judged by the National Sculpture Society.
URL:https://calendarsausalito.com/event/sca-the-national-sculpture-society-2/2026-05-29/
LOCATION:Sausalito Center for the Arts\, 750 Bridgeway\, Sausalito\, CA\, 94965\, United States
CATEGORIES:Sausalito Center for the Arts (SCA)
END:VEVENT
BEGIN:VEVENT
DTSTART;TZID=America/Los_Angeles:20260530T080000
DTEND;TZID=America/Los_Angeles:20260530T170000
DTSTAMP:20260419T192028
CREATED:20260221T212546Z
LAST-MODIFIED:20260221T212546Z
UID:10008063-1780128000-1780160400@calendarsausalito.com
SUMMARY:SCA: The National Sculpture Society
DESCRIPTION:The National Sculpture Society\n\n\n\n\n\n\n\n\n\nThe National Sculpture Society (NSS) California Community and the Sausalito Center For The Arts is proud to present a juried sculpture show May 22 – June 21\, 2026. \nThe show is open to all sculptors residing west of the Rockies. Participating works will have been juried into the show by NSS. \nThere will be a reception at the Center on the including sculpture demonstrations and talks. Other artists will be at the reception to discuss their work. A $1000 award for the Best in Show\, as judged by the National Sculpture Society.
URL:https://calendarsausalito.com/event/sca-the-national-sculpture-society-2/2026-05-30/
LOCATION:Sausalito Center for the Arts\, 750 Bridgeway\, Sausalito\, CA\, 94965\, United States
CATEGORIES:Sausalito Center for the Arts (SCA)
END:VEVENT
BEGIN:VEVENT
DTSTART;TZID=America/Los_Angeles:20260531T080000
DTEND;TZID=America/Los_Angeles:20260531T170000
DTSTAMP:20260419T192028
CREATED:20260221T212546Z
LAST-MODIFIED:20260221T212546Z
UID:10008064-1780214400-1780246800@calendarsausalito.com
SUMMARY:SCA: The National Sculpture Society
DESCRIPTION:The National Sculpture Society\n\n\n\n\n\n\n\n\n\nThe National Sculpture Society (NSS) California Community and the Sausalito Center For The Arts is proud to present a juried sculpture show May 22 – June 21\, 2026. \nThe show is open to all sculptors residing west of the Rockies. Participating works will have been juried into the show by NSS. \nThere will be a reception at the Center on the including sculpture demonstrations and talks. Other artists will be at the reception to discuss their work. A $1000 award for the Best in Show\, as judged by the National Sculpture Society.
URL:https://calendarsausalito.com/event/sca-the-national-sculpture-society-2/2026-05-31/
LOCATION:Sausalito Center for the Arts\, 750 Bridgeway\, Sausalito\, CA\, 94965\, United States
CATEGORIES:Sausalito Center for the Arts (SCA)
END:VEVENT
BEGIN:VEVENT
DTSTART;TZID=America/Los_Angeles:20260603T080000
DTEND;TZID=America/Los_Angeles:20260603T170000
DTSTAMP:20260419T192028
CREATED:20260221T212633Z
LAST-MODIFIED:20260221T212633Z
UID:10008070-1780473600-1780506000@calendarsausalito.com
SUMMARY:SCA: The National Sculpture Society
DESCRIPTION:The National Sculpture Society\n\n\n\n\n\n\n\n\n\nThe National Sculpture Society (NSS) California Community and the Sausalito Center For The Arts is proud to present a juried sculpture show May 22 – June 21\, 2026. \nThe show is open to all sculptors residing west of the Rockies. Participating works will have been juried into the show by NSS. \nThere will be a reception at the Center on the including sculpture demonstrations and talks. Other artists will be at the reception to discuss their work. A $1000 award for the Best in Show\, as judged by the National Sculpture Society.
URL:https://calendarsausalito.com/event/sca-the-national-sculpture-society-3/2026-06-03/
LOCATION:Sausalito Center for the Arts\, 750 Bridgeway\, Sausalito\, CA\, 94965\, United States
CATEGORIES:Sausalito Center for the Arts (SCA)
END:VEVENT
BEGIN:VEVENT
DTSTART;TZID=America/Los_Angeles:20260604T080000
DTEND;TZID=America/Los_Angeles:20260604T170000
DTSTAMP:20260419T192028
CREATED:20260221T212633Z
LAST-MODIFIED:20260221T212633Z
UID:10008071-1780560000-1780592400@calendarsausalito.com
SUMMARY:SCA: The National Sculpture Society
DESCRIPTION:The National Sculpture Society\n\n\n\n\n\n\n\n\n\nThe National Sculpture Society (NSS) California Community and the Sausalito Center For The Arts is proud to present a juried sculpture show May 22 – June 21\, 2026. \nThe show is open to all sculptors residing west of the Rockies. Participating works will have been juried into the show by NSS. \nThere will be a reception at the Center on the including sculpture demonstrations and talks. Other artists will be at the reception to discuss their work. A $1000 award for the Best in Show\, as judged by the National Sculpture Society.
URL:https://calendarsausalito.com/event/sca-the-national-sculpture-society-3/2026-06-04/
LOCATION:Sausalito Center for the Arts\, 750 Bridgeway\, Sausalito\, CA\, 94965\, United States
CATEGORIES:Sausalito Center for the Arts (SCA)
END:VEVENT
BEGIN:VEVENT
DTSTART;TZID=America/Los_Angeles:20260605T080000
DTEND;TZID=America/Los_Angeles:20260605T170000
DTSTAMP:20260419T192028
CREATED:20260221T212633Z
LAST-MODIFIED:20260221T212633Z
UID:10008072-1780646400-1780678800@calendarsausalito.com
SUMMARY:SCA: The National Sculpture Society
DESCRIPTION:The National Sculpture Society\n\n\n\n\n\n\n\n\n\nThe National Sculpture Society (NSS) California Community and the Sausalito Center For The Arts is proud to present a juried sculpture show May 22 – June 21\, 2026. \nThe show is open to all sculptors residing west of the Rockies. Participating works will have been juried into the show by NSS. \nThere will be a reception at the Center on the including sculpture demonstrations and talks. Other artists will be at the reception to discuss their work. A $1000 award for the Best in Show\, as judged by the National Sculpture Society.
URL:https://calendarsausalito.com/event/sca-the-national-sculpture-society-3/2026-06-05/
LOCATION:Sausalito Center for the Arts\, 750 Bridgeway\, Sausalito\, CA\, 94965\, United States
CATEGORIES:Sausalito Center for the Arts (SCA)
END:VEVENT
BEGIN:VEVENT
DTSTART;TZID=America/Los_Angeles:20260606T080000
DTEND;TZID=America/Los_Angeles:20260606T170000
DTSTAMP:20260419T192028
CREATED:20260221T212633Z
LAST-MODIFIED:20260221T212633Z
UID:10008073-1780732800-1780765200@calendarsausalito.com
SUMMARY:SCA: The National Sculpture Society
DESCRIPTION:The National Sculpture Society\n\n\n\n\n\n\n\n\n\nThe National Sculpture Society (NSS) California Community and the Sausalito Center For The Arts is proud to present a juried sculpture show May 22 – June 21\, 2026. \nThe show is open to all sculptors residing west of the Rockies. Participating works will have been juried into the show by NSS. \nThere will be a reception at the Center on the including sculpture demonstrations and talks. Other artists will be at the reception to discuss their work. A $1000 award for the Best in Show\, as judged by the National Sculpture Society.
URL:https://calendarsausalito.com/event/sca-the-national-sculpture-society-3/2026-06-06/
LOCATION:Sausalito Center for the Arts\, 750 Bridgeway\, Sausalito\, CA\, 94965\, United States
CATEGORIES:Sausalito Center for the Arts (SCA)
END:VEVENT
BEGIN:VEVENT
DTSTART;TZID=America/Los_Angeles:20260607T080000
DTEND;TZID=America/Los_Angeles:20260607T170000
DTSTAMP:20260419T192028
CREATED:20260221T212633Z
LAST-MODIFIED:20260221T212633Z
UID:10008074-1780819200-1780851600@calendarsausalito.com
SUMMARY:SCA: The National Sculpture Society
DESCRIPTION:The National Sculpture Society\n\n\n\n\n\n\n\n\n\nThe National Sculpture Society (NSS) California Community and the Sausalito Center For The Arts is proud to present a juried sculpture show May 22 – June 21\, 2026. \nThe show is open to all sculptors residing west of the Rockies. Participating works will have been juried into the show by NSS. \nThere will be a reception at the Center on the including sculpture demonstrations and talks. Other artists will be at the reception to discuss their work. A $1000 award for the Best in Show\, as judged by the National Sculpture Society.
URL:https://calendarsausalito.com/event/sca-the-national-sculpture-society-3/2026-06-07/
LOCATION:Sausalito Center for the Arts\, 750 Bridgeway\, Sausalito\, CA\, 94965\, United States
CATEGORIES:Sausalito Center for the Arts (SCA)
END:VEVENT
BEGIN:VEVENT
DTSTART;TZID=America/Los_Angeles:20260610T080000
DTEND;TZID=America/Los_Angeles:20260610T170000
DTSTAMP:20260419T192028
CREATED:20260221T212658Z
LAST-MODIFIED:20260221T212658Z
UID:10008080-1781078400-1781110800@calendarsausalito.com
SUMMARY:SCA: The National Sculpture Society
DESCRIPTION:The National Sculpture Society\n\n\n\n\n\n\n\n\n\nThe National Sculpture Society (NSS) California Community and the Sausalito Center For The Arts is proud to present a juried sculpture show May 22 – June 21\, 2026. \nThe show is open to all sculptors residing west of the Rockies. Participating works will have been juried into the show by NSS. \nThere will be a reception at the Center on the including sculpture demonstrations and talks. Other artists will be at the reception to discuss their work. A $1000 award for the Best in Show\, as judged by the National Sculpture Society.
URL:https://calendarsausalito.com/event/sca-the-national-sculpture-society-4/2026-06-10/
LOCATION:Sausalito Center for the Arts\, 750 Bridgeway\, Sausalito\, CA\, 94965\, United States
CATEGORIES:Sausalito Center for the Arts (SCA)
END:VEVENT
BEGIN:VEVENT
DTSTART;TZID=America/Los_Angeles:20260611T080000
DTEND;TZID=America/Los_Angeles:20260611T170000
DTSTAMP:20260419T192028
CREATED:20260221T212658Z
LAST-MODIFIED:20260221T212658Z
UID:10008081-1781164800-1781197200@calendarsausalito.com
SUMMARY:SCA: The National Sculpture Society
DESCRIPTION:The National Sculpture Society\n\n\n\n\n\n\n\n\n\nThe National Sculpture Society (NSS) California Community and the Sausalito Center For The Arts is proud to present a juried sculpture show May 22 – June 21\, 2026. \nThe show is open to all sculptors residing west of the Rockies. Participating works will have been juried into the show by NSS. \nThere will be a reception at the Center on the including sculpture demonstrations and talks. Other artists will be at the reception to discuss their work. A $1000 award for the Best in Show\, as judged by the National Sculpture Society.
URL:https://calendarsausalito.com/event/sca-the-national-sculpture-society-4/2026-06-11/
LOCATION:Sausalito Center for the Arts\, 750 Bridgeway\, Sausalito\, CA\, 94965\, United States
CATEGORIES:Sausalito Center for the Arts (SCA)
END:VEVENT
BEGIN:VEVENT
DTSTART;TZID=America/Los_Angeles:20260612T080000
DTEND;TZID=America/Los_Angeles:20260612T170000
DTSTAMP:20260419T192028
CREATED:20260221T212658Z
LAST-MODIFIED:20260221T212658Z
UID:10008082-1781251200-1781283600@calendarsausalito.com
SUMMARY:SCA: The National Sculpture Society
DESCRIPTION:The National Sculpture Society\n\n\n\n\n\n\n\n\n\nThe National Sculpture Society (NSS) California Community and the Sausalito Center For The Arts is proud to present a juried sculpture show May 22 – June 21\, 2026. \nThe show is open to all sculptors residing west of the Rockies. Participating works will have been juried into the show by NSS. \nThere will be a reception at the Center on the including sculpture demonstrations and talks. Other artists will be at the reception to discuss their work. A $1000 award for the Best in Show\, as judged by the National Sculpture Society.
URL:https://calendarsausalito.com/event/sca-the-national-sculpture-society-4/2026-06-12/
LOCATION:Sausalito Center for the Arts\, 750 Bridgeway\, Sausalito\, CA\, 94965\, United States
CATEGORIES:Sausalito Center for the Arts (SCA)
END:VEVENT
BEGIN:VEVENT
DTSTART;TZID=America/Los_Angeles:20260613T080000
DTEND;TZID=America/Los_Angeles:20260613T170000
DTSTAMP:20260419T192028
CREATED:20260221T212658Z
LAST-MODIFIED:20260221T212658Z
UID:10008083-1781337600-1781370000@calendarsausalito.com
SUMMARY:SCA: The National Sculpture Society
DESCRIPTION:The National Sculpture Society\n\n\n\n\n\n\n\n\n\nThe National Sculpture Society (NSS) California Community and the Sausalito Center For The Arts is proud to present a juried sculpture show May 22 – June 21\, 2026. \nThe show is open to all sculptors residing west of the Rockies. Participating works will have been juried into the show by NSS. \nThere will be a reception at the Center on the including sculpture demonstrations and talks. Other artists will be at the reception to discuss their work. A $1000 award for the Best in Show\, as judged by the National Sculpture Society.
URL:https://calendarsausalito.com/event/sca-the-national-sculpture-society-4/2026-06-13/
LOCATION:Sausalito Center for the Arts\, 750 Bridgeway\, Sausalito\, CA\, 94965\, United States
CATEGORIES:Sausalito Center for the Arts (SCA)
END:VEVENT
BEGIN:VEVENT
DTSTART;TZID=America/Los_Angeles:20260614T080000
DTEND;TZID=America/Los_Angeles:20260614T170000
DTSTAMP:20260419T192028
CREATED:20260221T212658Z
LAST-MODIFIED:20260221T212658Z
UID:10008084-1781424000-1781456400@calendarsausalito.com
SUMMARY:SCA: The National Sculpture Society
DESCRIPTION:The National Sculpture Society\n\n\n\n\n\n\n\n\n\nThe National Sculpture Society (NSS) California Community and the Sausalito Center For The Arts is proud to present a juried sculpture show May 22 – June 21\, 2026. \nThe show is open to all sculptors residing west of the Rockies. Participating works will have been juried into the show by NSS. \nThere will be a reception at the Center on the including sculpture demonstrations and talks. Other artists will be at the reception to discuss their work. A $1000 award for the Best in Show\, as judged by the National Sculpture Society.
URL:https://calendarsausalito.com/event/sca-the-national-sculpture-society-4/2026-06-14/
LOCATION:Sausalito Center for the Arts\, 750 Bridgeway\, Sausalito\, CA\, 94965\, United States
CATEGORIES:Sausalito Center for the Arts (SCA)
END:VEVENT
BEGIN:VEVENT
DTSTART;TZID=America/Los_Angeles:20260617T080000
DTEND;TZID=America/Los_Angeles:20260617T170000
DTSTAMP:20260419T192028
CREATED:20260221T212718Z
LAST-MODIFIED:20260221T212718Z
UID:10008090-1781683200-1781715600@calendarsausalito.com
SUMMARY:SCA: The National Sculpture Society
DESCRIPTION:The National Sculpture Society\n\n\n\n\n\n\n\n\n\nThe National Sculpture Society (NSS) California Community and the Sausalito Center For The Arts is proud to present a juried sculpture show May 22 – June 21\, 2026. \nThe show is open to all sculptors residing west of the Rockies. Participating works will have been juried into the show by NSS. \nThere will be a reception at the Center on the including sculpture demonstrations and talks. Other artists will be at the reception to discuss their work. A $1000 award for the Best in Show\, as judged by the National Sculpture Society.
URL:https://calendarsausalito.com/event/sca-the-national-sculpture-society-5/2026-06-17/
LOCATION:Sausalito Center for the Arts\, 750 Bridgeway\, Sausalito\, CA\, 94965\, United States
CATEGORIES:Sausalito Center for the Arts (SCA)
END:VEVENT
BEGIN:VEVENT
DTSTART;TZID=America/Los_Angeles:20260618T080000
DTEND;TZID=America/Los_Angeles:20260618T170000
DTSTAMP:20260419T192028
CREATED:20260221T212718Z
LAST-MODIFIED:20260221T212718Z
UID:10008091-1781769600-1781802000@calendarsausalito.com
SUMMARY:SCA: The National Sculpture Society
DESCRIPTION:The National Sculpture Society\n\n\n\n\n\n\n\n\n\nThe National Sculpture Society (NSS) California Community and the Sausalito Center For The Arts is proud to present a juried sculpture show May 22 – June 21\, 2026. \nThe show is open to all sculptors residing west of the Rockies. Participating works will have been juried into the show by NSS. \nThere will be a reception at the Center on the including sculpture demonstrations and talks. Other artists will be at the reception to discuss their work. A $1000 award for the Best in Show\, as judged by the National Sculpture Society.
URL:https://calendarsausalito.com/event/sca-the-national-sculpture-society-5/2026-06-18/
LOCATION:Sausalito Center for the Arts\, 750 Bridgeway\, Sausalito\, CA\, 94965\, United States
CATEGORIES:Sausalito Center for the Arts (SCA)
END:VEVENT
BEGIN:VEVENT
DTSTART;TZID=America/Los_Angeles:20260619T080000
DTEND;TZID=America/Los_Angeles:20260619T170000
DTSTAMP:20260419T192028
CREATED:20260221T212718Z
LAST-MODIFIED:20260221T212718Z
UID:10008092-1781856000-1781888400@calendarsausalito.com
SUMMARY:SCA: The National Sculpture Society
DESCRIPTION:The National Sculpture Society\n\n\n\n\n\n\n\n\n\nThe National Sculpture Society (NSS) California Community and the Sausalito Center For The Arts is proud to present a juried sculpture show May 22 – June 21\, 2026. \nThe show is open to all sculptors residing west of the Rockies. Participating works will have been juried into the show by NSS. \nThere will be a reception at the Center on the including sculpture demonstrations and talks. Other artists will be at the reception to discuss their work. A $1000 award for the Best in Show\, as judged by the National Sculpture Society.
URL:https://calendarsausalito.com/event/sca-the-national-sculpture-society-5/2026-06-19/
LOCATION:Sausalito Center for the Arts\, 750 Bridgeway\, Sausalito\, CA\, 94965\, United States
CATEGORIES:Sausalito Center for the Arts (SCA)
END:VEVENT
BEGIN:VEVENT
DTSTART;TZID=America/Los_Angeles:20260620T080000
DTEND;TZID=America/Los_Angeles:20260620T170000
DTSTAMP:20260419T192028
CREATED:20260221T212718Z
LAST-MODIFIED:20260221T212718Z
UID:10008093-1781942400-1781974800@calendarsausalito.com
SUMMARY:SCA: The National Sculpture Society
DESCRIPTION:The National Sculpture Society\n\n\n\n\n\n\n\n\n\nThe National Sculpture Society (NSS) California Community and the Sausalito Center For The Arts is proud to present a juried sculpture show May 22 – June 21\, 2026. \nThe show is open to all sculptors residing west of the Rockies. Participating works will have been juried into the show by NSS. \nThere will be a reception at the Center on the including sculpture demonstrations and talks. Other artists will be at the reception to discuss their work. A $1000 award for the Best in Show\, as judged by the National Sculpture Society.
URL:https://calendarsausalito.com/event/sca-the-national-sculpture-society-5/2026-06-20/
LOCATION:Sausalito Center for the Arts\, 750 Bridgeway\, Sausalito\, CA\, 94965\, United States
CATEGORIES:Sausalito Center for the Arts (SCA)
END:VEVENT
BEGIN:VEVENT
DTSTART;TZID=America/Los_Angeles:20260621T080000
DTEND;TZID=America/Los_Angeles:20260621T170000
DTSTAMP:20260419T192028
CREATED:20260221T212718Z
LAST-MODIFIED:20260221T212718Z
UID:10008094-1782028800-1782061200@calendarsausalito.com
SUMMARY:SCA: The National Sculpture Society
DESCRIPTION:The National Sculpture Society\n\n\n\n\n\n\n\n\n\nThe National Sculpture Society (NSS) California Community and the Sausalito Center For The Arts is proud to present a juried sculpture show May 22 – June 21\, 2026. \nThe show is open to all sculptors residing west of the Rockies. Participating works will have been juried into the show by NSS. \nThere will be a reception at the Center on the including sculpture demonstrations and talks. Other artists will be at the reception to discuss their work. A $1000 award for the Best in Show\, as judged by the National Sculpture Society.
URL:https://calendarsausalito.com/event/sca-the-national-sculpture-society-5/2026-06-21/
LOCATION:Sausalito Center for the Arts\, 750 Bridgeway\, Sausalito\, CA\, 94965\, United States
CATEGORIES:Sausalito Center for the Arts (SCA)
END:VEVENT
END:VCALENDAR