BEGIN:VCALENDAR
VERSION:2.0
PRODID:-//Calendar Sausalito - ECPv6.15.20//NONSGML v1.0//EN
CALSCALE:GREGORIAN
METHOD:PUBLISH
X-WR-CALNAME:Calendar Sausalito
X-ORIGINAL-URL:https://calendarsausalito.com
X-WR-CALDESC:Events for Calendar Sausalito
REFRESH-INTERVAL;VALUE=DURATION:PT1H
X-Robots-Tag:noindex
X-PUBLISHED-TTL:PT1H
BEGIN:VTIMEZONE
TZID:America/Los_Angeles
BEGIN:DAYLIGHT
TZOFFSETFROM:-0800
TZOFFSETTO:-0700
TZNAME:PDT
DTSTART:20250309T100000
END:DAYLIGHT
BEGIN:STANDARD
TZOFFSETFROM:-0700
TZOFFSETTO:-0800
TZNAME:PST
DTSTART:20251102T090000
END:STANDARD
BEGIN:DAYLIGHT
TZOFFSETFROM:-0800
TZOFFSETTO:-0700
TZNAME:PDT
DTSTART:20260308T100000
END:DAYLIGHT
BEGIN:STANDARD
TZOFFSETFROM:-0700
TZOFFSETTO:-0800
TZNAME:PST
DTSTART:20261101T090000
END:STANDARD
BEGIN:DAYLIGHT
TZOFFSETFROM:-0800
TZOFFSETTO:-0700
TZNAME:PDT
DTSTART:20270314T100000
END:DAYLIGHT
BEGIN:STANDARD
TZOFFSETFROM:-0700
TZOFFSETTO:-0800
TZNAME:PST
DTSTART:20271107T090000
END:STANDARD
BEGIN:DAYLIGHT
TZOFFSETFROM:-0800
TZOFFSETTO:-0700
TZNAME:PDT
DTSTART:20280312T100000
END:DAYLIGHT
BEGIN:STANDARD
TZOFFSETFROM:-0700
TZOFFSETTO:-0800
TZNAME:PST
DTSTART:20281105T090000
END:STANDARD
BEGIN:DAYLIGHT
TZOFFSETFROM:-0800
TZOFFSETTO:-0700
TZNAME:PDT
DTSTART:20290311T100000
END:DAYLIGHT
BEGIN:STANDARD
TZOFFSETFROM:-0700
TZOFFSETTO:-0800
TZNAME:PST
DTSTART:20291104T090000
END:STANDARD
END:VTIMEZONE
BEGIN:VEVENT
DTSTART;TZID=America/Los_Angeles:20260501T110000
DTEND;TZID=America/Los_Angeles:20260501T120000
DTSTAMP:20260419T104108
CREATED:20251226T210915Z
LAST-MODIFIED:20251231T231105Z
UID:10000334-1777633200-1777636800@calendarsausalito.com
SUMMARY:Sausalito Library: Soul4Kidz Music
DESCRIPTION:Soul4Kidz Music\nEvery 1st Friday Soul4Kidz performs music in the park for babies\, toddlers\, preschoolers\, and caregivers! Sing along and dance to soulful twists on songs like Baby Shark\, The Wheels on the Bus\, I’m a Little Teapot\, Happy\, You Are My Sunshine\, Three Little Birds\, and many more! Great for ages 0-5. \n\nFor more information about Soul4Kids visit www.facebook.com/soul4kidz 
URL:https://calendarsausalito.com/event/soul4kidz-music/2026-05-01/
LOCATION:Robin Sweeny Park\, Caledonia Street at Litho Street\, Sausalito\, CA\, 94965\, United States
CATEGORIES:Sausalito Library
END:VEVENT
BEGIN:VEVENT
DTSTART;TZID=America/Los_Angeles:20260605T110000
DTEND;TZID=America/Los_Angeles:20260605T120000
DTSTAMP:20260419T104108
CREATED:20251226T210915Z
LAST-MODIFIED:20251231T231105Z
UID:10000335-1780657200-1780660800@calendarsausalito.com
SUMMARY:Sausalito Library: Soul4Kidz Music
DESCRIPTION:Soul4Kidz Music\nEvery 1st Friday Soul4Kidz performs music in the park for babies\, toddlers\, preschoolers\, and caregivers! Sing along and dance to soulful twists on songs like Baby Shark\, The Wheels on the Bus\, I’m a Little Teapot\, Happy\, You Are My Sunshine\, Three Little Birds\, and many more! Great for ages 0-5. \n\nFor more information about Soul4Kids visit www.facebook.com/soul4kidz 
URL:https://calendarsausalito.com/event/soul4kidz-music/2026-06-05/
LOCATION:Robin Sweeny Park\, Caledonia Street at Litho Street\, Sausalito\, CA\, 94965\, United States
CATEGORIES:Sausalito Library
END:VEVENT
BEGIN:VEVENT
DTSTART;TZID=America/Los_Angeles:20260703T110000
DTEND;TZID=America/Los_Angeles:20260703T120000
DTSTAMP:20260419T104108
CREATED:20251226T210915Z
LAST-MODIFIED:20251231T231105Z
UID:10000336-1783076400-1783080000@calendarsausalito.com
SUMMARY:Sausalito Library: Soul4Kidz Music
DESCRIPTION:Soul4Kidz Music\nEvery 1st Friday Soul4Kidz performs music in the park for babies\, toddlers\, preschoolers\, and caregivers! Sing along and dance to soulful twists on songs like Baby Shark\, The Wheels on the Bus\, I’m a Little Teapot\, Happy\, You Are My Sunshine\, Three Little Birds\, and many more! Great for ages 0-5. \n\nFor more information about Soul4Kids visit www.facebook.com/soul4kidz 
URL:https://calendarsausalito.com/event/soul4kidz-music/2026-07-03/
LOCATION:Robin Sweeny Park\, Caledonia Street at Litho Street\, Sausalito\, CA\, 94965\, United States
CATEGORIES:Sausalito Library
END:VEVENT
BEGIN:VEVENT
DTSTART;TZID=America/Los_Angeles:20260807T110000
DTEND;TZID=America/Los_Angeles:20260807T120000
DTSTAMP:20260419T104108
CREATED:20251226T210915Z
LAST-MODIFIED:20251231T231105Z
UID:10000337-1786100400-1786104000@calendarsausalito.com
SUMMARY:Sausalito Library: Soul4Kidz Music
DESCRIPTION:Soul4Kidz Music\nEvery 1st Friday Soul4Kidz performs music in the park for babies\, toddlers\, preschoolers\, and caregivers! Sing along and dance to soulful twists on songs like Baby Shark\, The Wheels on the Bus\, I’m a Little Teapot\, Happy\, You Are My Sunshine\, Three Little Birds\, and many more! Great for ages 0-5. \n\nFor more information about Soul4Kids visit www.facebook.com/soul4kidz 
URL:https://calendarsausalito.com/event/soul4kidz-music/2026-08-07/
LOCATION:Robin Sweeny Park\, Caledonia Street at Litho Street\, Sausalito\, CA\, 94965\, United States
CATEGORIES:Sausalito Library
END:VEVENT
BEGIN:VEVENT
DTSTART;TZID=America/Los_Angeles:20260904T110000
DTEND;TZID=America/Los_Angeles:20260904T120000
DTSTAMP:20260419T104108
CREATED:20251226T210915Z
LAST-MODIFIED:20251231T231105Z
UID:10000338-1788519600-1788523200@calendarsausalito.com
SUMMARY:Sausalito Library: Soul4Kidz Music
DESCRIPTION:Soul4Kidz Music\nEvery 1st Friday Soul4Kidz performs music in the park for babies\, toddlers\, preschoolers\, and caregivers! Sing along and dance to soulful twists on songs like Baby Shark\, The Wheels on the Bus\, I’m a Little Teapot\, Happy\, You Are My Sunshine\, Three Little Birds\, and many more! Great for ages 0-5. \n\nFor more information about Soul4Kids visit www.facebook.com/soul4kidz 
URL:https://calendarsausalito.com/event/soul4kidz-music/2026-09-04/
LOCATION:Robin Sweeny Park\, Caledonia Street at Litho Street\, Sausalito\, CA\, 94965\, United States
CATEGORIES:Sausalito Library
END:VEVENT
BEGIN:VEVENT
DTSTART;TZID=America/Los_Angeles:20261002T110000
DTEND;TZID=America/Los_Angeles:20261002T120000
DTSTAMP:20260419T104108
CREATED:20251226T210915Z
LAST-MODIFIED:20251231T231105Z
UID:10000339-1790938800-1790942400@calendarsausalito.com
SUMMARY:Sausalito Library: Soul4Kidz Music
DESCRIPTION:Soul4Kidz Music\nEvery 1st Friday Soul4Kidz performs music in the park for babies\, toddlers\, preschoolers\, and caregivers! Sing along and dance to soulful twists on songs like Baby Shark\, The Wheels on the Bus\, I’m a Little Teapot\, Happy\, You Are My Sunshine\, Three Little Birds\, and many more! Great for ages 0-5. \n\nFor more information about Soul4Kids visit www.facebook.com/soul4kidz 
URL:https://calendarsausalito.com/event/soul4kidz-music/2026-10-02/
LOCATION:Robin Sweeny Park\, Caledonia Street at Litho Street\, Sausalito\, CA\, 94965\, United States
CATEGORIES:Sausalito Library
END:VEVENT
BEGIN:VEVENT
DTSTART;TZID=America/Los_Angeles:20261106T110000
DTEND;TZID=America/Los_Angeles:20261106T120000
DTSTAMP:20260419T104108
CREATED:20251226T210915Z
LAST-MODIFIED:20251231T231105Z
UID:10000340-1793962800-1793966400@calendarsausalito.com
SUMMARY:Sausalito Library: Soul4Kidz Music
DESCRIPTION:Soul4Kidz Music\nEvery 1st Friday Soul4Kidz performs music in the park for babies\, toddlers\, preschoolers\, and caregivers! Sing along and dance to soulful twists on songs like Baby Shark\, The Wheels on the Bus\, I’m a Little Teapot\, Happy\, You Are My Sunshine\, Three Little Birds\, and many more! Great for ages 0-5. \n\nFor more information about Soul4Kids visit www.facebook.com/soul4kidz 
URL:https://calendarsausalito.com/event/soul4kidz-music/2026-11-06/
LOCATION:Robin Sweeny Park\, Caledonia Street at Litho Street\, Sausalito\, CA\, 94965\, United States
CATEGORIES:Sausalito Library
END:VEVENT
BEGIN:VEVENT
DTSTART;TZID=America/Los_Angeles:20261204T110000
DTEND;TZID=America/Los_Angeles:20261204T120000
DTSTAMP:20260419T104108
CREATED:20251226T210915Z
LAST-MODIFIED:20251231T231105Z
UID:10000341-1796382000-1796385600@calendarsausalito.com
SUMMARY:Sausalito Library: Soul4Kidz Music
DESCRIPTION:Soul4Kidz Music\nEvery 1st Friday Soul4Kidz performs music in the park for babies\, toddlers\, preschoolers\, and caregivers! Sing along and dance to soulful twists on songs like Baby Shark\, The Wheels on the Bus\, I’m a Little Teapot\, Happy\, You Are My Sunshine\, Three Little Birds\, and many more! Great for ages 0-5. \n\nFor more information about Soul4Kids visit www.facebook.com/soul4kidz 
URL:https://calendarsausalito.com/event/soul4kidz-music/2026-12-04/
LOCATION:Robin Sweeny Park\, Caledonia Street at Litho Street\, Sausalito\, CA\, 94965\, United States
CATEGORIES:Sausalito Library
END:VEVENT
BEGIN:VEVENT
DTSTART;TZID=America/Los_Angeles:20270101T110000
DTEND;TZID=America/Los_Angeles:20270101T120000
DTSTAMP:20260419T104108
CREATED:20251226T210915Z
LAST-MODIFIED:20251231T231105Z
UID:10000342-1798801200-1798804800@calendarsausalito.com
SUMMARY:Sausalito Library: Soul4Kidz Music
DESCRIPTION:Soul4Kidz Music\nEvery 1st Friday Soul4Kidz performs music in the park for babies\, toddlers\, preschoolers\, and caregivers! Sing along and dance to soulful twists on songs like Baby Shark\, The Wheels on the Bus\, I’m a Little Teapot\, Happy\, You Are My Sunshine\, Three Little Birds\, and many more! Great for ages 0-5. \n\nFor more information about Soul4Kids visit www.facebook.com/soul4kidz 
URL:https://calendarsausalito.com/event/soul4kidz-music/2027-01-01/
LOCATION:Robin Sweeny Park\, Caledonia Street at Litho Street\, Sausalito\, CA\, 94965\, United States
CATEGORIES:Sausalito Library
END:VEVENT
BEGIN:VEVENT
DTSTART;TZID=America/Los_Angeles:20270205T110000
DTEND;TZID=America/Los_Angeles:20270205T120000
DTSTAMP:20260419T104108
CREATED:20251226T210915Z
LAST-MODIFIED:20251231T231105Z
UID:10000343-1801825200-1801828800@calendarsausalito.com
SUMMARY:Sausalito Library: Soul4Kidz Music
DESCRIPTION:Soul4Kidz Music\nEvery 1st Friday Soul4Kidz performs music in the park for babies\, toddlers\, preschoolers\, and caregivers! Sing along and dance to soulful twists on songs like Baby Shark\, The Wheels on the Bus\, I’m a Little Teapot\, Happy\, You Are My Sunshine\, Three Little Birds\, and many more! Great for ages 0-5. \n\nFor more information about Soul4Kids visit www.facebook.com/soul4kidz 
URL:https://calendarsausalito.com/event/soul4kidz-music/2027-02-05/
LOCATION:Robin Sweeny Park\, Caledonia Street at Litho Street\, Sausalito\, CA\, 94965\, United States
CATEGORIES:Sausalito Library
END:VEVENT
BEGIN:VEVENT
DTSTART;TZID=America/Los_Angeles:20270305T110000
DTEND;TZID=America/Los_Angeles:20270305T120000
DTSTAMP:20260419T104108
CREATED:20251226T210915Z
LAST-MODIFIED:20251231T231105Z
UID:10000344-1804244400-1804248000@calendarsausalito.com
SUMMARY:Sausalito Library: Soul4Kidz Music
DESCRIPTION:Soul4Kidz Music\nEvery 1st Friday Soul4Kidz performs music in the park for babies\, toddlers\, preschoolers\, and caregivers! Sing along and dance to soulful twists on songs like Baby Shark\, The Wheels on the Bus\, I’m a Little Teapot\, Happy\, You Are My Sunshine\, Three Little Birds\, and many more! Great for ages 0-5. \n\nFor more information about Soul4Kids visit www.facebook.com/soul4kidz 
URL:https://calendarsausalito.com/event/soul4kidz-music/2027-03-05/
LOCATION:Robin Sweeny Park\, Caledonia Street at Litho Street\, Sausalito\, CA\, 94965\, United States
CATEGORIES:Sausalito Library
END:VEVENT
BEGIN:VEVENT
DTSTART;TZID=America/Los_Angeles:20270402T110000
DTEND;TZID=America/Los_Angeles:20270402T120000
DTSTAMP:20260419T104108
CREATED:20251226T210915Z
LAST-MODIFIED:20251231T231105Z
UID:10000345-1806663600-1806667200@calendarsausalito.com
SUMMARY:Sausalito Library: Soul4Kidz Music
DESCRIPTION:Soul4Kidz Music\nEvery 1st Friday Soul4Kidz performs music in the park for babies\, toddlers\, preschoolers\, and caregivers! Sing along and dance to soulful twists on songs like Baby Shark\, The Wheels on the Bus\, I’m a Little Teapot\, Happy\, You Are My Sunshine\, Three Little Birds\, and many more! Great for ages 0-5. \n\nFor more information about Soul4Kids visit www.facebook.com/soul4kidz 
URL:https://calendarsausalito.com/event/soul4kidz-music/2027-04-02/
LOCATION:Robin Sweeny Park\, Caledonia Street at Litho Street\, Sausalito\, CA\, 94965\, United States
CATEGORIES:Sausalito Library
END:VEVENT
BEGIN:VEVENT
DTSTART;TZID=America/Los_Angeles:20270507T110000
DTEND;TZID=America/Los_Angeles:20270507T120000
DTSTAMP:20260419T104108
CREATED:20251226T210915Z
LAST-MODIFIED:20251231T231105Z
UID:10000346-1809687600-1809691200@calendarsausalito.com
SUMMARY:Sausalito Library: Soul4Kidz Music
DESCRIPTION:Soul4Kidz Music\nEvery 1st Friday Soul4Kidz performs music in the park for babies\, toddlers\, preschoolers\, and caregivers! Sing along and dance to soulful twists on songs like Baby Shark\, The Wheels on the Bus\, I’m a Little Teapot\, Happy\, You Are My Sunshine\, Three Little Birds\, and many more! Great for ages 0-5. \n\nFor more information about Soul4Kids visit www.facebook.com/soul4kidz 
URL:https://calendarsausalito.com/event/soul4kidz-music/2027-05-07/
LOCATION:Robin Sweeny Park\, Caledonia Street at Litho Street\, Sausalito\, CA\, 94965\, United States
CATEGORIES:Sausalito Library
END:VEVENT
BEGIN:VEVENT
DTSTART;TZID=America/Los_Angeles:20270604T110000
DTEND;TZID=America/Los_Angeles:20270604T120000
DTSTAMP:20260419T104108
CREATED:20251226T210915Z
LAST-MODIFIED:20251231T231105Z
UID:10000347-1812106800-1812110400@calendarsausalito.com
SUMMARY:Sausalito Library: Soul4Kidz Music
DESCRIPTION:Soul4Kidz Music\nEvery 1st Friday Soul4Kidz performs music in the park for babies\, toddlers\, preschoolers\, and caregivers! Sing along and dance to soulful twists on songs like Baby Shark\, The Wheels on the Bus\, I’m a Little Teapot\, Happy\, You Are My Sunshine\, Three Little Birds\, and many more! Great for ages 0-5. \n\nFor more information about Soul4Kids visit www.facebook.com/soul4kidz 
URL:https://calendarsausalito.com/event/soul4kidz-music/2027-06-04/
LOCATION:Robin Sweeny Park\, Caledonia Street at Litho Street\, Sausalito\, CA\, 94965\, United States
CATEGORIES:Sausalito Library
END:VEVENT
BEGIN:VEVENT
DTSTART;TZID=America/Los_Angeles:20270702T110000
DTEND;TZID=America/Los_Angeles:20270702T120000
DTSTAMP:20260419T104108
CREATED:20251226T210915Z
LAST-MODIFIED:20251231T231105Z
UID:10000348-1814526000-1814529600@calendarsausalito.com
SUMMARY:Sausalito Library: Soul4Kidz Music
DESCRIPTION:Soul4Kidz Music\nEvery 1st Friday Soul4Kidz performs music in the park for babies\, toddlers\, preschoolers\, and caregivers! Sing along and dance to soulful twists on songs like Baby Shark\, The Wheels on the Bus\, I’m a Little Teapot\, Happy\, You Are My Sunshine\, Three Little Birds\, and many more! Great for ages 0-5. \n\nFor more information about Soul4Kids visit www.facebook.com/soul4kidz 
URL:https://calendarsausalito.com/event/soul4kidz-music/2027-07-02/
LOCATION:Robin Sweeny Park\, Caledonia Street at Litho Street\, Sausalito\, CA\, 94965\, United States
CATEGORIES:Sausalito Library
END:VEVENT
BEGIN:VEVENT
DTSTART;TZID=America/Los_Angeles:20270806T110000
DTEND;TZID=America/Los_Angeles:20270806T120000
DTSTAMP:20260419T104108
CREATED:20251226T210915Z
LAST-MODIFIED:20251231T231105Z
UID:10000349-1817550000-1817553600@calendarsausalito.com
SUMMARY:Sausalito Library: Soul4Kidz Music
DESCRIPTION:Soul4Kidz Music\nEvery 1st Friday Soul4Kidz performs music in the park for babies\, toddlers\, preschoolers\, and caregivers! Sing along and dance to soulful twists on songs like Baby Shark\, The Wheels on the Bus\, I’m a Little Teapot\, Happy\, You Are My Sunshine\, Three Little Birds\, and many more! Great for ages 0-5. \n\nFor more information about Soul4Kids visit www.facebook.com/soul4kidz 
URL:https://calendarsausalito.com/event/soul4kidz-music/2027-08-06/
LOCATION:Robin Sweeny Park\, Caledonia Street at Litho Street\, Sausalito\, CA\, 94965\, United States
CATEGORIES:Sausalito Library
END:VEVENT
BEGIN:VEVENT
DTSTART;TZID=America/Los_Angeles:20270903T110000
DTEND;TZID=America/Los_Angeles:20270903T120000
DTSTAMP:20260419T104108
CREATED:20251226T210915Z
LAST-MODIFIED:20251231T231105Z
UID:10000350-1819969200-1819972800@calendarsausalito.com
SUMMARY:Sausalito Library: Soul4Kidz Music
DESCRIPTION:Soul4Kidz Music\nEvery 1st Friday Soul4Kidz performs music in the park for babies\, toddlers\, preschoolers\, and caregivers! Sing along and dance to soulful twists on songs like Baby Shark\, The Wheels on the Bus\, I’m a Little Teapot\, Happy\, You Are My Sunshine\, Three Little Birds\, and many more! Great for ages 0-5. \n\nFor more information about Soul4Kids visit www.facebook.com/soul4kidz 
URL:https://calendarsausalito.com/event/soul4kidz-music/2027-09-03/
LOCATION:Robin Sweeny Park\, Caledonia Street at Litho Street\, Sausalito\, CA\, 94965\, United States
CATEGORIES:Sausalito Library
END:VEVENT
BEGIN:VEVENT
DTSTART;TZID=America/Los_Angeles:20271001T110000
DTEND;TZID=America/Los_Angeles:20271001T120000
DTSTAMP:20260419T104108
CREATED:20251226T210915Z
LAST-MODIFIED:20251231T231105Z
UID:10000351-1822388400-1822392000@calendarsausalito.com
SUMMARY:Sausalito Library: Soul4Kidz Music
DESCRIPTION:Soul4Kidz Music\nEvery 1st Friday Soul4Kidz performs music in the park for babies\, toddlers\, preschoolers\, and caregivers! Sing along and dance to soulful twists on songs like Baby Shark\, The Wheels on the Bus\, I’m a Little Teapot\, Happy\, You Are My Sunshine\, Three Little Birds\, and many more! Great for ages 0-5. \n\nFor more information about Soul4Kids visit www.facebook.com/soul4kidz 
URL:https://calendarsausalito.com/event/soul4kidz-music/2027-10-01/
LOCATION:Robin Sweeny Park\, Caledonia Street at Litho Street\, Sausalito\, CA\, 94965\, United States
CATEGORIES:Sausalito Library
END:VEVENT
BEGIN:VEVENT
DTSTART;TZID=America/Los_Angeles:20271105T110000
DTEND;TZID=America/Los_Angeles:20271105T120000
DTSTAMP:20260419T104108
CREATED:20251226T210915Z
LAST-MODIFIED:20251231T231105Z
UID:10000352-1825412400-1825416000@calendarsausalito.com
SUMMARY:Sausalito Library: Soul4Kidz Music
DESCRIPTION:Soul4Kidz Music\nEvery 1st Friday Soul4Kidz performs music in the park for babies\, toddlers\, preschoolers\, and caregivers! Sing along and dance to soulful twists on songs like Baby Shark\, The Wheels on the Bus\, I’m a Little Teapot\, Happy\, You Are My Sunshine\, Three Little Birds\, and many more! Great for ages 0-5. \n\nFor more information about Soul4Kids visit www.facebook.com/soul4kidz 
URL:https://calendarsausalito.com/event/soul4kidz-music/2027-11-05/
LOCATION:Robin Sweeny Park\, Caledonia Street at Litho Street\, Sausalito\, CA\, 94965\, United States
CATEGORIES:Sausalito Library
END:VEVENT
BEGIN:VEVENT
DTSTART;TZID=America/Los_Angeles:20271203T110000
DTEND;TZID=America/Los_Angeles:20271203T120000
DTSTAMP:20260419T104108
CREATED:20251226T210915Z
LAST-MODIFIED:20251231T231105Z
UID:10000353-1827831600-1827835200@calendarsausalito.com
SUMMARY:Sausalito Library: Soul4Kidz Music
DESCRIPTION:Soul4Kidz Music\nEvery 1st Friday Soul4Kidz performs music in the park for babies\, toddlers\, preschoolers\, and caregivers! Sing along and dance to soulful twists on songs like Baby Shark\, The Wheels on the Bus\, I’m a Little Teapot\, Happy\, You Are My Sunshine\, Three Little Birds\, and many more! Great for ages 0-5. \n\nFor more information about Soul4Kids visit www.facebook.com/soul4kidz 
URL:https://calendarsausalito.com/event/soul4kidz-music/2027-12-03/
LOCATION:Robin Sweeny Park\, Caledonia Street at Litho Street\, Sausalito\, CA\, 94965\, United States
CATEGORIES:Sausalito Library
END:VEVENT
BEGIN:VEVENT
DTSTART;TZID=America/Los_Angeles:20280107T110000
DTEND;TZID=America/Los_Angeles:20280107T120000
DTSTAMP:20260419T104108
CREATED:20251226T210915Z
LAST-MODIFIED:20251231T231105Z
UID:10000354-1830855600-1830859200@calendarsausalito.com
SUMMARY:Sausalito Library: Soul4Kidz Music
DESCRIPTION:Soul4Kidz Music\nEvery 1st Friday Soul4Kidz performs music in the park for babies\, toddlers\, preschoolers\, and caregivers! Sing along and dance to soulful twists on songs like Baby Shark\, The Wheels on the Bus\, I’m a Little Teapot\, Happy\, You Are My Sunshine\, Three Little Birds\, and many more! Great for ages 0-5. \n\nFor more information about Soul4Kids visit www.facebook.com/soul4kidz 
URL:https://calendarsausalito.com/event/soul4kidz-music/2028-01-07/
LOCATION:Robin Sweeny Park\, Caledonia Street at Litho Street\, Sausalito\, CA\, 94965\, United States
CATEGORIES:Sausalito Library
END:VEVENT
BEGIN:VEVENT
DTSTART;TZID=America/Los_Angeles:20280204T110000
DTEND;TZID=America/Los_Angeles:20280204T120000
DTSTAMP:20260419T104108
CREATED:20251226T210915Z
LAST-MODIFIED:20251231T231105Z
UID:10000355-1833274800-1833278400@calendarsausalito.com
SUMMARY:Sausalito Library: Soul4Kidz Music
DESCRIPTION:Soul4Kidz Music\nEvery 1st Friday Soul4Kidz performs music in the park for babies\, toddlers\, preschoolers\, and caregivers! Sing along and dance to soulful twists on songs like Baby Shark\, The Wheels on the Bus\, I’m a Little Teapot\, Happy\, You Are My Sunshine\, Three Little Birds\, and many more! Great for ages 0-5. \n\nFor more information about Soul4Kids visit www.facebook.com/soul4kidz 
URL:https://calendarsausalito.com/event/soul4kidz-music/2028-02-04/
LOCATION:Robin Sweeny Park\, Caledonia Street at Litho Street\, Sausalito\, CA\, 94965\, United States
CATEGORIES:Sausalito Library
END:VEVENT
BEGIN:VEVENT
DTSTART;TZID=America/Los_Angeles:20280303T110000
DTEND;TZID=America/Los_Angeles:20280303T120000
DTSTAMP:20260419T104108
CREATED:20251226T210915Z
LAST-MODIFIED:20251231T231105Z
UID:10000356-1835694000-1835697600@calendarsausalito.com
SUMMARY:Sausalito Library: Soul4Kidz Music
DESCRIPTION:Soul4Kidz Music\nEvery 1st Friday Soul4Kidz performs music in the park for babies\, toddlers\, preschoolers\, and caregivers! Sing along and dance to soulful twists on songs like Baby Shark\, The Wheels on the Bus\, I’m a Little Teapot\, Happy\, You Are My Sunshine\, Three Little Birds\, and many more! Great for ages 0-5. \n\nFor more information about Soul4Kids visit www.facebook.com/soul4kidz 
URL:https://calendarsausalito.com/event/soul4kidz-music/2028-03-03/
LOCATION:Robin Sweeny Park\, Caledonia Street at Litho Street\, Sausalito\, CA\, 94965\, United States
CATEGORIES:Sausalito Library
END:VEVENT
BEGIN:VEVENT
DTSTART;TZID=America/Los_Angeles:20280407T110000
DTEND;TZID=America/Los_Angeles:20280407T120000
DTSTAMP:20260419T104108
CREATED:20251226T210915Z
LAST-MODIFIED:20251231T231105Z
UID:10000357-1838718000-1838721600@calendarsausalito.com
SUMMARY:Sausalito Library: Soul4Kidz Music
DESCRIPTION:Soul4Kidz Music\nEvery 1st Friday Soul4Kidz performs music in the park for babies\, toddlers\, preschoolers\, and caregivers! Sing along and dance to soulful twists on songs like Baby Shark\, The Wheels on the Bus\, I’m a Little Teapot\, Happy\, You Are My Sunshine\, Three Little Birds\, and many more! Great for ages 0-5. \n\nFor more information about Soul4Kids visit www.facebook.com/soul4kidz 
URL:https://calendarsausalito.com/event/soul4kidz-music/2028-04-07/
LOCATION:Robin Sweeny Park\, Caledonia Street at Litho Street\, Sausalito\, CA\, 94965\, United States
CATEGORIES:Sausalito Library
END:VEVENT
BEGIN:VEVENT
DTSTART;TZID=America/Los_Angeles:20280505T110000
DTEND;TZID=America/Los_Angeles:20280505T120000
DTSTAMP:20260419T104108
CREATED:20251226T210915Z
LAST-MODIFIED:20251231T231105Z
UID:10000358-1841137200-1841140800@calendarsausalito.com
SUMMARY:Sausalito Library: Soul4Kidz Music
DESCRIPTION:Soul4Kidz Music\nEvery 1st Friday Soul4Kidz performs music in the park for babies\, toddlers\, preschoolers\, and caregivers! Sing along and dance to soulful twists on songs like Baby Shark\, The Wheels on the Bus\, I’m a Little Teapot\, Happy\, You Are My Sunshine\, Three Little Birds\, and many more! Great for ages 0-5. \n\nFor more information about Soul4Kids visit www.facebook.com/soul4kidz 
URL:https://calendarsausalito.com/event/soul4kidz-music/2028-05-05/
LOCATION:Robin Sweeny Park\, Caledonia Street at Litho Street\, Sausalito\, CA\, 94965\, United States
CATEGORIES:Sausalito Library
END:VEVENT
BEGIN:VEVENT
DTSTART;TZID=America/Los_Angeles:20280602T110000
DTEND;TZID=America/Los_Angeles:20280602T120000
DTSTAMP:20260419T104108
CREATED:20251226T210915Z
LAST-MODIFIED:20251231T231105Z
UID:10000359-1843556400-1843560000@calendarsausalito.com
SUMMARY:Sausalito Library: Soul4Kidz Music
DESCRIPTION:Soul4Kidz Music\nEvery 1st Friday Soul4Kidz performs music in the park for babies\, toddlers\, preschoolers\, and caregivers! Sing along and dance to soulful twists on songs like Baby Shark\, The Wheels on the Bus\, I’m a Little Teapot\, Happy\, You Are My Sunshine\, Three Little Birds\, and many more! Great for ages 0-5. \n\nFor more information about Soul4Kids visit www.facebook.com/soul4kidz 
URL:https://calendarsausalito.com/event/soul4kidz-music/2028-06-02/
LOCATION:Robin Sweeny Park\, Caledonia Street at Litho Street\, Sausalito\, CA\, 94965\, United States
CATEGORIES:Sausalito Library
END:VEVENT
BEGIN:VEVENT
DTSTART;TZID=America/Los_Angeles:20280707T110000
DTEND;TZID=America/Los_Angeles:20280707T120000
DTSTAMP:20260419T104108
CREATED:20251226T210915Z
LAST-MODIFIED:20251231T231105Z
UID:10000360-1846580400-1846584000@calendarsausalito.com
SUMMARY:Sausalito Library: Soul4Kidz Music
DESCRIPTION:Soul4Kidz Music\nEvery 1st Friday Soul4Kidz performs music in the park for babies\, toddlers\, preschoolers\, and caregivers! Sing along and dance to soulful twists on songs like Baby Shark\, The Wheels on the Bus\, I’m a Little Teapot\, Happy\, You Are My Sunshine\, Three Little Birds\, and many more! Great for ages 0-5. \n\nFor more information about Soul4Kids visit www.facebook.com/soul4kidz 
URL:https://calendarsausalito.com/event/soul4kidz-music/2028-07-07/
LOCATION:Robin Sweeny Park\, Caledonia Street at Litho Street\, Sausalito\, CA\, 94965\, United States
CATEGORIES:Sausalito Library
END:VEVENT
BEGIN:VEVENT
DTSTART;TZID=America/Los_Angeles:20280804T110000
DTEND;TZID=America/Los_Angeles:20280804T120000
DTSTAMP:20260419T104108
CREATED:20251226T210915Z
LAST-MODIFIED:20251231T231105Z
UID:10000361-1848999600-1849003200@calendarsausalito.com
SUMMARY:Sausalito Library: Soul4Kidz Music
DESCRIPTION:Soul4Kidz Music\nEvery 1st Friday Soul4Kidz performs music in the park for babies\, toddlers\, preschoolers\, and caregivers! Sing along and dance to soulful twists on songs like Baby Shark\, The Wheels on the Bus\, I’m a Little Teapot\, Happy\, You Are My Sunshine\, Three Little Birds\, and many more! Great for ages 0-5. \n\nFor more information about Soul4Kids visit www.facebook.com/soul4kidz 
URL:https://calendarsausalito.com/event/soul4kidz-music/2028-08-04/
LOCATION:Robin Sweeny Park\, Caledonia Street at Litho Street\, Sausalito\, CA\, 94965\, United States
CATEGORIES:Sausalito Library
END:VEVENT
BEGIN:VEVENT
DTSTART;TZID=America/Los_Angeles:20280901T110000
DTEND;TZID=America/Los_Angeles:20280901T120000
DTSTAMP:20260419T104108
CREATED:20251226T210915Z
LAST-MODIFIED:20251231T231105Z
UID:10000362-1851418800-1851422400@calendarsausalito.com
SUMMARY:Sausalito Library: Soul4Kidz Music
DESCRIPTION:Soul4Kidz Music\nEvery 1st Friday Soul4Kidz performs music in the park for babies\, toddlers\, preschoolers\, and caregivers! Sing along and dance to soulful twists on songs like Baby Shark\, The Wheels on the Bus\, I’m a Little Teapot\, Happy\, You Are My Sunshine\, Three Little Birds\, and many more! Great for ages 0-5. \n\nFor more information about Soul4Kids visit www.facebook.com/soul4kidz 
URL:https://calendarsausalito.com/event/soul4kidz-music/2028-09-01/
LOCATION:Robin Sweeny Park\, Caledonia Street at Litho Street\, Sausalito\, CA\, 94965\, United States
CATEGORIES:Sausalito Library
END:VEVENT
BEGIN:VEVENT
DTSTART;TZID=America/Los_Angeles:20281006T110000
DTEND;TZID=America/Los_Angeles:20281006T120000
DTSTAMP:20260419T104108
CREATED:20251226T210915Z
LAST-MODIFIED:20251231T231105Z
UID:10000363-1854442800-1854446400@calendarsausalito.com
SUMMARY:Sausalito Library: Soul4Kidz Music
DESCRIPTION:Soul4Kidz Music\nEvery 1st Friday Soul4Kidz performs music in the park for babies\, toddlers\, preschoolers\, and caregivers! Sing along and dance to soulful twists on songs like Baby Shark\, The Wheels on the Bus\, I’m a Little Teapot\, Happy\, You Are My Sunshine\, Three Little Birds\, and many more! Great for ages 0-5. \n\nFor more information about Soul4Kids visit www.facebook.com/soul4kidz 
URL:https://calendarsausalito.com/event/soul4kidz-music/2028-10-06/
LOCATION:Robin Sweeny Park\, Caledonia Street at Litho Street\, Sausalito\, CA\, 94965\, United States
CATEGORIES:Sausalito Library
END:VEVENT
END:VCALENDAR