BEGIN:VCALENDAR
VERSION:2.0
PRODID:-//Calendar Sausalito - ECPv6.15.20//NONSGML v1.0//EN
CALSCALE:GREGORIAN
METHOD:PUBLISH
X-WR-CALNAME:Calendar Sausalito
X-ORIGINAL-URL:https://calendarsausalito.com
X-WR-CALDESC:Events for Calendar Sausalito
REFRESH-INTERVAL;VALUE=DURATION:PT1H
X-Robots-Tag:noindex
X-PUBLISHED-TTL:PT1H
BEGIN:VTIMEZONE
TZID:America/Los_Angeles
BEGIN:DAYLIGHT
TZOFFSETFROM:-0800
TZOFFSETTO:-0700
TZNAME:PDT
DTSTART:20250309T100000
END:DAYLIGHT
BEGIN:STANDARD
TZOFFSETFROM:-0700
TZOFFSETTO:-0800
TZNAME:PST
DTSTART:20251102T090000
END:STANDARD
BEGIN:DAYLIGHT
TZOFFSETFROM:-0800
TZOFFSETTO:-0700
TZNAME:PDT
DTSTART:20260308T100000
END:DAYLIGHT
BEGIN:STANDARD
TZOFFSETFROM:-0700
TZOFFSETTO:-0800
TZNAME:PST
DTSTART:20261101T090000
END:STANDARD
BEGIN:DAYLIGHT
TZOFFSETFROM:-0800
TZOFFSETTO:-0700
TZNAME:PDT
DTSTART:20270314T100000
END:DAYLIGHT
BEGIN:STANDARD
TZOFFSETFROM:-0700
TZOFFSETTO:-0800
TZNAME:PST
DTSTART:20271107T090000
END:STANDARD
END:VTIMEZONE
BEGIN:VEVENT
DTSTART;TZID=America/Los_Angeles:20260426T103000
DTEND;TZID=America/Los_Angeles:20260426T120000
DTSTAMP:20260419T104103
CREATED:20260122T234241Z
LAST-MODIFIED:20260122T234241Z
UID:10002798-1777199400-1777204800@calendarsausalito.com
SUMMARY:Marine Mammal Center | Marine Mammal Mysteries
DESCRIPTION:April 12 at 10:30am\, 12:00pm or 2:00pm\nApril 26 at 10:30am\, 12:00pm or 2:00pm\n\nThe Marine Mammal Center leads the way in marine mammal research. Come learn more about the ways we have been deepening understanding of these incredible animals in recent events! \nA local artist will join this event\, bringing art education to Marine Science Sunday.
URL:https://calendarsausalito.com/event/marine-mammal-center-marine-mammal-mysteries/2026-04-26/
LOCATION:The Marine Mammal Center\, 2000 Bunker Road\, Fort Cronkhite\, Sausalito\, CA\, 94965\, United States
CATEGORIES:Marine Mammal Center
END:VEVENT
BEGIN:VEVENT
DTSTART;TZID=America/Los_Angeles:20260426T120000
DTEND;TZID=America/Los_Angeles:20260426T140000
DTSTAMP:20260419T104103
CREATED:20260122T234304Z
LAST-MODIFIED:20260122T234304Z
UID:10002802-1777204800-1777212000@calendarsausalito.com
SUMMARY:Marine Mammal Center | Marine Mammal Mysteries
DESCRIPTION:April 12 at 10:30am\, 12:00pm or 2:00pm\nApril 26 at 10:30am\, 12:00pm or 2:00pm\n\nThe Marine Mammal Center leads the way in marine mammal research. Come learn more about the ways we have been deepening understanding of these incredible animals in recent events! \nA local artist will join this event\, bringing art education to Marine Science Sunday.
URL:https://calendarsausalito.com/event/marine-mammal-center-marine-mammal-mysteries-2/2026-04-26/
LOCATION:The Marine Mammal Center\, 2000 Bunker Road\, Fort Cronkhite\, Sausalito\, CA\, 94965\, United States
CATEGORIES:Marine Mammal Center
END:VEVENT
BEGIN:VEVENT
DTSTART;TZID=America/Los_Angeles:20260426T140000
DTEND;TZID=America/Los_Angeles:20260426T160000
DTSTAMP:20260419T104103
CREATED:20260122T234336Z
LAST-MODIFIED:20260122T234336Z
UID:10002806-1777212000-1777219200@calendarsausalito.com
SUMMARY:Marine Mammal Center | Marine Mammal Mysteries
DESCRIPTION:April 12 at 10:30am\, 12:00pm or 2:00pm\nApril 26 at 10:30am\, 12:00pm or 2:00pm\n\nThe Marine Mammal Center leads the way in marine mammal research. Come learn more about the ways we have been deepening understanding of these incredible animals in recent events! \nA local artist will join this event\, bringing art education to Marine Science Sunday.
URL:https://calendarsausalito.com/event/marine-mammal-center-marine-mammal-mysteries-3/2026-04-26/
LOCATION:The Marine Mammal Center\, 2000 Bunker Road\, Fort Cronkhite\, Sausalito\, CA\, 94965\, United States
CATEGORIES:Marine Mammal Center
END:VEVENT
END:VCALENDAR