BEGIN:VCALENDAR
VERSION:2.0
PRODID:-//Calendar Sausalito - ECPv6.15.20//NONSGML v1.0//EN
CALSCALE:GREGORIAN
METHOD:PUBLISH
X-WR-CALNAME:Calendar Sausalito
X-ORIGINAL-URL:https://calendarsausalito.com
X-WR-CALDESC:Events for Calendar Sausalito
REFRESH-INTERVAL;VALUE=DURATION:PT1H
X-Robots-Tag:noindex
X-PUBLISHED-TTL:PT1H
BEGIN:VTIMEZONE
TZID:America/Los_Angeles
BEGIN:DAYLIGHT
TZOFFSETFROM:-0800
TZOFFSETTO:-0700
TZNAME:PDT
DTSTART:20250309T100000
END:DAYLIGHT
BEGIN:STANDARD
TZOFFSETFROM:-0700
TZOFFSETTO:-0800
TZNAME:PST
DTSTART:20251102T090000
END:STANDARD
BEGIN:DAYLIGHT
TZOFFSETFROM:-0800
TZOFFSETTO:-0700
TZNAME:PDT
DTSTART:20260308T100000
END:DAYLIGHT
BEGIN:STANDARD
TZOFFSETFROM:-0700
TZOFFSETTO:-0800
TZNAME:PST
DTSTART:20261101T090000
END:STANDARD
BEGIN:DAYLIGHT
TZOFFSETFROM:-0800
TZOFFSETTO:-0700
TZNAME:PDT
DTSTART:20270314T100000
END:DAYLIGHT
BEGIN:STANDARD
TZOFFSETFROM:-0700
TZOFFSETTO:-0800
TZNAME:PST
DTSTART:20271107T090000
END:STANDARD
END:VTIMEZONE
BEGIN:VEVENT
DTSTART;TZID=America/Los_Angeles:20260424T110000
DTEND;TZID=America/Los_Angeles:20260424T170000
DTSTAMP:20260421T025341
CREATED:20260107T011203Z
LAST-MODIFIED:20260127T004343Z
UID:10001908-1777028400-1777050000@calendarsausalito.com
SUMMARY:SCA: Marin Open Studios
DESCRIPTION:Marin Open Studios\n\n\n\n\n\n\n\n\n\n275 artists of every stripe—including sculptors\, potters\, abstract and figurative painters\, photographers\, textile artists\, and jewelers\, to name just a few—are participating in the 32nd Annual Marin Open Studios\, including 60 new artists. \nPreview work from participating artists at the Marin Open Studios Preview Gallery\, April 24 through May 10\, at the Sausalito Center For The Arts. Samples of each artist’s work will be on display. \nMarin Open Studios (MOS) exists to engage and support Marin County artists and their audiences through events\, programs\, and services. MOS champions a diverse and inclusive community art experience with direct connections to Bay Area audiences and patrons. For over 30 years\, MOS has invited the public into artists’ studios\, increasing art appreciation and building future artists and art lovers.
URL:https://calendarsausalito.com/event/sca-marin-open-studios/2026-04-24/
LOCATION:Sausalito Center for the Arts\, 750 Bridgeway\, Sausalito\, CA\, 94965\, United States
CATEGORIES:Sausalito Center for the Arts (SCA)
END:VEVENT
BEGIN:VEVENT
DTSTART;TZID=America/Los_Angeles:20260425T110000
DTEND;TZID=America/Los_Angeles:20260425T170000
DTSTAMP:20260421T025341
CREATED:20260107T011203Z
LAST-MODIFIED:20260127T004343Z
UID:10004047-1777114800-1777136400@calendarsausalito.com
SUMMARY:SCA: Marin Open Studios
DESCRIPTION:Marin Open Studios\n\n\n\n\n\n\n\n\n\n275 artists of every stripe—including sculptors\, potters\, abstract and figurative painters\, photographers\, textile artists\, and jewelers\, to name just a few—are participating in the 32nd Annual Marin Open Studios\, including 60 new artists. \nPreview work from participating artists at the Marin Open Studios Preview Gallery\, April 24 through May 10\, at the Sausalito Center For The Arts. Samples of each artist’s work will be on display. \nMarin Open Studios (MOS) exists to engage and support Marin County artists and their audiences through events\, programs\, and services. MOS champions a diverse and inclusive community art experience with direct connections to Bay Area audiences and patrons. For over 30 years\, MOS has invited the public into artists’ studios\, increasing art appreciation and building future artists and art lovers.
URL:https://calendarsausalito.com/event/sca-marin-open-studios/2026-04-25/
LOCATION:Sausalito Center for the Arts\, 750 Bridgeway\, Sausalito\, CA\, 94965\, United States
CATEGORIES:Sausalito Center for the Arts (SCA)
END:VEVENT
BEGIN:VEVENT
DTSTART;TZID=America/Los_Angeles:20260426T110000
DTEND;TZID=America/Los_Angeles:20260426T170000
DTSTAMP:20260421T025341
CREATED:20260107T011203Z
LAST-MODIFIED:20260127T004343Z
UID:10004048-1777201200-1777222800@calendarsausalito.com
SUMMARY:SCA: Marin Open Studios
DESCRIPTION:Marin Open Studios\n\n\n\n\n\n\n\n\n\n275 artists of every stripe—including sculptors\, potters\, abstract and figurative painters\, photographers\, textile artists\, and jewelers\, to name just a few—are participating in the 32nd Annual Marin Open Studios\, including 60 new artists. \nPreview work from participating artists at the Marin Open Studios Preview Gallery\, April 24 through May 10\, at the Sausalito Center For The Arts. Samples of each artist’s work will be on display. \nMarin Open Studios (MOS) exists to engage and support Marin County artists and their audiences through events\, programs\, and services. MOS champions a diverse and inclusive community art experience with direct connections to Bay Area audiences and patrons. For over 30 years\, MOS has invited the public into artists’ studios\, increasing art appreciation and building future artists and art lovers.
URL:https://calendarsausalito.com/event/sca-marin-open-studios/2026-04-26/
LOCATION:Sausalito Center for the Arts\, 750 Bridgeway\, Sausalito\, CA\, 94965\, United States
CATEGORIES:Sausalito Center for the Arts (SCA)
END:VEVENT
BEGIN:VEVENT
DTSTART;TZID=America/Los_Angeles:20260429T110000
DTEND;TZID=America/Los_Angeles:20260429T170000
DTSTAMP:20260421T025341
CREATED:20260127T004409Z
LAST-MODIFIED:20260127T004409Z
UID:10004788-1777460400-1777482000@calendarsausalito.com
SUMMARY:SCA: Marin Open Studios
DESCRIPTION:Marin Open Studios\n\n\n\n\n\n\n\n\n\n275 artists of every stripe—including sculptors\, potters\, abstract and figurative painters\, photographers\, textile artists\, and jewelers\, to name just a few—are participating in the 32nd Annual Marin Open Studios\, including 60 new artists. \nPreview work from participating artists at the Marin Open Studios Preview Gallery\, April 24 through May 10\, at the Sausalito Center For The Arts. Samples of each artist’s work will be on display. \nMarin Open Studios (MOS) exists to engage and support Marin County artists and their audiences through events\, programs\, and services. MOS champions a diverse and inclusive community art experience with direct connections to Bay Area audiences and patrons. For over 30 years\, MOS has invited the public into artists’ studios\, increasing art appreciation and building future artists and art lovers.
URL:https://calendarsausalito.com/event/sca-marin-open-studios-3/2026-04-29/
LOCATION:Sausalito Center for the Arts\, 750 Bridgeway\, Sausalito\, CA\, 94965\, United States
CATEGORIES:Sausalito Center for the Arts (SCA)
END:VEVENT
BEGIN:VEVENT
DTSTART;TZID=America/Los_Angeles:20260430T110000
DTEND;TZID=America/Los_Angeles:20260430T170000
DTSTAMP:20260421T025341
CREATED:20260127T004409Z
LAST-MODIFIED:20260127T004409Z
UID:10004789-1777546800-1777568400@calendarsausalito.com
SUMMARY:SCA: Marin Open Studios
DESCRIPTION:Marin Open Studios\n\n\n\n\n\n\n\n\n\n275 artists of every stripe—including sculptors\, potters\, abstract and figurative painters\, photographers\, textile artists\, and jewelers\, to name just a few—are participating in the 32nd Annual Marin Open Studios\, including 60 new artists. \nPreview work from participating artists at the Marin Open Studios Preview Gallery\, April 24 through May 10\, at the Sausalito Center For The Arts. Samples of each artist’s work will be on display. \nMarin Open Studios (MOS) exists to engage and support Marin County artists and their audiences through events\, programs\, and services. MOS champions a diverse and inclusive community art experience with direct connections to Bay Area audiences and patrons. For over 30 years\, MOS has invited the public into artists’ studios\, increasing art appreciation and building future artists and art lovers.
URL:https://calendarsausalito.com/event/sca-marin-open-studios-3/2026-04-30/
LOCATION:Sausalito Center for the Arts\, 750 Bridgeway\, Sausalito\, CA\, 94965\, United States
CATEGORIES:Sausalito Center for the Arts (SCA)
END:VEVENT
BEGIN:VEVENT
DTSTART;TZID=America/Los_Angeles:20260501T110000
DTEND;TZID=America/Los_Angeles:20260501T170000
DTSTAMP:20260421T025341
CREATED:20260127T004409Z
LAST-MODIFIED:20260127T004409Z
UID:10004790-1777633200-1777654800@calendarsausalito.com
SUMMARY:SCA: Marin Open Studios
DESCRIPTION:Marin Open Studios\n\n\n\n\n\n\n\n\n\n275 artists of every stripe—including sculptors\, potters\, abstract and figurative painters\, photographers\, textile artists\, and jewelers\, to name just a few—are participating in the 32nd Annual Marin Open Studios\, including 60 new artists. \nPreview work from participating artists at the Marin Open Studios Preview Gallery\, April 24 through May 10\, at the Sausalito Center For The Arts. Samples of each artist’s work will be on display. \nMarin Open Studios (MOS) exists to engage and support Marin County artists and their audiences through events\, programs\, and services. MOS champions a diverse and inclusive community art experience with direct connections to Bay Area audiences and patrons. For over 30 years\, MOS has invited the public into artists’ studios\, increasing art appreciation and building future artists and art lovers.
URL:https://calendarsausalito.com/event/sca-marin-open-studios-3/2026-05-01/
LOCATION:Sausalito Center for the Arts\, 750 Bridgeway\, Sausalito\, CA\, 94965\, United States
CATEGORIES:Sausalito Center for the Arts (SCA)
END:VEVENT
BEGIN:VEVENT
DTSTART;TZID=America/Los_Angeles:20260502T110000
DTEND;TZID=America/Los_Angeles:20260502T170000
DTSTAMP:20260421T025341
CREATED:20260127T004409Z
LAST-MODIFIED:20260127T004409Z
UID:10004791-1777719600-1777741200@calendarsausalito.com
SUMMARY:SCA: Marin Open Studios
DESCRIPTION:Marin Open Studios\n\n\n\n\n\n\n\n\n\n275 artists of every stripe—including sculptors\, potters\, abstract and figurative painters\, photographers\, textile artists\, and jewelers\, to name just a few—are participating in the 32nd Annual Marin Open Studios\, including 60 new artists. \nPreview work from participating artists at the Marin Open Studios Preview Gallery\, April 24 through May 10\, at the Sausalito Center For The Arts. Samples of each artist’s work will be on display. \nMarin Open Studios (MOS) exists to engage and support Marin County artists and their audiences through events\, programs\, and services. MOS champions a diverse and inclusive community art experience with direct connections to Bay Area audiences and patrons. For over 30 years\, MOS has invited the public into artists’ studios\, increasing art appreciation and building future artists and art lovers.
URL:https://calendarsausalito.com/event/sca-marin-open-studios-3/2026-05-02/
LOCATION:Sausalito Center for the Arts\, 750 Bridgeway\, Sausalito\, CA\, 94965\, United States
CATEGORIES:Sausalito Center for the Arts (SCA)
END:VEVENT
BEGIN:VEVENT
DTSTART;TZID=America/Los_Angeles:20260503T110000
DTEND;TZID=America/Los_Angeles:20260503T170000
DTSTAMP:20260421T025341
CREATED:20260127T004409Z
LAST-MODIFIED:20260127T004409Z
UID:10004792-1777806000-1777827600@calendarsausalito.com
SUMMARY:SCA: Marin Open Studios
DESCRIPTION:Marin Open Studios\n\n\n\n\n\n\n\n\n\n275 artists of every stripe—including sculptors\, potters\, abstract and figurative painters\, photographers\, textile artists\, and jewelers\, to name just a few—are participating in the 32nd Annual Marin Open Studios\, including 60 new artists. \nPreview work from participating artists at the Marin Open Studios Preview Gallery\, April 24 through May 10\, at the Sausalito Center For The Arts. Samples of each artist’s work will be on display. \nMarin Open Studios (MOS) exists to engage and support Marin County artists and their audiences through events\, programs\, and services. MOS champions a diverse and inclusive community art experience with direct connections to Bay Area audiences and patrons. For over 30 years\, MOS has invited the public into artists’ studios\, increasing art appreciation and building future artists and art lovers.
URL:https://calendarsausalito.com/event/sca-marin-open-studios-3/2026-05-03/
LOCATION:Sausalito Center for the Arts\, 750 Bridgeway\, Sausalito\, CA\, 94965\, United States
CATEGORIES:Sausalito Center for the Arts (SCA)
END:VEVENT
BEGIN:VEVENT
DTSTART;TZID=America/Los_Angeles:20260506T110000
DTEND;TZID=America/Los_Angeles:20260506T170000
DTSTAMP:20260421T025341
CREATED:20260127T004455Z
LAST-MODIFIED:20260127T004455Z
UID:10004798-1778065200-1778086800@calendarsausalito.com
SUMMARY:SCA: Marin Open Studios
DESCRIPTION:Marin Open Studios\n\n\n\n\n\n\n\n\n\n275 artists of every stripe—including sculptors\, potters\, abstract and figurative painters\, photographers\, textile artists\, and jewelers\, to name just a few—are participating in the 32nd Annual Marin Open Studios\, including 60 new artists. \nPreview work from participating artists at the Marin Open Studios Preview Gallery\, April 24 through May 10\, at the Sausalito Center For The Arts. Samples of each artist’s work will be on display. \nMarin Open Studios (MOS) exists to engage and support Marin County artists and their audiences through events\, programs\, and services. MOS champions a diverse and inclusive community art experience with direct connections to Bay Area audiences and patrons. For over 30 years\, MOS has invited the public into artists’ studios\, increasing art appreciation and building future artists and art lovers.
URL:https://calendarsausalito.com/event/sca-marin-open-studios-4/2026-05-06/
LOCATION:Sausalito Center for the Arts\, 750 Bridgeway\, Sausalito\, CA\, 94965\, United States
CATEGORIES:Sausalito Center for the Arts (SCA)
END:VEVENT
BEGIN:VEVENT
DTSTART;TZID=America/Los_Angeles:20260507T110000
DTEND;TZID=America/Los_Angeles:20260507T170000
DTSTAMP:20260421T025341
CREATED:20260127T004455Z
LAST-MODIFIED:20260127T004455Z
UID:10004799-1778151600-1778173200@calendarsausalito.com
SUMMARY:SCA: Marin Open Studios
DESCRIPTION:Marin Open Studios\n\n\n\n\n\n\n\n\n\n275 artists of every stripe—including sculptors\, potters\, abstract and figurative painters\, photographers\, textile artists\, and jewelers\, to name just a few—are participating in the 32nd Annual Marin Open Studios\, including 60 new artists. \nPreview work from participating artists at the Marin Open Studios Preview Gallery\, April 24 through May 10\, at the Sausalito Center For The Arts. Samples of each artist’s work will be on display. \nMarin Open Studios (MOS) exists to engage and support Marin County artists and their audiences through events\, programs\, and services. MOS champions a diverse and inclusive community art experience with direct connections to Bay Area audiences and patrons. For over 30 years\, MOS has invited the public into artists’ studios\, increasing art appreciation and building future artists and art lovers.
URL:https://calendarsausalito.com/event/sca-marin-open-studios-4/2026-05-07/
LOCATION:Sausalito Center for the Arts\, 750 Bridgeway\, Sausalito\, CA\, 94965\, United States
CATEGORIES:Sausalito Center for the Arts (SCA)
END:VEVENT
BEGIN:VEVENT
DTSTART;TZID=America/Los_Angeles:20260508T110000
DTEND;TZID=America/Los_Angeles:20260508T170000
DTSTAMP:20260421T025341
CREATED:20260127T004455Z
LAST-MODIFIED:20260127T004455Z
UID:10004800-1778238000-1778259600@calendarsausalito.com
SUMMARY:SCA: Marin Open Studios
DESCRIPTION:Marin Open Studios\n\n\n\n\n\n\n\n\n\n275 artists of every stripe—including sculptors\, potters\, abstract and figurative painters\, photographers\, textile artists\, and jewelers\, to name just a few—are participating in the 32nd Annual Marin Open Studios\, including 60 new artists. \nPreview work from participating artists at the Marin Open Studios Preview Gallery\, April 24 through May 10\, at the Sausalito Center For The Arts. Samples of each artist’s work will be on display. \nMarin Open Studios (MOS) exists to engage and support Marin County artists and their audiences through events\, programs\, and services. MOS champions a diverse and inclusive community art experience with direct connections to Bay Area audiences and patrons. For over 30 years\, MOS has invited the public into artists’ studios\, increasing art appreciation and building future artists and art lovers.
URL:https://calendarsausalito.com/event/sca-marin-open-studios-4/2026-05-08/
LOCATION:Sausalito Center for the Arts\, 750 Bridgeway\, Sausalito\, CA\, 94965\, United States
CATEGORIES:Sausalito Center for the Arts (SCA)
END:VEVENT
BEGIN:VEVENT
DTSTART;TZID=America/Los_Angeles:20260509T110000
DTEND;TZID=America/Los_Angeles:20260509T170000
DTSTAMP:20260421T025341
CREATED:20260127T004455Z
LAST-MODIFIED:20260127T004455Z
UID:10004801-1778324400-1778346000@calendarsausalito.com
SUMMARY:SCA: Marin Open Studios
DESCRIPTION:Marin Open Studios\n\n\n\n\n\n\n\n\n\n275 artists of every stripe—including sculptors\, potters\, abstract and figurative painters\, photographers\, textile artists\, and jewelers\, to name just a few—are participating in the 32nd Annual Marin Open Studios\, including 60 new artists. \nPreview work from participating artists at the Marin Open Studios Preview Gallery\, April 24 through May 10\, at the Sausalito Center For The Arts. Samples of each artist’s work will be on display. \nMarin Open Studios (MOS) exists to engage and support Marin County artists and their audiences through events\, programs\, and services. MOS champions a diverse and inclusive community art experience with direct connections to Bay Area audiences and patrons. For over 30 years\, MOS has invited the public into artists’ studios\, increasing art appreciation and building future artists and art lovers.
URL:https://calendarsausalito.com/event/sca-marin-open-studios-4/2026-05-09/
LOCATION:Sausalito Center for the Arts\, 750 Bridgeway\, Sausalito\, CA\, 94965\, United States
CATEGORIES:Sausalito Center for the Arts (SCA)
END:VEVENT
BEGIN:VEVENT
DTSTART;TZID=America/Los_Angeles:20260510T110000
DTEND;TZID=America/Los_Angeles:20260510T170000
DTSTAMP:20260421T025341
CREATED:20260127T004455Z
LAST-MODIFIED:20260127T004455Z
UID:10004802-1778410800-1778432400@calendarsausalito.com
SUMMARY:SCA: Marin Open Studios
DESCRIPTION:Marin Open Studios\n\n\n\n\n\n\n\n\n\n275 artists of every stripe—including sculptors\, potters\, abstract and figurative painters\, photographers\, textile artists\, and jewelers\, to name just a few—are participating in the 32nd Annual Marin Open Studios\, including 60 new artists. \nPreview work from participating artists at the Marin Open Studios Preview Gallery\, April 24 through May 10\, at the Sausalito Center For The Arts. Samples of each artist’s work will be on display. \nMarin Open Studios (MOS) exists to engage and support Marin County artists and their audiences through events\, programs\, and services. MOS champions a diverse and inclusive community art experience with direct connections to Bay Area audiences and patrons. For over 30 years\, MOS has invited the public into artists’ studios\, increasing art appreciation and building future artists and art lovers.
URL:https://calendarsausalito.com/event/sca-marin-open-studios-4/2026-05-10/
LOCATION:Sausalito Center for the Arts\, 750 Bridgeway\, Sausalito\, CA\, 94965\, United States
CATEGORIES:Sausalito Center for the Arts (SCA)
END:VEVENT
END:VCALENDAR