BEGIN:VCALENDAR
VERSION:2.0
PRODID:-//Calendar Sausalito - ECPv6.15.20//NONSGML v1.0//EN
CALSCALE:GREGORIAN
METHOD:PUBLISH
X-ORIGINAL-URL:https://calendarsausalito.com
X-WR-CALDESC:Events for Calendar Sausalito
REFRESH-INTERVAL;VALUE=DURATION:PT1H
X-Robots-Tag:noindex
X-PUBLISHED-TTL:PT1H
BEGIN:VTIMEZONE
TZID:America/Los_Angeles
BEGIN:DAYLIGHT
TZOFFSETFROM:-0800
TZOFFSETTO:-0700
TZNAME:PDT
DTSTART:20250309T100000
END:DAYLIGHT
BEGIN:STANDARD
TZOFFSETFROM:-0700
TZOFFSETTO:-0800
TZNAME:PST
DTSTART:20251102T090000
END:STANDARD
BEGIN:DAYLIGHT
TZOFFSETFROM:-0800
TZOFFSETTO:-0700
TZNAME:PDT
DTSTART:20260308T100000
END:DAYLIGHT
BEGIN:STANDARD
TZOFFSETFROM:-0700
TZOFFSETTO:-0800
TZNAME:PST
DTSTART:20261101T090000
END:STANDARD
BEGIN:DAYLIGHT
TZOFFSETFROM:-0800
TZOFFSETTO:-0700
TZNAME:PDT
DTSTART:20270314T100000
END:DAYLIGHT
BEGIN:STANDARD
TZOFFSETFROM:-0700
TZOFFSETTO:-0800
TZNAME:PST
DTSTART:20271107T090000
END:STANDARD
BEGIN:DAYLIGHT
TZOFFSETFROM:-0800
TZOFFSETTO:-0700
TZNAME:PDT
DTSTART:20280312T100000
END:DAYLIGHT
BEGIN:STANDARD
TZOFFSETFROM:-0700
TZOFFSETTO:-0800
TZNAME:PST
DTSTART:20281105T090000
END:STANDARD
END:VTIMEZONE
BEGIN:VEVENT
DTSTART;TZID=America/Los_Angeles:20260516T180000
DTEND;TZID=America/Los_Angeles:20260516T203000
DTSTAMP:20260423T064555
CREATED:20260303T004644Z
LAST-MODIFIED:20260303T005005Z
UID:10008221-1778954400-1778963400@calendarsausalito.com
SUMMARY:Sausalito Seahorse: Dine and Dance with Graham's Good Times Band
DESCRIPTION:
URL:https://calendarsausalito.com/event/sausalito-seahorse-dine-and-dance-with-grahams-good-times-band/2026-05-16/
LOCATION:Sausalito Seahorse\, 305 Harbor Dr\, Sausalito\, CA\, 94965\, United States
CATEGORIES:Sausalito Seahorse
END:VEVENT
BEGIN:VEVENT
DTSTART;TZID=America/Los_Angeles:20260620T180000
DTEND;TZID=America/Los_Angeles:20260620T203000
DTSTAMP:20260423T064555
CREATED:20260303T004644Z
LAST-MODIFIED:20260303T005005Z
UID:10008222-1781978400-1781987400@calendarsausalito.com
SUMMARY:Sausalito Seahorse: Dine and Dance with Graham's Good Times Band
DESCRIPTION:
URL:https://calendarsausalito.com/event/sausalito-seahorse-dine-and-dance-with-grahams-good-times-band/2026-06-20/
LOCATION:Sausalito Seahorse\, 305 Harbor Dr\, Sausalito\, CA\, 94965\, United States
CATEGORIES:Sausalito Seahorse
END:VEVENT
BEGIN:VEVENT
DTSTART;TZID=America/Los_Angeles:20260718T180000
DTEND;TZID=America/Los_Angeles:20260718T203000
DTSTAMP:20260423T064555
CREATED:20260303T004644Z
LAST-MODIFIED:20260303T005005Z
UID:10008223-1784397600-1784406600@calendarsausalito.com
SUMMARY:Sausalito Seahorse: Dine and Dance with Graham's Good Times Band
DESCRIPTION:
URL:https://calendarsausalito.com/event/sausalito-seahorse-dine-and-dance-with-grahams-good-times-band/2026-07-18/
LOCATION:Sausalito Seahorse\, 305 Harbor Dr\, Sausalito\, CA\, 94965\, United States
CATEGORIES:Sausalito Seahorse
END:VEVENT
BEGIN:VEVENT
DTSTART;TZID=America/Los_Angeles:20260815T180000
DTEND;TZID=America/Los_Angeles:20260815T203000
DTSTAMP:20260423T064555
CREATED:20260303T004644Z
LAST-MODIFIED:20260303T005005Z
UID:10008224-1786816800-1786825800@calendarsausalito.com
SUMMARY:Sausalito Seahorse: Dine and Dance with Graham's Good Times Band
DESCRIPTION:
URL:https://calendarsausalito.com/event/sausalito-seahorse-dine-and-dance-with-grahams-good-times-band/2026-08-15/
LOCATION:Sausalito Seahorse\, 305 Harbor Dr\, Sausalito\, CA\, 94965\, United States
CATEGORIES:Sausalito Seahorse
END:VEVENT
BEGIN:VEVENT
DTSTART;TZID=America/Los_Angeles:20260919T180000
DTEND;TZID=America/Los_Angeles:20260919T203000
DTSTAMP:20260423T064555
CREATED:20260303T004644Z
LAST-MODIFIED:20260303T005005Z
UID:10008225-1789840800-1789849800@calendarsausalito.com
SUMMARY:Sausalito Seahorse: Dine and Dance with Graham's Good Times Band
DESCRIPTION:
URL:https://calendarsausalito.com/event/sausalito-seahorse-dine-and-dance-with-grahams-good-times-band/2026-09-19/
LOCATION:Sausalito Seahorse\, 305 Harbor Dr\, Sausalito\, CA\, 94965\, United States
CATEGORIES:Sausalito Seahorse
END:VEVENT
BEGIN:VEVENT
DTSTART;TZID=America/Los_Angeles:20261017T180000
DTEND;TZID=America/Los_Angeles:20261017T203000
DTSTAMP:20260423T064555
CREATED:20260303T004644Z
LAST-MODIFIED:20260303T005005Z
UID:10008226-1792260000-1792269000@calendarsausalito.com
SUMMARY:Sausalito Seahorse: Dine and Dance with Graham's Good Times Band
DESCRIPTION:
URL:https://calendarsausalito.com/event/sausalito-seahorse-dine-and-dance-with-grahams-good-times-band/2026-10-17/
LOCATION:Sausalito Seahorse\, 305 Harbor Dr\, Sausalito\, CA\, 94965\, United States
CATEGORIES:Sausalito Seahorse
END:VEVENT
BEGIN:VEVENT
DTSTART;TZID=America/Los_Angeles:20261121T180000
DTEND;TZID=America/Los_Angeles:20261121T203000
DTSTAMP:20260423T064555
CREATED:20260303T004644Z
LAST-MODIFIED:20260303T005005Z
UID:10008227-1795284000-1795293000@calendarsausalito.com
SUMMARY:Sausalito Seahorse: Dine and Dance with Graham's Good Times Band
DESCRIPTION:
URL:https://calendarsausalito.com/event/sausalito-seahorse-dine-and-dance-with-grahams-good-times-band/2026-11-21/
LOCATION:Sausalito Seahorse\, 305 Harbor Dr\, Sausalito\, CA\, 94965\, United States
CATEGORIES:Sausalito Seahorse
END:VEVENT
BEGIN:VEVENT
DTSTART;TZID=America/Los_Angeles:20261219T180000
DTEND;TZID=America/Los_Angeles:20261219T203000
DTSTAMP:20260423T064555
CREATED:20260303T004644Z
LAST-MODIFIED:20260303T005005Z
UID:10008228-1797703200-1797712200@calendarsausalito.com
SUMMARY:Sausalito Seahorse: Dine and Dance with Graham's Good Times Band
DESCRIPTION:
URL:https://calendarsausalito.com/event/sausalito-seahorse-dine-and-dance-with-grahams-good-times-band/2026-12-19/
LOCATION:Sausalito Seahorse\, 305 Harbor Dr\, Sausalito\, CA\, 94965\, United States
CATEGORIES:Sausalito Seahorse
END:VEVENT
BEGIN:VEVENT
DTSTART;TZID=America/Los_Angeles:20270116T180000
DTEND;TZID=America/Los_Angeles:20270116T203000
DTSTAMP:20260423T064555
CREATED:20260303T004644Z
LAST-MODIFIED:20260303T005005Z
UID:10008229-1800122400-1800131400@calendarsausalito.com
SUMMARY:Sausalito Seahorse: Dine and Dance with Graham's Good Times Band
DESCRIPTION:
URL:https://calendarsausalito.com/event/sausalito-seahorse-dine-and-dance-with-grahams-good-times-band/2027-01-16/
LOCATION:Sausalito Seahorse\, 305 Harbor Dr\, Sausalito\, CA\, 94965\, United States
CATEGORIES:Sausalito Seahorse
END:VEVENT
BEGIN:VEVENT
DTSTART;TZID=America/Los_Angeles:20270220T180000
DTEND;TZID=America/Los_Angeles:20270220T203000
DTSTAMP:20260423T064555
CREATED:20260303T004644Z
LAST-MODIFIED:20260303T005005Z
UID:10008230-1803146400-1803155400@calendarsausalito.com
SUMMARY:Sausalito Seahorse: Dine and Dance with Graham's Good Times Band
DESCRIPTION:
URL:https://calendarsausalito.com/event/sausalito-seahorse-dine-and-dance-with-grahams-good-times-band/2027-02-20/
LOCATION:Sausalito Seahorse\, 305 Harbor Dr\, Sausalito\, CA\, 94965\, United States
CATEGORIES:Sausalito Seahorse
END:VEVENT
BEGIN:VEVENT
DTSTART;TZID=America/Los_Angeles:20270320T180000
DTEND;TZID=America/Los_Angeles:20270320T203000
DTSTAMP:20260423T064555
CREATED:20260303T004644Z
LAST-MODIFIED:20260303T005005Z
UID:10008231-1805565600-1805574600@calendarsausalito.com
SUMMARY:Sausalito Seahorse: Dine and Dance with Graham's Good Times Band
DESCRIPTION:
URL:https://calendarsausalito.com/event/sausalito-seahorse-dine-and-dance-with-grahams-good-times-band/2027-03-20/
LOCATION:Sausalito Seahorse\, 305 Harbor Dr\, Sausalito\, CA\, 94965\, United States
CATEGORIES:Sausalito Seahorse
END:VEVENT
END:VCALENDAR