BEGIN:VCALENDAR
VERSION:2.0
PRODID:-//Calendar Sausalito - ECPv6.15.20//NONSGML v1.0//EN
CALSCALE:GREGORIAN
METHOD:PUBLISH
X-ORIGINAL-URL:https://calendarsausalito.com
X-WR-CALDESC:Events for Calendar Sausalito
REFRESH-INTERVAL;VALUE=DURATION:PT1H
X-Robots-Tag:noindex
X-PUBLISHED-TTL:PT1H
BEGIN:VTIMEZONE
TZID:America/Los_Angeles
BEGIN:DAYLIGHT
TZOFFSETFROM:-0800
TZOFFSETTO:-0700
TZNAME:PDT
DTSTART:20250309T100000
END:DAYLIGHT
BEGIN:STANDARD
TZOFFSETFROM:-0700
TZOFFSETTO:-0800
TZNAME:PST
DTSTART:20251102T090000
END:STANDARD
BEGIN:DAYLIGHT
TZOFFSETFROM:-0800
TZOFFSETTO:-0700
TZNAME:PDT
DTSTART:20260308T100000
END:DAYLIGHT
BEGIN:STANDARD
TZOFFSETFROM:-0700
TZOFFSETTO:-0800
TZNAME:PST
DTSTART:20261101T090000
END:STANDARD
BEGIN:DAYLIGHT
TZOFFSETFROM:-0800
TZOFFSETTO:-0700
TZNAME:PDT
DTSTART:20270314T100000
END:DAYLIGHT
BEGIN:STANDARD
TZOFFSETFROM:-0700
TZOFFSETTO:-0800
TZNAME:PST
DTSTART:20271107T090000
END:STANDARD
BEGIN:DAYLIGHT
TZOFFSETFROM:-0800
TZOFFSETTO:-0700
TZNAME:PDT
DTSTART:20280312T100000
END:DAYLIGHT
BEGIN:STANDARD
TZOFFSETFROM:-0700
TZOFFSETTO:-0800
TZNAME:PST
DTSTART:20281105T090000
END:STANDARD
END:VTIMEZONE
BEGIN:VEVENT
DTSTART;TZID=America/Los_Angeles:20260425T103000
DTEND;TZID=America/Los_Angeles:20260425T120000
DTSTAMP:20260419T142146
CREATED:20260131T182059Z
LAST-MODIFIED:20260131T182437Z
UID:10001179-1777113000-1777118400@calendarsausalito.com
SUMMARY:Sausalito Historical Walking Tour
DESCRIPTION:Buy Tickets
URL:https://calendarsausalito.com/event/sausalito-historical-walking-tour-2/2026-04-25/
LOCATION:Ice House Museum\, 780 Bridgeway\, Sausalito\, CA\, 94965\, United States
CATEGORIES:Sausalito Historical Society
END:VEVENT
BEGIN:VEVENT
DTSTART;TZID=America/Los_Angeles:20260509T103000
DTEND;TZID=America/Los_Angeles:20260509T120000
DTSTAMP:20260419T142146
CREATED:20260131T182059Z
LAST-MODIFIED:20260131T182437Z
UID:10001181-1778322600-1778328000@calendarsausalito.com
SUMMARY:Sausalito Historical Walking Tour
DESCRIPTION:Buy Tickets
URL:https://calendarsausalito.com/event/sausalito-historical-walking-tour-2/2026-05-09/
LOCATION:Ice House Museum\, 780 Bridgeway\, Sausalito\, CA\, 94965\, United States
CATEGORIES:Sausalito Historical Society
END:VEVENT
BEGIN:VEVENT
DTSTART;TZID=America/Los_Angeles:20260523T103000
DTEND;TZID=America/Los_Angeles:20260523T120000
DTSTAMP:20260419T142146
CREATED:20260131T182059Z
LAST-MODIFIED:20260131T182437Z
UID:10001183-1779532200-1779537600@calendarsausalito.com
SUMMARY:Sausalito Historical Walking Tour
DESCRIPTION:Buy Tickets
URL:https://calendarsausalito.com/event/sausalito-historical-walking-tour-2/2026-05-23/
LOCATION:Ice House Museum\, 780 Bridgeway\, Sausalito\, CA\, 94965\, United States
CATEGORIES:Sausalito Historical Society
END:VEVENT
BEGIN:VEVENT
DTSTART;TZID=America/Los_Angeles:20260606T103000
DTEND;TZID=America/Los_Angeles:20260606T120000
DTSTAMP:20260419T142146
CREATED:20260131T182059Z
LAST-MODIFIED:20260131T182437Z
UID:10001185-1780741800-1780747200@calendarsausalito.com
SUMMARY:Sausalito Historical Walking Tour
DESCRIPTION:Buy Tickets
URL:https://calendarsausalito.com/event/sausalito-historical-walking-tour-2/2026-06-06/
LOCATION:Ice House Museum\, 780 Bridgeway\, Sausalito\, CA\, 94965\, United States
CATEGORIES:Sausalito Historical Society
END:VEVENT
BEGIN:VEVENT
DTSTART;TZID=America/Los_Angeles:20260620T103000
DTEND;TZID=America/Los_Angeles:20260620T120000
DTSTAMP:20260419T142146
CREATED:20260131T182059Z
LAST-MODIFIED:20260131T182437Z
UID:10001187-1781951400-1781956800@calendarsausalito.com
SUMMARY:Sausalito Historical Walking Tour
DESCRIPTION:Buy Tickets
URL:https://calendarsausalito.com/event/sausalito-historical-walking-tour-2/2026-06-20/
LOCATION:Ice House Museum\, 780 Bridgeway\, Sausalito\, CA\, 94965\, United States
CATEGORIES:Sausalito Historical Society
END:VEVENT
BEGIN:VEVENT
DTSTART;TZID=America/Los_Angeles:20260704T103000
DTEND;TZID=America/Los_Angeles:20260704T120000
DTSTAMP:20260419T142146
CREATED:20260131T182059Z
LAST-MODIFIED:20260131T182437Z
UID:10001189-1783161000-1783166400@calendarsausalito.com
SUMMARY:Sausalito Historical Walking Tour
DESCRIPTION:Buy Tickets
URL:https://calendarsausalito.com/event/sausalito-historical-walking-tour-2/2026-07-04/
LOCATION:Ice House Museum\, 780 Bridgeway\, Sausalito\, CA\, 94965\, United States
CATEGORIES:Sausalito Historical Society
END:VEVENT
BEGIN:VEVENT
DTSTART;TZID=America/Los_Angeles:20260718T103000
DTEND;TZID=America/Los_Angeles:20260718T120000
DTSTAMP:20260419T142146
CREATED:20260131T182059Z
LAST-MODIFIED:20260131T182437Z
UID:10001191-1784370600-1784376000@calendarsausalito.com
SUMMARY:Sausalito Historical Walking Tour
DESCRIPTION:Buy Tickets
URL:https://calendarsausalito.com/event/sausalito-historical-walking-tour-2/2026-07-18/
LOCATION:Ice House Museum\, 780 Bridgeway\, Sausalito\, CA\, 94965\, United States
CATEGORIES:Sausalito Historical Society
END:VEVENT
BEGIN:VEVENT
DTSTART;TZID=America/Los_Angeles:20260801T103000
DTEND;TZID=America/Los_Angeles:20260801T120000
DTSTAMP:20260419T142146
CREATED:20260131T182059Z
LAST-MODIFIED:20260131T182437Z
UID:10001193-1785580200-1785585600@calendarsausalito.com
SUMMARY:Sausalito Historical Walking Tour
DESCRIPTION:Buy Tickets
URL:https://calendarsausalito.com/event/sausalito-historical-walking-tour-2/2026-08-01/
LOCATION:Ice House Museum\, 780 Bridgeway\, Sausalito\, CA\, 94965\, United States
CATEGORIES:Sausalito Historical Society
END:VEVENT
BEGIN:VEVENT
DTSTART;TZID=America/Los_Angeles:20260815T103000
DTEND;TZID=America/Los_Angeles:20260815T120000
DTSTAMP:20260419T142146
CREATED:20260131T182059Z
LAST-MODIFIED:20260131T182437Z
UID:10001195-1786789800-1786795200@calendarsausalito.com
SUMMARY:Sausalito Historical Walking Tour
DESCRIPTION:Buy Tickets
URL:https://calendarsausalito.com/event/sausalito-historical-walking-tour-2/2026-08-15/
LOCATION:Ice House Museum\, 780 Bridgeway\, Sausalito\, CA\, 94965\, United States
CATEGORIES:Sausalito Historical Society
END:VEVENT
BEGIN:VEVENT
DTSTART;TZID=America/Los_Angeles:20260829T103000
DTEND;TZID=America/Los_Angeles:20260829T120000
DTSTAMP:20260419T142146
CREATED:20260131T182059Z
LAST-MODIFIED:20260131T182437Z
UID:10001197-1787999400-1788004800@calendarsausalito.com
SUMMARY:Sausalito Historical Walking Tour
DESCRIPTION:Buy Tickets
URL:https://calendarsausalito.com/event/sausalito-historical-walking-tour-2/2026-08-29/
LOCATION:Ice House Museum\, 780 Bridgeway\, Sausalito\, CA\, 94965\, United States
CATEGORIES:Sausalito Historical Society
END:VEVENT
BEGIN:VEVENT
DTSTART;TZID=America/Los_Angeles:20260912T103000
DTEND;TZID=America/Los_Angeles:20260912T120000
DTSTAMP:20260419T142146
CREATED:20260131T182059Z
LAST-MODIFIED:20260131T182437Z
UID:10001199-1789209000-1789214400@calendarsausalito.com
SUMMARY:Sausalito Historical Walking Tour
DESCRIPTION:Buy Tickets
URL:https://calendarsausalito.com/event/sausalito-historical-walking-tour-2/2026-09-12/
LOCATION:Ice House Museum\, 780 Bridgeway\, Sausalito\, CA\, 94965\, United States
CATEGORIES:Sausalito Historical Society
END:VEVENT
BEGIN:VEVENT
DTSTART;TZID=America/Los_Angeles:20260926T103000
DTEND;TZID=America/Los_Angeles:20260926T120000
DTSTAMP:20260419T142146
CREATED:20260131T182059Z
LAST-MODIFIED:20260131T182437Z
UID:10001201-1790418600-1790424000@calendarsausalito.com
SUMMARY:Sausalito Historical Walking Tour
DESCRIPTION:Buy Tickets
URL:https://calendarsausalito.com/event/sausalito-historical-walking-tour-2/2026-09-26/
LOCATION:Ice House Museum\, 780 Bridgeway\, Sausalito\, CA\, 94965\, United States
CATEGORIES:Sausalito Historical Society
END:VEVENT
BEGIN:VEVENT
DTSTART;TZID=America/Los_Angeles:20261010T103000
DTEND;TZID=America/Los_Angeles:20261010T120000
DTSTAMP:20260419T142146
CREATED:20260131T182059Z
LAST-MODIFIED:20260131T182437Z
UID:10001203-1791628200-1791633600@calendarsausalito.com
SUMMARY:Sausalito Historical Walking Tour
DESCRIPTION:Buy Tickets
URL:https://calendarsausalito.com/event/sausalito-historical-walking-tour-2/2026-10-10/
LOCATION:Ice House Museum\, 780 Bridgeway\, Sausalito\, CA\, 94965\, United States
CATEGORIES:Sausalito Historical Society
END:VEVENT
BEGIN:VEVENT
DTSTART;TZID=America/Los_Angeles:20261024T103000
DTEND;TZID=America/Los_Angeles:20261024T120000
DTSTAMP:20260419T142146
CREATED:20260131T182059Z
LAST-MODIFIED:20260131T182437Z
UID:10001205-1792837800-1792843200@calendarsausalito.com
SUMMARY:Sausalito Historical Walking Tour
DESCRIPTION:Buy Tickets
URL:https://calendarsausalito.com/event/sausalito-historical-walking-tour-2/2026-10-24/
LOCATION:Ice House Museum\, 780 Bridgeway\, Sausalito\, CA\, 94965\, United States
CATEGORIES:Sausalito Historical Society
END:VEVENT
BEGIN:VEVENT
DTSTART;TZID=America/Los_Angeles:20261107T103000
DTEND;TZID=America/Los_Angeles:20261107T120000
DTSTAMP:20260419T142146
CREATED:20260131T182059Z
LAST-MODIFIED:20260131T182437Z
UID:10001207-1794047400-1794052800@calendarsausalito.com
SUMMARY:Sausalito Historical Walking Tour
DESCRIPTION:Buy Tickets
URL:https://calendarsausalito.com/event/sausalito-historical-walking-tour-2/2026-11-07/
LOCATION:Ice House Museum\, 780 Bridgeway\, Sausalito\, CA\, 94965\, United States
CATEGORIES:Sausalito Historical Society
END:VEVENT
BEGIN:VEVENT
DTSTART;TZID=America/Los_Angeles:20261121T103000
DTEND;TZID=America/Los_Angeles:20261121T120000
DTSTAMP:20260419T142146
CREATED:20260131T182059Z
LAST-MODIFIED:20260131T182437Z
UID:10001209-1795257000-1795262400@calendarsausalito.com
SUMMARY:Sausalito Historical Walking Tour
DESCRIPTION:Buy Tickets
URL:https://calendarsausalito.com/event/sausalito-historical-walking-tour-2/2026-11-21/
LOCATION:Ice House Museum\, 780 Bridgeway\, Sausalito\, CA\, 94965\, United States
CATEGORIES:Sausalito Historical Society
END:VEVENT
BEGIN:VEVENT
DTSTART;TZID=America/Los_Angeles:20261205T103000
DTEND;TZID=America/Los_Angeles:20261205T120000
DTSTAMP:20260419T142146
CREATED:20260131T182059Z
LAST-MODIFIED:20260131T182437Z
UID:10001211-1796466600-1796472000@calendarsausalito.com
SUMMARY:Sausalito Historical Walking Tour
DESCRIPTION:Buy Tickets
URL:https://calendarsausalito.com/event/sausalito-historical-walking-tour-2/2026-12-05/
LOCATION:Ice House Museum\, 780 Bridgeway\, Sausalito\, CA\, 94965\, United States
CATEGORIES:Sausalito Historical Society
END:VEVENT
BEGIN:VEVENT
DTSTART;TZID=America/Los_Angeles:20261219T103000
DTEND;TZID=America/Los_Angeles:20261219T120000
DTSTAMP:20260419T142146
CREATED:20260131T182059Z
LAST-MODIFIED:20260131T182437Z
UID:10001213-1797676200-1797681600@calendarsausalito.com
SUMMARY:Sausalito Historical Walking Tour
DESCRIPTION:Buy Tickets
URL:https://calendarsausalito.com/event/sausalito-historical-walking-tour-2/2026-12-19/
LOCATION:Ice House Museum\, 780 Bridgeway\, Sausalito\, CA\, 94965\, United States
CATEGORIES:Sausalito Historical Society
END:VEVENT
BEGIN:VEVENT
DTSTART;TZID=America/Los_Angeles:20270102T103000
DTEND;TZID=America/Los_Angeles:20270102T120000
DTSTAMP:20260419T142146
CREATED:20260131T182059Z
LAST-MODIFIED:20260131T182437Z
UID:10001215-1798885800-1798891200@calendarsausalito.com
SUMMARY:Sausalito Historical Walking Tour
DESCRIPTION:Buy Tickets
URL:https://calendarsausalito.com/event/sausalito-historical-walking-tour-2/2027-01-02/
LOCATION:Ice House Museum\, 780 Bridgeway\, Sausalito\, CA\, 94965\, United States
CATEGORIES:Sausalito Historical Society
END:VEVENT
BEGIN:VEVENT
DTSTART;TZID=America/Los_Angeles:20270116T103000
DTEND;TZID=America/Los_Angeles:20270116T120000
DTSTAMP:20260419T142146
CREATED:20260131T182059Z
LAST-MODIFIED:20260131T182437Z
UID:10001217-1800095400-1800100800@calendarsausalito.com
SUMMARY:Sausalito Historical Walking Tour
DESCRIPTION:Buy Tickets
URL:https://calendarsausalito.com/event/sausalito-historical-walking-tour-2/2027-01-16/
LOCATION:Ice House Museum\, 780 Bridgeway\, Sausalito\, CA\, 94965\, United States
CATEGORIES:Sausalito Historical Society
END:VEVENT
BEGIN:VEVENT
DTSTART;TZID=America/Los_Angeles:20270130T103000
DTEND;TZID=America/Los_Angeles:20270130T120000
DTSTAMP:20260419T142146
CREATED:20260131T182059Z
LAST-MODIFIED:20260131T182437Z
UID:10001219-1801305000-1801310400@calendarsausalito.com
SUMMARY:Sausalito Historical Walking Tour
DESCRIPTION:Buy Tickets
URL:https://calendarsausalito.com/event/sausalito-historical-walking-tour-2/2027-01-30/
LOCATION:Ice House Museum\, 780 Bridgeway\, Sausalito\, CA\, 94965\, United States
CATEGORIES:Sausalito Historical Society
END:VEVENT
BEGIN:VEVENT
DTSTART;TZID=America/Los_Angeles:20270213T103000
DTEND;TZID=America/Los_Angeles:20270213T120000
DTSTAMP:20260419T142146
CREATED:20260131T182059Z
LAST-MODIFIED:20260131T182437Z
UID:10001221-1802514600-1802520000@calendarsausalito.com
SUMMARY:Sausalito Historical Walking Tour
DESCRIPTION:Buy Tickets
URL:https://calendarsausalito.com/event/sausalito-historical-walking-tour-2/2027-02-13/
LOCATION:Ice House Museum\, 780 Bridgeway\, Sausalito\, CA\, 94965\, United States
CATEGORIES:Sausalito Historical Society
END:VEVENT
BEGIN:VEVENT
DTSTART;TZID=America/Los_Angeles:20270227T103000
DTEND;TZID=America/Los_Angeles:20270227T120000
DTSTAMP:20260419T142146
CREATED:20260131T182059Z
LAST-MODIFIED:20260131T182437Z
UID:10001223-1803724200-1803729600@calendarsausalito.com
SUMMARY:Sausalito Historical Walking Tour
DESCRIPTION:Buy Tickets
URL:https://calendarsausalito.com/event/sausalito-historical-walking-tour-2/2027-02-27/
LOCATION:Ice House Museum\, 780 Bridgeway\, Sausalito\, CA\, 94965\, United States
CATEGORIES:Sausalito Historical Society
END:VEVENT
BEGIN:VEVENT
DTSTART;TZID=America/Los_Angeles:20270313T103000
DTEND;TZID=America/Los_Angeles:20270313T120000
DTSTAMP:20260419T142146
CREATED:20260131T182059Z
LAST-MODIFIED:20260131T182437Z
UID:10001225-1804933800-1804939200@calendarsausalito.com
SUMMARY:Sausalito Historical Walking Tour
DESCRIPTION:Buy Tickets
URL:https://calendarsausalito.com/event/sausalito-historical-walking-tour-2/2027-03-13/
LOCATION:Ice House Museum\, 780 Bridgeway\, Sausalito\, CA\, 94965\, United States
CATEGORIES:Sausalito Historical Society
END:VEVENT
BEGIN:VEVENT
DTSTART;TZID=America/Los_Angeles:20270327T103000
DTEND;TZID=America/Los_Angeles:20270327T120000
DTSTAMP:20260419T142146
CREATED:20260131T182059Z
LAST-MODIFIED:20260131T182437Z
UID:10001227-1806143400-1806148800@calendarsausalito.com
SUMMARY:Sausalito Historical Walking Tour
DESCRIPTION:Buy Tickets
URL:https://calendarsausalito.com/event/sausalito-historical-walking-tour-2/2027-03-27/
LOCATION:Ice House Museum\, 780 Bridgeway\, Sausalito\, CA\, 94965\, United States
CATEGORIES:Sausalito Historical Society
END:VEVENT
BEGIN:VEVENT
DTSTART;TZID=America/Los_Angeles:20270410T103000
DTEND;TZID=America/Los_Angeles:20270410T120000
DTSTAMP:20260419T142146
CREATED:20260131T182059Z
LAST-MODIFIED:20260131T182437Z
UID:10001229-1807353000-1807358400@calendarsausalito.com
SUMMARY:Sausalito Historical Walking Tour
DESCRIPTION:Buy Tickets
URL:https://calendarsausalito.com/event/sausalito-historical-walking-tour-2/2027-04-10/
LOCATION:Ice House Museum\, 780 Bridgeway\, Sausalito\, CA\, 94965\, United States
CATEGORIES:Sausalito Historical Society
END:VEVENT
BEGIN:VEVENT
DTSTART;TZID=America/Los_Angeles:20270424T103000
DTEND;TZID=America/Los_Angeles:20270424T120000
DTSTAMP:20260419T142146
CREATED:20260131T182059Z
LAST-MODIFIED:20260131T182437Z
UID:10001231-1808562600-1808568000@calendarsausalito.com
SUMMARY:Sausalito Historical Walking Tour
DESCRIPTION:Buy Tickets
URL:https://calendarsausalito.com/event/sausalito-historical-walking-tour-2/2027-04-24/
LOCATION:Ice House Museum\, 780 Bridgeway\, Sausalito\, CA\, 94965\, United States
CATEGORIES:Sausalito Historical Society
END:VEVENT
BEGIN:VEVENT
DTSTART;TZID=America/Los_Angeles:20270508T103000
DTEND;TZID=America/Los_Angeles:20270508T120000
DTSTAMP:20260419T142146
CREATED:20260131T182059Z
LAST-MODIFIED:20260131T182437Z
UID:10001233-1809772200-1809777600@calendarsausalito.com
SUMMARY:Sausalito Historical Walking Tour
DESCRIPTION:Buy Tickets
URL:https://calendarsausalito.com/event/sausalito-historical-walking-tour-2/2027-05-08/
LOCATION:Ice House Museum\, 780 Bridgeway\, Sausalito\, CA\, 94965\, United States
CATEGORIES:Sausalito Historical Society
END:VEVENT
BEGIN:VEVENT
DTSTART;TZID=America/Los_Angeles:20270522T103000
DTEND;TZID=America/Los_Angeles:20270522T120000
DTSTAMP:20260419T142146
CREATED:20260131T182059Z
LAST-MODIFIED:20260131T182437Z
UID:10001235-1810981800-1810987200@calendarsausalito.com
SUMMARY:Sausalito Historical Walking Tour
DESCRIPTION:Buy Tickets
URL:https://calendarsausalito.com/event/sausalito-historical-walking-tour-2/2027-05-22/
LOCATION:Ice House Museum\, 780 Bridgeway\, Sausalito\, CA\, 94965\, United States
CATEGORIES:Sausalito Historical Society
END:VEVENT
BEGIN:VEVENT
DTSTART;TZID=America/Los_Angeles:20270605T103000
DTEND;TZID=America/Los_Angeles:20270605T120000
DTSTAMP:20260419T142146
CREATED:20260131T182059Z
LAST-MODIFIED:20260131T182437Z
UID:10001237-1812191400-1812196800@calendarsausalito.com
SUMMARY:Sausalito Historical Walking Tour
DESCRIPTION:Buy Tickets
URL:https://calendarsausalito.com/event/sausalito-historical-walking-tour-2/2027-06-05/
LOCATION:Ice House Museum\, 780 Bridgeway\, Sausalito\, CA\, 94965\, United States
CATEGORIES:Sausalito Historical Society
END:VEVENT
END:VCALENDAR