BEGIN:VCALENDAR
VERSION:2.0
PRODID:-//Calendar Sausalito - ECPv6.15.20//NONSGML v1.0//EN
CALSCALE:GREGORIAN
METHOD:PUBLISH
X-WR-CALNAME:Calendar Sausalito
X-ORIGINAL-URL:https://calendarsausalito.com
X-WR-CALDESC:Events for Calendar Sausalito
REFRESH-INTERVAL;VALUE=DURATION:PT1H
X-Robots-Tag:noindex
X-PUBLISHED-TTL:PT1H
BEGIN:VTIMEZONE
TZID:America/Los_Angeles
BEGIN:DAYLIGHT
TZOFFSETFROM:-0800
TZOFFSETTO:-0700
TZNAME:PDT
DTSTART:20250309T100000
END:DAYLIGHT
BEGIN:STANDARD
TZOFFSETFROM:-0700
TZOFFSETTO:-0800
TZNAME:PST
DTSTART:20251102T090000
END:STANDARD
BEGIN:DAYLIGHT
TZOFFSETFROM:-0800
TZOFFSETTO:-0700
TZNAME:PDT
DTSTART:20260308T100000
END:DAYLIGHT
BEGIN:STANDARD
TZOFFSETFROM:-0700
TZOFFSETTO:-0800
TZNAME:PST
DTSTART:20261101T090000
END:STANDARD
BEGIN:DAYLIGHT
TZOFFSETFROM:-0800
TZOFFSETTO:-0700
TZNAME:PDT
DTSTART:20270314T100000
END:DAYLIGHT
BEGIN:STANDARD
TZOFFSETFROM:-0700
TZOFFSETTO:-0800
TZNAME:PST
DTSTART:20271107T090000
END:STANDARD
END:VTIMEZONE
BEGIN:VEVENT
DTSTART;TZID=America/Los_Angeles:20261212T180000
DTEND;TZID=America/Los_Angeles:20261212T191500
DTSTAMP:20260422T034028
CREATED:20260126T232125Z
LAST-MODIFIED:20260221T012031Z
UID:10002827-1797098400-1797102900@calendarsausalito.com
SUMMARY:Winterfest Sausalito: Lighted Boat Parade
DESCRIPTION:Lighted Boat Parade\n\n\n\n\n\n\nDecember 12\, 2026 | 6 – 7:15 pm\nSausalito Waterfront – Gabrielson Park\n5:00 pm Reserved Seating Opens\n6:00 pm Lighted-Boat Parade begins\n7:15 pm Fireworks (approximate time) \n\n\n\n\n\n\n	Related
URL:https://calendarsausalito.com/event/winterfest-sausalito-lighted-boat-parade/
LOCATION:Gabrielson Park\, Anchor St &\, Humboldt Ave\, Sausalito\, CA\, 94965\, United States
CATEGORIES:Winterfest Sausalito
END:VEVENT
END:VCALENDAR