BEGIN:VCALENDAR
VERSION:2.0
PRODID:-//Calendar Sausalito - ECPv6.15.20//NONSGML v1.0//EN
CALSCALE:GREGORIAN
METHOD:PUBLISH
X-ORIGINAL-URL:https://calendarsausalito.com
X-WR-CALDESC:Events for Calendar Sausalito
REFRESH-INTERVAL;VALUE=DURATION:PT1H
X-Robots-Tag:noindex
X-PUBLISHED-TTL:PT1H
BEGIN:VTIMEZONE
TZID:America/Los_Angeles
BEGIN:DAYLIGHT
TZOFFSETFROM:-0800
TZOFFSETTO:-0700
TZNAME:PDT
DTSTART:20250309T100000
END:DAYLIGHT
BEGIN:STANDARD
TZOFFSETFROM:-0700
TZOFFSETTO:-0800
TZNAME:PST
DTSTART:20251102T090000
END:STANDARD
BEGIN:DAYLIGHT
TZOFFSETFROM:-0800
TZOFFSETTO:-0700
TZNAME:PDT
DTSTART:20260308T100000
END:DAYLIGHT
BEGIN:STANDARD
TZOFFSETFROM:-0700
TZOFFSETTO:-0800
TZNAME:PST
DTSTART:20261101T090000
END:STANDARD
BEGIN:DAYLIGHT
TZOFFSETFROM:-0800
TZOFFSETTO:-0700
TZNAME:PDT
DTSTART:20270314T100000
END:DAYLIGHT
BEGIN:STANDARD
TZOFFSETFROM:-0700
TZOFFSETTO:-0800
TZNAME:PST
DTSTART:20271107T090000
END:STANDARD
END:VTIMEZONE
BEGIN:VEVENT
DTSTART;TZID=America/Los_Angeles:20260510T180000
DTEND;TZID=America/Los_Angeles:20260510T210000
DTSTAMP:20260419T194818
CREATED:20260123T192229Z
LAST-MODIFIED:20260123T192229Z
UID:10002813-1778436000-1778446800@calendarsausalito.com
SUMMARY:Headlands: Dinner 2026 Monthly Supper Series
DESCRIPTION:When\n\n\n\n\n\n\n\n\nJanuary – December 2026\n\n\nWhere\nHeadlands\, The Mess Hall\n\n\nPrice\n$85 Tickets | $75 Members\n\n\n\n\n\n\n\n\n\n\nHeadlands’ Monthly Supper Series offers a chance to experience an evening at Headlands through the lens of our Artists in Residence. Gather in our historic Mess Hall\, share a seasonal family-style meal prepared by Headlands’ Chef Damon Little\, and experience varied artist programming. \nYour seat at the table helps sustain our mission of supporting artists and creative exchange. Bring a friend\, make more\, and be a part of our growing community. Tickets are on sales now (linked below)\, artist programs to be announced\, and we hope to see you soon! \nThursday\, January 29\nTuesday\, February 24\nThursday. March 26\nTuesday\, April 7\nSunday\, May 10\nSunday\, June 28 \nThursday\, July 30 \nSunday\, August 16\nSunday\, September 20\nSunday\, October 4\nSunday\, November 15\nSunday\, December 6 \nIf you’d like to purchase a full package of twelve suppers\, please email mjbrown@headlands.org. Conditions apply. \nDinner will take place in The Mess Hall\, on the first floor of Building 944\, and is accessible to people with mobility aids. Artist program may take place on upper floors accessible only by stairs. \n\n\n\n\n\n\n\n\n\n\n\n\n\n\n\n\n\n\n\n\n	Related
URL:https://calendarsausalito.com/event/headlands-dinner-2026-monthly-supper-series-5/
LOCATION:Headlands\, The Mess Hall\, 944 Simmonds Road\, Sausalito\, CA\, 94965\, United States
CATEGORIES:Headlands Center for the Arts
END:VEVENT
BEGIN:VEVENT
DTSTART;TZID=America/Los_Angeles:20260628T180000
DTEND;TZID=America/Los_Angeles:20260628T210000
DTSTAMP:20260419T194818
CREATED:20260123T192248Z
LAST-MODIFIED:20260123T192248Z
UID:10002814-1782669600-1782680400@calendarsausalito.com
SUMMARY:Headlands: Dinner 2026 Monthly Supper Series
DESCRIPTION:When\n\n\n\n\n\n\n\n\nJanuary – December 2026\n\n\nWhere\nHeadlands\, The Mess Hall\n\n\nPrice\n$85 Tickets | $75 Members\n\n\n\n\n\n\n\n\n\n\nHeadlands’ Monthly Supper Series offers a chance to experience an evening at Headlands through the lens of our Artists in Residence. Gather in our historic Mess Hall\, share a seasonal family-style meal prepared by Headlands’ Chef Damon Little\, and experience varied artist programming. \nYour seat at the table helps sustain our mission of supporting artists and creative exchange. Bring a friend\, make more\, and be a part of our growing community. Tickets are on sales now (linked below)\, artist programs to be announced\, and we hope to see you soon! \nThursday\, January 29\nTuesday\, February 24\nThursday. March 26\nTuesday\, April 7\nSunday\, May 10\nSunday\, June 28 \nThursday\, July 30 \nSunday\, August 16\nSunday\, September 20\nSunday\, October 4\nSunday\, November 15\nSunday\, December 6 \nIf you’d like to purchase a full package of twelve suppers\, please email mjbrown@headlands.org. Conditions apply. \nDinner will take place in The Mess Hall\, on the first floor of Building 944\, and is accessible to people with mobility aids. Artist program may take place on upper floors accessible only by stairs. \n\n\n\n\n\n\n\n\n\n\n\n\n\n\n\n\n\n\n\n\n	Related
URL:https://calendarsausalito.com/event/headlands-dinner-2026-monthly-supper-series-6/
LOCATION:Headlands\, The Mess Hall\, 944 Simmonds Road\, Sausalito\, CA\, 94965\, United States
CATEGORIES:Headlands Center for the Arts
END:VEVENT
BEGIN:VEVENT
DTSTART;TZID=America/Los_Angeles:20260730T180000
DTEND;TZID=America/Los_Angeles:20260730T210000
DTSTAMP:20260419T194818
CREATED:20260123T192307Z
LAST-MODIFIED:20260123T192307Z
UID:10002815-1785434400-1785445200@calendarsausalito.com
SUMMARY:Headlands: Dinner 2026 Monthly Supper Series
DESCRIPTION:When\n\n\n\n\n\n\n\n\nJanuary – December 2026\n\n\nWhere\nHeadlands\, The Mess Hall\n\n\nPrice\n$85 Tickets | $75 Members\n\n\n\n\n\n\n\n\n\n\nHeadlands’ Monthly Supper Series offers a chance to experience an evening at Headlands through the lens of our Artists in Residence. Gather in our historic Mess Hall\, share a seasonal family-style meal prepared by Headlands’ Chef Damon Little\, and experience varied artist programming. \nYour seat at the table helps sustain our mission of supporting artists and creative exchange. Bring a friend\, make more\, and be a part of our growing community. Tickets are on sales now (linked below)\, artist programs to be announced\, and we hope to see you soon! \nThursday\, January 29\nTuesday\, February 24\nThursday. March 26\nTuesday\, April 7\nSunday\, May 10\nSunday\, June 28 \nThursday\, July 30 \nSunday\, August 16\nSunday\, September 20\nSunday\, October 4\nSunday\, November 15\nSunday\, December 6 \nIf you’d like to purchase a full package of twelve suppers\, please email mjbrown@headlands.org. Conditions apply. \nDinner will take place in The Mess Hall\, on the first floor of Building 944\, and is accessible to people with mobility aids. Artist program may take place on upper floors accessible only by stairs. \n\n\n\n\n\n\n\n\n\n\n\n\n\n\n\n\n\n\n\n\n	Related
URL:https://calendarsausalito.com/event/headlands-dinner-2026-monthly-supper-series-7/
LOCATION:Headlands\, The Mess Hall\, 944 Simmonds Road\, Sausalito\, CA\, 94965\, United States
CATEGORIES:Headlands Center for the Arts
END:VEVENT
BEGIN:VEVENT
DTSTART;TZID=America/Los_Angeles:20260816T180000
DTEND;TZID=America/Los_Angeles:20260816T210000
DTSTAMP:20260419T194818
CREATED:20260123T192323Z
LAST-MODIFIED:20260123T192323Z
UID:10002816-1786903200-1786914000@calendarsausalito.com
SUMMARY:Headlands: Dinner 2026 Monthly Supper Series
DESCRIPTION:When\n\n\n\n\n\n\n\n\nJanuary – December 2026\n\n\nWhere\nHeadlands\, The Mess Hall\n\n\nPrice\n$85 Tickets | $75 Members\n\n\n\n\n\n\n\n\n\n\nHeadlands’ Monthly Supper Series offers a chance to experience an evening at Headlands through the lens of our Artists in Residence. Gather in our historic Mess Hall\, share a seasonal family-style meal prepared by Headlands’ Chef Damon Little\, and experience varied artist programming. \nYour seat at the table helps sustain our mission of supporting artists and creative exchange. Bring a friend\, make more\, and be a part of our growing community. Tickets are on sales now (linked below)\, artist programs to be announced\, and we hope to see you soon! \nThursday\, January 29\nTuesday\, February 24\nThursday. March 26\nTuesday\, April 7\nSunday\, May 10\nSunday\, June 28 \nThursday\, July 30 \nSunday\, August 16\nSunday\, September 20\nSunday\, October 4\nSunday\, November 15\nSunday\, December 6 \nIf you’d like to purchase a full package of twelve suppers\, please email mjbrown@headlands.org. Conditions apply. \nDinner will take place in The Mess Hall\, on the first floor of Building 944\, and is accessible to people with mobility aids. Artist program may take place on upper floors accessible only by stairs. \n\n\n\n\n\n\n\n\n\n\n\n\n\n\n\n\n\n\n\n\n	Related
URL:https://calendarsausalito.com/event/headlands-dinner-2026-monthly-supper-series-8/
LOCATION:Headlands\, The Mess Hall\, 944 Simmonds Road\, Sausalito\, CA\, 94965\, United States
CATEGORIES:Headlands Center for the Arts
END:VEVENT
BEGIN:VEVENT
DTSTART;TZID=America/Los_Angeles:20260920T180000
DTEND;TZID=America/Los_Angeles:20260920T210000
DTSTAMP:20260419T194818
CREATED:20260123T192340Z
LAST-MODIFIED:20260123T192340Z
UID:10002817-1789927200-1789938000@calendarsausalito.com
SUMMARY:Headlands: Dinner 2026 Monthly Supper Series
DESCRIPTION:When\n\n\n\n\n\n\n\n\nJanuary – December 2026\n\n\nWhere\nHeadlands\, The Mess Hall\n\n\nPrice\n$85 Tickets | $75 Members\n\n\n\n\n\n\n\n\n\n\nHeadlands’ Monthly Supper Series offers a chance to experience an evening at Headlands through the lens of our Artists in Residence. Gather in our historic Mess Hall\, share a seasonal family-style meal prepared by Headlands’ Chef Damon Little\, and experience varied artist programming. \nYour seat at the table helps sustain our mission of supporting artists and creative exchange. Bring a friend\, make more\, and be a part of our growing community. Tickets are on sales now (linked below)\, artist programs to be announced\, and we hope to see you soon! \nThursday\, January 29\nTuesday\, February 24\nThursday. March 26\nTuesday\, April 7\nSunday\, May 10\nSunday\, June 28 \nThursday\, July 30 \nSunday\, August 16\nSunday\, September 20\nSunday\, October 4\nSunday\, November 15\nSunday\, December 6 \nIf you’d like to purchase a full package of twelve suppers\, please email mjbrown@headlands.org. Conditions apply. \nDinner will take place in The Mess Hall\, on the first floor of Building 944\, and is accessible to people with mobility aids. Artist program may take place on upper floors accessible only by stairs. \n\n\n\n\n\n\n\n\n\n\n\n\n\n\n\n\n\n\n\n\n	Related
URL:https://calendarsausalito.com/event/headlands-dinner-2026-monthly-supper-series-9/
LOCATION:Headlands\, The Mess Hall\, 944 Simmonds Road\, Sausalito\, CA\, 94965\, United States
CATEGORIES:Headlands Center for the Arts
END:VEVENT
BEGIN:VEVENT
DTSTART;TZID=America/Los_Angeles:20261004T180000
DTEND;TZID=America/Los_Angeles:20261004T210000
DTSTAMP:20260419T194818
CREATED:20260123T192357Z
LAST-MODIFIED:20260123T192357Z
UID:10002818-1791136800-1791147600@calendarsausalito.com
SUMMARY:Headlands: Dinner 2026 Monthly Supper Series
DESCRIPTION:When\n\n\n\n\n\n\n\n\nJanuary – December 2026\n\n\nWhere\nHeadlands\, The Mess Hall\n\n\nPrice\n$85 Tickets | $75 Members\n\n\n\n\n\n\n\n\n\n\nHeadlands’ Monthly Supper Series offers a chance to experience an evening at Headlands through the lens of our Artists in Residence. Gather in our historic Mess Hall\, share a seasonal family-style meal prepared by Headlands’ Chef Damon Little\, and experience varied artist programming. \nYour seat at the table helps sustain our mission of supporting artists and creative exchange. Bring a friend\, make more\, and be a part of our growing community. Tickets are on sales now (linked below)\, artist programs to be announced\, and we hope to see you soon! \nThursday\, January 29\nTuesday\, February 24\nThursday. March 26\nTuesday\, April 7\nSunday\, May 10\nSunday\, June 28 \nThursday\, July 30 \nSunday\, August 16\nSunday\, September 20\nSunday\, October 4\nSunday\, November 15\nSunday\, December 6 \nIf you’d like to purchase a full package of twelve suppers\, please email mjbrown@headlands.org. Conditions apply. \nDinner will take place in The Mess Hall\, on the first floor of Building 944\, and is accessible to people with mobility aids. Artist program may take place on upper floors accessible only by stairs. \n\n\n\n\n\n\n\n\n\n\n\n\n\n\n\n\n\n\n\n\n	Related
URL:https://calendarsausalito.com/event/headlands-dinner-2026-monthly-supper-series-10/
LOCATION:Headlands\, The Mess Hall\, 944 Simmonds Road\, Sausalito\, CA\, 94965\, United States
CATEGORIES:Headlands Center for the Arts
END:VEVENT
BEGIN:VEVENT
DTSTART;TZID=America/Los_Angeles:20261115T180000
DTEND;TZID=America/Los_Angeles:20261115T210000
DTSTAMP:20260419T194818
CREATED:20260123T192413Z
LAST-MODIFIED:20260123T192413Z
UID:10002819-1794765600-1794776400@calendarsausalito.com
SUMMARY:Headlands: Dinner 2026 Monthly Supper Series
DESCRIPTION:When\n\n\n\n\n\n\n\n\nJanuary – December 2026\n\n\nWhere\nHeadlands\, The Mess Hall\n\n\nPrice\n$85 Tickets | $75 Members\n\n\n\n\n\n\n\n\n\n\nHeadlands’ Monthly Supper Series offers a chance to experience an evening at Headlands through the lens of our Artists in Residence. Gather in our historic Mess Hall\, share a seasonal family-style meal prepared by Headlands’ Chef Damon Little\, and experience varied artist programming. \nYour seat at the table helps sustain our mission of supporting artists and creative exchange. Bring a friend\, make more\, and be a part of our growing community. Tickets are on sales now (linked below)\, artist programs to be announced\, and we hope to see you soon! \nThursday\, January 29\nTuesday\, February 24\nThursday. March 26\nTuesday\, April 7\nSunday\, May 10\nSunday\, June 28 \nThursday\, July 30 \nSunday\, August 16\nSunday\, September 20\nSunday\, October 4\nSunday\, November 15\nSunday\, December 6 \nIf you’d like to purchase a full package of twelve suppers\, please email mjbrown@headlands.org. Conditions apply. \nDinner will take place in The Mess Hall\, on the first floor of Building 944\, and is accessible to people with mobility aids. Artist program may take place on upper floors accessible only by stairs. \n\n\n\n\n\n\n\n\n\n\n\n\n\n\n\n\n\n\n\n\n	Related
URL:https://calendarsausalito.com/event/headlands-dinner-2026-monthly-supper-series-11/
LOCATION:Headlands\, The Mess Hall\, 944 Simmonds Road\, Sausalito\, CA\, 94965\, United States
CATEGORIES:Headlands Center for the Arts
END:VEVENT
BEGIN:VEVENT
DTSTART;TZID=America/Los_Angeles:20261206T180000
DTEND;TZID=America/Los_Angeles:20261206T210000
DTSTAMP:20260419T194818
CREATED:20260123T192428Z
LAST-MODIFIED:20260123T192428Z
UID:10002820-1796580000-1796590800@calendarsausalito.com
SUMMARY:Headlands: Dinner 2026 Monthly Supper Series
DESCRIPTION:When\n\n\n\n\n\n\n\n\nJanuary – December 2026\n\n\nWhere\nHeadlands\, The Mess Hall\n\n\nPrice\n$85 Tickets | $75 Members\n\n\n\n\n\n\n\n\n\n\nHeadlands’ Monthly Supper Series offers a chance to experience an evening at Headlands through the lens of our Artists in Residence. Gather in our historic Mess Hall\, share a seasonal family-style meal prepared by Headlands’ Chef Damon Little\, and experience varied artist programming. \nYour seat at the table helps sustain our mission of supporting artists and creative exchange. Bring a friend\, make more\, and be a part of our growing community. Tickets are on sales now (linked below)\, artist programs to be announced\, and we hope to see you soon! \nThursday\, January 29\nTuesday\, February 24\nThursday. March 26\nTuesday\, April 7\nSunday\, May 10\nSunday\, June 28 \nThursday\, July 30 \nSunday\, August 16\nSunday\, September 20\nSunday\, October 4\nSunday\, November 15\nSunday\, December 6 \nIf you’d like to purchase a full package of twelve suppers\, please email mjbrown@headlands.org. Conditions apply. \nDinner will take place in The Mess Hall\, on the first floor of Building 944\, and is accessible to people with mobility aids. Artist program may take place on upper floors accessible only by stairs. \n\n\n\n\n\n\n\n\n\n\n\n\n\n\n\n\n\n\n\n\n	Related
URL:https://calendarsausalito.com/event/headlands-dinner-2026-monthly-supper-series-12/
LOCATION:Headlands\, The Mess Hall\, 944 Simmonds Road\, Sausalito\, CA\, 94965\, United States
CATEGORIES:Headlands Center for the Arts
END:VEVENT
END:VCALENDAR