BEGIN:VCALENDAR
VERSION:2.0
PRODID:-//Calendar Sausalito - ECPv6.15.20//NONSGML v1.0//EN
CALSCALE:GREGORIAN
METHOD:PUBLISH
X-ORIGINAL-URL:https://calendarsausalito.com
X-WR-CALDESC:Events for Calendar Sausalito
REFRESH-INTERVAL;VALUE=DURATION:PT1H
X-Robots-Tag:noindex
X-PUBLISHED-TTL:PT1H
BEGIN:VTIMEZONE
TZID:America/Los_Angeles
BEGIN:DAYLIGHT
TZOFFSETFROM:-0800
TZOFFSETTO:-0700
TZNAME:PDT
DTSTART:20250309T100000
END:DAYLIGHT
BEGIN:STANDARD
TZOFFSETFROM:-0700
TZOFFSETTO:-0800
TZNAME:PST
DTSTART:20251102T090000
END:STANDARD
BEGIN:DAYLIGHT
TZOFFSETFROM:-0800
TZOFFSETTO:-0700
TZNAME:PDT
DTSTART:20260308T100000
END:DAYLIGHT
BEGIN:STANDARD
TZOFFSETFROM:-0700
TZOFFSETTO:-0800
TZNAME:PST
DTSTART:20261101T090000
END:STANDARD
BEGIN:DAYLIGHT
TZOFFSETFROM:-0800
TZOFFSETTO:-0700
TZNAME:PDT
DTSTART:20270314T100000
END:DAYLIGHT
BEGIN:STANDARD
TZOFFSETFROM:-0700
TZOFFSETTO:-0800
TZNAME:PST
DTSTART:20271107T090000
END:STANDARD
END:VTIMEZONE
BEGIN:VEVENT
DTSTART;TZID=America/Los_Angeles:20260426T120000
DTEND;TZID=America/Los_Angeles:20260426T170000
DTSTAMP:20260419T154049
CREATED:20260323T201530Z
LAST-MODIFIED:20260323T201657Z
UID:10010004-1777204800-1777222800@calendarsausalito.com
SUMMARY:Headlands: Announcing Headlands' 2026 Artists in Residence
DESCRIPTION:Announcing Headlands’ 2026 Artists in Residence\n\n\n\n\n\n\n\n\n\nThe springs\, the summers\, and the autumn slowly pass\, 2024\, Acrylic and oil on canvas\, 76 x 96 inches. Work by Yameng Lee Thorp.\n\n\n\nWe are pleased to share the full Artist In Residence list for the Spring\, Summer\, and Fall 2026 cohorts. Artists from Poland to Botswana to Texas will join us on our campus\, developing new work in our studios and in dialogue with one another and the extraordinary landscape that surrounds us. Artists in Residence receive financial support and gather for chef-prepared meals in our Mess Hall four days per week—an essential part of the exchange that shapes the Headlands residency experience. We hope you’ll come and visit us at an Open House or for one of our monthly suppers and get to know this amazing new 2026 cohort!\n\n\n\nSpring Open House 2026\n\n\n\n\n\n\nWhen\nSunday\, April 26\, 12–5PM\n\n\nWhere\nHeadlands Center for the Arts\n\n\nPrice\nFree\n\n\n\n\n\n\n\n\n\n\nOpen House provides a once-a-season opportunity to roam the various buildings of our campus\, meet current artists\, view works in progress\, and attend screenings\, performances\, and readings. See what Artists in Residence and Graduate Fellows are up to in their studios\, stop by the Project Space to view in-progress installations\, and enjoy a house-made lunch from the Mess Hall. \nParking is limited. If you can\, we encourage you to carpool or bike. Get more info on transportation and directions. \nFirst-floor spaces in use for this event (Mess Hall\, Key Room\, Latrine\, The Commons\, first-floor studios) are accessible to people with mobility aids. Second- and third-floor spaces (including Project Space) are currently accessible only by stairs. \n\n\n\n\nSpring Season | Open House April 26 \nHenna Aho (Finland) | Visual \nColleen Blackard (TX) | Visual\, Project Space \nMilisuthando Bongela (NY) | Film/Video/New Media \nMaxe Crandall (CA) | Writing \nA Gang of Three (NC) | Architecture/Environment \nKeka Enriquez (CA) | Visual \nJean Fineberg (CA) | Music/Sound \nMarcus Fischer (OR) | Interdisciplinary \nCochemea Gastelum (NY) | Music/Sound \nChris Iduma (Nigeria) | Visual \nSue Jeong Ka (NY) | Social Practice \nMaryrose Mendoza (CA) | Visual \nVirginia L. Montgomery (TX) | Interdisciplinary\, Project Space \nEileen Myles (NY) | Writing \nOsbert Parker (UK) | Film/Video/New Media \nBecca Rothfeld (Washington\, DC) | Writing \nJake Rose (CA) | Writing \n\n\n\n\n\n\n\n	Related
URL:https://calendarsausalito.com/event/headlands-announcing-headlands-2026-artists-in-residence/
LOCATION:Headlands\, 944 Simmonds Road\, Sausalito\, 94965
CATEGORIES:Headlands Center for the Arts
END:VEVENT
BEGIN:VEVENT
DTSTART;TZID=America/Los_Angeles:20260719T120000
DTEND;TZID=America/Los_Angeles:20260719T170000
DTSTAMP:20260419T154049
CREATED:20260323T202008Z
LAST-MODIFIED:20260323T202108Z
UID:10010007-1784462400-1784480400@calendarsausalito.com
SUMMARY:Headlands: Announcing Headlands' 2026 Artists in Residence
DESCRIPTION:Announcing Headlands’ 2026 Artists in Residence\n\n\n\n\n\n\n\n\n\nThe springs\, the summers\, and the autumn slowly pass\, 2024\, Acrylic and oil on canvas\, 76 x 96 inches. Work by Yameng Lee Thorp.\n\n\n\nWe are pleased to share the full Artist In Residence list for the Spring\, Summer\, and Fall 2026 cohorts. Artists from Poland to Botswana to Texas will join us on our campus\, developing new work in our studios and in dialogue with one another and the extraordinary landscape that surrounds us. Artists in Residence receive financial support and gather for chef-prepared meals in our Mess Hall four days per week—an essential part of the exchange that shapes the Headlands residency experience. We hope you’ll come and visit us at an Open House or for one of our monthly suppers and get to know this amazing new 2026 cohort!\n\n\n\n\n\n\n\nSummer Open House 2026\n\n\n\n\n\n\n\n\nWhen\nSunday\, July 19\, 12–5PM\n\n\nWhere\nHeadlands Center for the Arts\n\n\nPrice\nFree\n\n\n\n\n\n\n\n\n\n\nOpen House provides a once-a-season opportunity to roam the various buildings of our campus\, meet current artists\, view works in progress\, and attend screenings\, performances\, and readings. See what Artists in Residence and Graduate Fellows are up to in their studios\, stop by the Project Space to view in-progress installations\, and enjoy a house-made lunch from the Mess Hall. \nParking is limited. If you can\, we encourage you to carpool or bike. Get more info on transportation and directions. \nFirst-floor spaces in use for this event (Mess Hall\, Key Room\, Latrine\, The Commons\, first-floor studios) are accessible to people with mobility aids. Second- and third-floor spaces (including Project Space) are currently accessible only by stairs. \n\n\n\n\n\n\nSummer Season | Open House July 19 \nSaif Alsaegh (CA) | Film/Video/New Media \nMelissa Brown (NY) | Visual \nJay Carlon (CA) | Performance/Dance \nEirinie Carson (CA) | Writing \nMichelle Chang (MA) | Architecture/Environment \nJade Cho (CA) | Writing \nAbdelrahman ElGendy (Egypt) | Writing \nMiguel Gutierrez (CA) | Performance/Dance \nMarie Heilich (CA) | Arts Professional \nRegina Jestrow (FL) | Fiber Arts \nKristin Keane (CA) | Writing \nDamon Locks (IL) | Music/Sound \nErica Mahinay (CA) | Visual\, Project Space \nMichelle Yi Martin (CA) | Fiber Arts\, Project Space \nDenise Newman (CA) | Writing \nDena Novak (CA) | Visual \nBrooke Palmieri (CA) | Writing \nJon Rubin* (PA) | Social Practice \nMikalai Rudkouski (Belarus) | Writing \nKeisha Scarville (NY) | Visual \nJenn Shapland (NM) | Writing \nAlex Strada (NY) | Social Practice \nJohanna Unzueta (Berlin or NY) | Visual \nAmanda Valdez (NY) | Visual \nLindsey White* (CA) | Visual \nJade Yumang (CA) | Visual \n\n*Returning Alumni Artist \n\n\n\n\n\n\n	Related
URL:https://calendarsausalito.com/event/headlands-announcing-headlands-2026-artists-in-residence-2/
LOCATION:Headlands\, 944 Simmonds Road\, Sausalito\, 94965
CATEGORIES:Headlands Center for the Arts
END:VEVENT
BEGIN:VEVENT
DTSTART;TZID=America/Los_Angeles:20261025T120000
DTEND;TZID=America/Los_Angeles:20261025T170000
DTSTAMP:20260419T154049
CREATED:20260323T202213Z
LAST-MODIFIED:20260323T202213Z
UID:10010008-1792929600-1792947600@calendarsausalito.com
SUMMARY:Headlands: Announcing Headlands' 2026 Artists in Residence
DESCRIPTION:Announcing Headlands’ 2026 Artists in Residence\n\n\n\n\n\n\n\n\n\nThe springs\, the summers\, and the autumn slowly pass\, 2024\, Acrylic and oil on canvas\, 76 x 96 inches. Work by Yameng Lee Thorp.\n\n\n\nWe are pleased to share the full Artist In Residence list for the Spring\, Summer\, and Fall 2026 cohorts. Artists from Poland to Botswana to Texas will join us on our campus\, developing new work in our studios and in dialogue with one another and the extraordinary landscape that surrounds us. Artists in Residence receive financial support and gather for chef-prepared meals in our Mess Hall four days per week—an essential part of the exchange that shapes the Headlands residency experience. We hope you’ll come and visit us at an Open House or for one of our monthly suppers and get to know this amazing new 2026 cohort!\n\n\n\n\n\n\n\n\n\n\nFall Open House 2026\n\n\n\n\n\n\n\n\nWhen\nSunday\, October 25\, 12–5PM\n\n\nWhere\nHeadlands Center for the Arts\n\n\nPrice\nFree\n\n\n\n\n\n\n\n\n\n\nOpen House provides a once-a-season opportunity to roam the various buildings of our campus\, meet current artists\, view works in progress\, and attend screenings\, performances\, and readings. See what Artists in Residence and Graduate Fellows are up to in their studios\, stop by the Project Space to view in-progress installations\, and enjoy a house-made lunch from the Mess Hall. \nParking is limited. If you can\, we encourage you to carpool or bike. Get more info on transportation and directions. \nFirst-floor spaces in use for this event (Mess Hall\, Key Room\, Latrine\, The Commons\, first-floor studios) are accessible to people with mobility aids. Second- and third-floor spaces (including Project Space) are currently accessible only by stairs. \n\n\n\n\n\n\n\n\n\nFall Season | Open House October 25 \nGina Beavers (NJ) | Visual \nIan Becker (IL) | Writing \nJennifer S. Cheng (CA) | Writing \nDiana Cejas (NC) | Writing \nJohannes Heldén* (Sweden) | Visual \nSandra Jackson-Opoku* (IL) | Writing \nAtsushi Kaga (Japan/Ireland) | Visual \nAnne La Berge* (The Netherlands) | Music/Sound \nThero Makepe (Botswana) | Visual \nElliot Mercer (IL) | Interdisciplinary\njaamil olawale kosoko (PA) | Performance/Dance \nCaroline Partamian (CA) | Music/Sound \nWill Rawls* (CA) | Performance \nChristopher Shinn (NY) | Writing \nErik Smith (Germany) | Interdisciplinary \nScott Snibbe (CA) | Interdisciplinary\, Project Space \nYameng Lee Thorp (CA) | Visual \nAleksandra Walaszek \n& Sam Stevens (Poland) | Social Practice \n*Returning Alumni Artist \n\n\n\n\n\n\n\n	Related
URL:https://calendarsausalito.com/event/headlands-announcing-headlands-2026-artists-in-residence-3/
LOCATION:Headlands\, 944 Simmonds Road\, Sausalito\, 94965
CATEGORIES:Headlands Center for the Arts
END:VEVENT
END:VCALENDAR