BEGIN:VCALENDAR
VERSION:2.0
PRODID:-//Calendar Sausalito - ECPv6.15.20//NONSGML v1.0//EN
CALSCALE:GREGORIAN
METHOD:PUBLISH
X-ORIGINAL-URL:https://calendarsausalito.com
X-WR-CALDESC:Events for Calendar Sausalito
REFRESH-INTERVAL;VALUE=DURATION:PT1H
X-Robots-Tag:noindex
X-PUBLISHED-TTL:PT1H
BEGIN:VTIMEZONE
TZID:America/Los_Angeles
BEGIN:DAYLIGHT
TZOFFSETFROM:-0800
TZOFFSETTO:-0700
TZNAME:PDT
DTSTART:20260308T100000
END:DAYLIGHT
BEGIN:STANDARD
TZOFFSETFROM:-0700
TZOFFSETTO:-0800
TZNAME:PST
DTSTART:20261101T090000
END:STANDARD
BEGIN:DAYLIGHT
TZOFFSETFROM:-0800
TZOFFSETTO:-0700
TZNAME:PDT
DTSTART:20270314T100000
END:DAYLIGHT
BEGIN:STANDARD
TZOFFSETFROM:-0700
TZOFFSETTO:-0800
TZNAME:PST
DTSTART:20271107T090000
END:STANDARD
BEGIN:DAYLIGHT
TZOFFSETFROM:-0800
TZOFFSETTO:-0700
TZNAME:PDT
DTSTART:20280312T100000
END:DAYLIGHT
BEGIN:STANDARD
TZOFFSETFROM:-0700
TZOFFSETTO:-0800
TZNAME:PST
DTSTART:20281105T090000
END:STANDARD
BEGIN:DAYLIGHT
TZOFFSETFROM:-0800
TZOFFSETTO:-0700
TZNAME:PDT
DTSTART:20290311T100000
END:DAYLIGHT
BEGIN:STANDARD
TZOFFSETFROM:-0700
TZOFFSETTO:-0800
TZNAME:PST
DTSTART:20291104T090000
END:STANDARD
BEGIN:DAYLIGHT
TZOFFSETFROM:-0800
TZOFFSETTO:-0700
TZNAME:PDT
DTSTART:20300310T100000
END:DAYLIGHT
BEGIN:STANDARD
TZOFFSETFROM:-0700
TZOFFSETTO:-0800
TZNAME:PST
DTSTART:20301103T090000
END:STANDARD
BEGIN:DAYLIGHT
TZOFFSETFROM:-0800
TZOFFSETTO:-0700
TZNAME:PDT
DTSTART:20310309T100000
END:DAYLIGHT
BEGIN:STANDARD
TZOFFSETFROM:-0700
TZOFFSETTO:-0800
TZNAME:PST
DTSTART:20311102T090000
END:STANDARD
BEGIN:DAYLIGHT
TZOFFSETFROM:-0800
TZOFFSETTO:-0700
TZNAME:PDT
DTSTART:20320314T100000
END:DAYLIGHT
BEGIN:STANDARD
TZOFFSETFROM:-0700
TZOFFSETTO:-0800
TZNAME:PST
DTSTART:20321107T090000
END:STANDARD
END:VTIMEZONE
BEGIN:VEVENT
DTSTART;TZID=America/Los_Angeles:20271008T180000
DTEND;TZID=America/Los_Angeles:20271008T200000
DTSTAMP:20260419T161517
CREATED:20260222T160114Z
LAST-MODIFIED:20260222T160551Z
UID:10008176-1823018400-1823025600@calendarsausalito.com
SUMMARY:IDESST: Community Sip & Savor
DESCRIPTION:Related
URL:https://calendarsausalito.com/event/idesst-sip-savor/2027-10-08/
LOCATION:IDESST Sausalito Portuguese Cultural Center\, 511 Caledonia St.\, Sausalito\, CA\, 94965\, United States
CATEGORIES:IDESST Sausalito Portuguese Cultural Center
END:VEVENT
BEGIN:VEVENT
DTSTART;TZID=America/Los_Angeles:20271210T180000
DTEND;TZID=America/Los_Angeles:20271210T200000
DTSTAMP:20260419T161517
CREATED:20260222T160114Z
LAST-MODIFIED:20260222T160551Z
UID:10008177-1828461600-1828468800@calendarsausalito.com
SUMMARY:IDESST: Community Sip & Savor
DESCRIPTION:Related
URL:https://calendarsausalito.com/event/idesst-sip-savor/2027-12-10/
LOCATION:IDESST Sausalito Portuguese Cultural Center\, 511 Caledonia St.\, Sausalito\, CA\, 94965\, United States
CATEGORIES:IDESST Sausalito Portuguese Cultural Center
END:VEVENT
BEGIN:VEVENT
DTSTART;TZID=America/Los_Angeles:20280211T180000
DTEND;TZID=America/Los_Angeles:20280211T200000
DTSTAMP:20260419T161517
CREATED:20260222T160114Z
LAST-MODIFIED:20260222T160551Z
UID:10008178-1833904800-1833912000@calendarsausalito.com
SUMMARY:IDESST: Community Sip & Savor
DESCRIPTION:Related
URL:https://calendarsausalito.com/event/idesst-sip-savor/2028-02-11/
LOCATION:IDESST Sausalito Portuguese Cultural Center\, 511 Caledonia St.\, Sausalito\, CA\, 94965\, United States
CATEGORIES:IDESST Sausalito Portuguese Cultural Center
END:VEVENT
BEGIN:VEVENT
DTSTART;TZID=America/Los_Angeles:20280414T180000
DTEND;TZID=America/Los_Angeles:20280414T200000
DTSTAMP:20260419T161517
CREATED:20260222T160114Z
LAST-MODIFIED:20260222T160551Z
UID:10008179-1839348000-1839355200@calendarsausalito.com
SUMMARY:IDESST: Community Sip & Savor
DESCRIPTION:Related
URL:https://calendarsausalito.com/event/idesst-sip-savor/2028-04-14/
LOCATION:IDESST Sausalito Portuguese Cultural Center\, 511 Caledonia St.\, Sausalito\, CA\, 94965\, United States
CATEGORIES:IDESST Sausalito Portuguese Cultural Center
END:VEVENT
BEGIN:VEVENT
DTSTART;TZID=America/Los_Angeles:20280609T180000
DTEND;TZID=America/Los_Angeles:20280609T200000
DTSTAMP:20260419T161517
CREATED:20260222T160114Z
LAST-MODIFIED:20260222T160551Z
UID:10008180-1844186400-1844193600@calendarsausalito.com
SUMMARY:IDESST: Community Sip & Savor
DESCRIPTION:Related
URL:https://calendarsausalito.com/event/idesst-sip-savor/2028-06-09/
LOCATION:IDESST Sausalito Portuguese Cultural Center\, 511 Caledonia St.\, Sausalito\, CA\, 94965\, United States
CATEGORIES:IDESST Sausalito Portuguese Cultural Center
END:VEVENT
BEGIN:VEVENT
DTSTART;TZID=America/Los_Angeles:20280811T180000
DTEND;TZID=America/Los_Angeles:20280811T200000
DTSTAMP:20260419T161517
CREATED:20260222T160114Z
LAST-MODIFIED:20260222T160551Z
UID:10008181-1849629600-1849636800@calendarsausalito.com
SUMMARY:IDESST: Community Sip & Savor
DESCRIPTION:Related
URL:https://calendarsausalito.com/event/idesst-sip-savor/2028-08-11/
LOCATION:IDESST Sausalito Portuguese Cultural Center\, 511 Caledonia St.\, Sausalito\, CA\, 94965\, United States
CATEGORIES:IDESST Sausalito Portuguese Cultural Center
END:VEVENT
BEGIN:VEVENT
DTSTART;TZID=America/Los_Angeles:20281013T180000
DTEND;TZID=America/Los_Angeles:20281013T200000
DTSTAMP:20260419T161517
CREATED:20260222T160114Z
LAST-MODIFIED:20260222T160551Z
UID:10008182-1855072800-1855080000@calendarsausalito.com
SUMMARY:IDESST: Community Sip & Savor
DESCRIPTION:Related
URL:https://calendarsausalito.com/event/idesst-sip-savor/2028-10-13/
LOCATION:IDESST Sausalito Portuguese Cultural Center\, 511 Caledonia St.\, Sausalito\, CA\, 94965\, United States
CATEGORIES:IDESST Sausalito Portuguese Cultural Center
END:VEVENT
BEGIN:VEVENT
DTSTART;TZID=America/Los_Angeles:20281208T180000
DTEND;TZID=America/Los_Angeles:20281208T200000
DTSTAMP:20260419T161517
CREATED:20260222T160114Z
LAST-MODIFIED:20260222T160551Z
UID:10008183-1859911200-1859918400@calendarsausalito.com
SUMMARY:IDESST: Community Sip & Savor
DESCRIPTION:Related
URL:https://calendarsausalito.com/event/idesst-sip-savor/2028-12-08/
LOCATION:IDESST Sausalito Portuguese Cultural Center\, 511 Caledonia St.\, Sausalito\, CA\, 94965\, United States
CATEGORIES:IDESST Sausalito Portuguese Cultural Center
END:VEVENT
BEGIN:VEVENT
DTSTART;TZID=America/Los_Angeles:20290209T180000
DTEND;TZID=America/Los_Angeles:20290209T200000
DTSTAMP:20260419T161517
CREATED:20260222T160114Z
LAST-MODIFIED:20260222T160551Z
UID:10008184-1865354400-1865361600@calendarsausalito.com
SUMMARY:IDESST: Community Sip & Savor
DESCRIPTION:Related
URL:https://calendarsausalito.com/event/idesst-sip-savor/2029-02-09/
LOCATION:IDESST Sausalito Portuguese Cultural Center\, 511 Caledonia St.\, Sausalito\, CA\, 94965\, United States
CATEGORIES:IDESST Sausalito Portuguese Cultural Center
END:VEVENT
BEGIN:VEVENT
DTSTART;TZID=America/Los_Angeles:20290413T180000
DTEND;TZID=America/Los_Angeles:20290413T200000
DTSTAMP:20260419T161517
CREATED:20260222T160114Z
LAST-MODIFIED:20260222T160551Z
UID:10008185-1870797600-1870804800@calendarsausalito.com
SUMMARY:IDESST: Community Sip & Savor
DESCRIPTION:Related
URL:https://calendarsausalito.com/event/idesst-sip-savor/2029-04-13/
LOCATION:IDESST Sausalito Portuguese Cultural Center\, 511 Caledonia St.\, Sausalito\, CA\, 94965\, United States
CATEGORIES:IDESST Sausalito Portuguese Cultural Center
END:VEVENT
BEGIN:VEVENT
DTSTART;TZID=America/Los_Angeles:20290608T180000
DTEND;TZID=America/Los_Angeles:20290608T200000
DTSTAMP:20260419T161517
CREATED:20260222T160114Z
LAST-MODIFIED:20260222T160551Z
UID:10008186-1875636000-1875643200@calendarsausalito.com
SUMMARY:IDESST: Community Sip & Savor
DESCRIPTION:Related
URL:https://calendarsausalito.com/event/idesst-sip-savor/2029-06-08/
LOCATION:IDESST Sausalito Portuguese Cultural Center\, 511 Caledonia St.\, Sausalito\, CA\, 94965\, United States
CATEGORIES:IDESST Sausalito Portuguese Cultural Center
END:VEVENT
BEGIN:VEVENT
DTSTART;TZID=America/Los_Angeles:20290810T180000
DTEND;TZID=America/Los_Angeles:20290810T200000
DTSTAMP:20260419T161517
CREATED:20260222T160114Z
LAST-MODIFIED:20260222T160551Z
UID:10008187-1881079200-1881086400@calendarsausalito.com
SUMMARY:IDESST: Community Sip & Savor
DESCRIPTION:Related
URL:https://calendarsausalito.com/event/idesst-sip-savor/2029-08-10/
LOCATION:IDESST Sausalito Portuguese Cultural Center\, 511 Caledonia St.\, Sausalito\, CA\, 94965\, United States
CATEGORIES:IDESST Sausalito Portuguese Cultural Center
END:VEVENT
BEGIN:VEVENT
DTSTART;TZID=America/Los_Angeles:20291012T180000
DTEND;TZID=America/Los_Angeles:20291012T200000
DTSTAMP:20260419T161517
CREATED:20260222T160114Z
LAST-MODIFIED:20260222T160551Z
UID:10008188-1886522400-1886529600@calendarsausalito.com
SUMMARY:IDESST: Community Sip & Savor
DESCRIPTION:Related
URL:https://calendarsausalito.com/event/idesst-sip-savor/2029-10-12/
LOCATION:IDESST Sausalito Portuguese Cultural Center\, 511 Caledonia St.\, Sausalito\, CA\, 94965\, United States
CATEGORIES:IDESST Sausalito Portuguese Cultural Center
END:VEVENT
BEGIN:VEVENT
DTSTART;TZID=America/Los_Angeles:20291214T180000
DTEND;TZID=America/Los_Angeles:20291214T200000
DTSTAMP:20260419T161517
CREATED:20260222T160114Z
LAST-MODIFIED:20260222T160551Z
UID:10008189-1891965600-1891972800@calendarsausalito.com
SUMMARY:IDESST: Community Sip & Savor
DESCRIPTION:Related
URL:https://calendarsausalito.com/event/idesst-sip-savor/2029-12-14/
LOCATION:IDESST Sausalito Portuguese Cultural Center\, 511 Caledonia St.\, Sausalito\, CA\, 94965\, United States
CATEGORIES:IDESST Sausalito Portuguese Cultural Center
END:VEVENT
BEGIN:VEVENT
DTSTART;TZID=America/Los_Angeles:20300208T180000
DTEND;TZID=America/Los_Angeles:20300208T200000
DTSTAMP:20260419T161517
CREATED:20260222T160114Z
LAST-MODIFIED:20260222T160551Z
UID:10008190-1896804000-1896811200@calendarsausalito.com
SUMMARY:IDESST: Community Sip & Savor
DESCRIPTION:Related
URL:https://calendarsausalito.com/event/idesst-sip-savor/2030-02-08/
LOCATION:IDESST Sausalito Portuguese Cultural Center\, 511 Caledonia St.\, Sausalito\, CA\, 94965\, United States
CATEGORIES:IDESST Sausalito Portuguese Cultural Center
END:VEVENT
BEGIN:VEVENT
DTSTART;TZID=America/Los_Angeles:20300412T180000
DTEND;TZID=America/Los_Angeles:20300412T200000
DTSTAMP:20260419T161517
CREATED:20260222T160114Z
LAST-MODIFIED:20260222T160551Z
UID:10008191-1902247200-1902254400@calendarsausalito.com
SUMMARY:IDESST: Community Sip & Savor
DESCRIPTION:Related
URL:https://calendarsausalito.com/event/idesst-sip-savor/2030-04-12/
LOCATION:IDESST Sausalito Portuguese Cultural Center\, 511 Caledonia St.\, Sausalito\, CA\, 94965\, United States
CATEGORIES:IDESST Sausalito Portuguese Cultural Center
END:VEVENT
BEGIN:VEVENT
DTSTART;TZID=America/Los_Angeles:20300614T180000
DTEND;TZID=America/Los_Angeles:20300614T200000
DTSTAMP:20260419T161517
CREATED:20260222T160114Z
LAST-MODIFIED:20260222T160551Z
UID:10008192-1907690400-1907697600@calendarsausalito.com
SUMMARY:IDESST: Community Sip & Savor
DESCRIPTION:Related
URL:https://calendarsausalito.com/event/idesst-sip-savor/2030-06-14/
LOCATION:IDESST Sausalito Portuguese Cultural Center\, 511 Caledonia St.\, Sausalito\, CA\, 94965\, United States
CATEGORIES:IDESST Sausalito Portuguese Cultural Center
END:VEVENT
BEGIN:VEVENT
DTSTART;TZID=America/Los_Angeles:20300809T180000
DTEND;TZID=America/Los_Angeles:20300809T200000
DTSTAMP:20260419T161517
CREATED:20260222T160114Z
LAST-MODIFIED:20260222T160551Z
UID:10008193-1912528800-1912536000@calendarsausalito.com
SUMMARY:IDESST: Community Sip & Savor
DESCRIPTION:Related
URL:https://calendarsausalito.com/event/idesst-sip-savor/2030-08-09/
LOCATION:IDESST Sausalito Portuguese Cultural Center\, 511 Caledonia St.\, Sausalito\, CA\, 94965\, United States
CATEGORIES:IDESST Sausalito Portuguese Cultural Center
END:VEVENT
BEGIN:VEVENT
DTSTART;TZID=America/Los_Angeles:20301011T180000
DTEND;TZID=America/Los_Angeles:20301011T200000
DTSTAMP:20260419T161517
CREATED:20260222T160114Z
LAST-MODIFIED:20260222T160551Z
UID:10008194-1917972000-1917979200@calendarsausalito.com
SUMMARY:IDESST: Community Sip & Savor
DESCRIPTION:Related
URL:https://calendarsausalito.com/event/idesst-sip-savor/2030-10-11/
LOCATION:IDESST Sausalito Portuguese Cultural Center\, 511 Caledonia St.\, Sausalito\, CA\, 94965\, United States
CATEGORIES:IDESST Sausalito Portuguese Cultural Center
END:VEVENT
BEGIN:VEVENT
DTSTART;TZID=America/Los_Angeles:20301213T180000
DTEND;TZID=America/Los_Angeles:20301213T200000
DTSTAMP:20260419T161517
CREATED:20260222T160114Z
LAST-MODIFIED:20260222T160551Z
UID:10008195-1923415200-1923422400@calendarsausalito.com
SUMMARY:IDESST: Community Sip & Savor
DESCRIPTION:Related
URL:https://calendarsausalito.com/event/idesst-sip-savor/2030-12-13/
LOCATION:IDESST Sausalito Portuguese Cultural Center\, 511 Caledonia St.\, Sausalito\, CA\, 94965\, United States
CATEGORIES:IDESST Sausalito Portuguese Cultural Center
END:VEVENT
BEGIN:VEVENT
DTSTART;TZID=America/Los_Angeles:20310214T180000
DTEND;TZID=America/Los_Angeles:20310214T200000
DTSTAMP:20260419T161517
CREATED:20260222T160114Z
LAST-MODIFIED:20260222T160551Z
UID:10008196-1928858400-1928865600@calendarsausalito.com
SUMMARY:IDESST: Community Sip & Savor
DESCRIPTION:Related
URL:https://calendarsausalito.com/event/idesst-sip-savor/2031-02-14/
LOCATION:IDESST Sausalito Portuguese Cultural Center\, 511 Caledonia St.\, Sausalito\, CA\, 94965\, United States
CATEGORIES:IDESST Sausalito Portuguese Cultural Center
END:VEVENT
END:VCALENDAR