BEGIN:VCALENDAR
VERSION:2.0
PRODID:-//Calendar Sausalito - ECPv6.15.20//NONSGML v1.0//EN
CALSCALE:GREGORIAN
METHOD:PUBLISH
X-WR-CALNAME:Calendar Sausalito
X-ORIGINAL-URL:https://calendarsausalito.com
X-WR-CALDESC:Events for Calendar Sausalito
REFRESH-INTERVAL;VALUE=DURATION:PT1H
X-Robots-Tag:noindex
X-PUBLISHED-TTL:PT1H
BEGIN:VTIMEZONE
TZID:America/Los_Angeles
BEGIN:DAYLIGHT
TZOFFSETFROM:-0800
TZOFFSETTO:-0700
TZNAME:PDT
DTSTART:20250309T100000
END:DAYLIGHT
BEGIN:STANDARD
TZOFFSETFROM:-0700
TZOFFSETTO:-0800
TZNAME:PST
DTSTART:20251102T090000
END:STANDARD
BEGIN:DAYLIGHT
TZOFFSETFROM:-0800
TZOFFSETTO:-0700
TZNAME:PDT
DTSTART:20260308T100000
END:DAYLIGHT
BEGIN:STANDARD
TZOFFSETFROM:-0700
TZOFFSETTO:-0800
TZNAME:PST
DTSTART:20261101T090000
END:STANDARD
BEGIN:DAYLIGHT
TZOFFSETFROM:-0800
TZOFFSETTO:-0700
TZNAME:PDT
DTSTART:20270314T100000
END:DAYLIGHT
BEGIN:STANDARD
TZOFFSETFROM:-0700
TZOFFSETTO:-0800
TZNAME:PST
DTSTART:20271107T090000
END:STANDARD
BEGIN:DAYLIGHT
TZOFFSETFROM:-0800
TZOFFSETTO:-0700
TZNAME:PDT
DTSTART:20280312T100000
END:DAYLIGHT
BEGIN:STANDARD
TZOFFSETFROM:-0700
TZOFFSETTO:-0800
TZNAME:PST
DTSTART:20281105T090000
END:STANDARD
BEGIN:DAYLIGHT
TZOFFSETFROM:-0800
TZOFFSETTO:-0700
TZNAME:PDT
DTSTART:20290311T100000
END:DAYLIGHT
BEGIN:STANDARD
TZOFFSETFROM:-0700
TZOFFSETTO:-0800
TZNAME:PST
DTSTART:20291104T090000
END:STANDARD
END:VTIMEZONE
BEGIN:VEVENT
DTSTART;TZID=America/Los_Angeles:20260509T140000
DTEND;TZID=America/Los_Angeles:20260509T153000
DTSTAMP:20260419T121723
CREATED:20251226T215745Z
LAST-MODIFIED:20251231T225231Z
UID:10001428-1778335200-1778340600@calendarsausalito.com
SUMMARY:Sausalito Library: Family Storytime & Art in the Library
DESCRIPTION:Every Second Saturday come inside for an afternoon of art and stories! Family Storytime (ages 0-5+) and a mess-free art project for all ages\n\n\n	Related
URL:https://calendarsausalito.com/event/2nd-saturdays-family-storytime-art-in-the-library-2/2026-05-09/
LOCATION:Sausalito Library\, 420 Litho Street\, Sausalito\, CA\, 94965\, United States
CATEGORIES:Sausalito Library
END:VEVENT
BEGIN:VEVENT
DTSTART;TZID=America/Los_Angeles:20260613T140000
DTEND;TZID=America/Los_Angeles:20260613T153000
DTSTAMP:20260419T121723
CREATED:20251226T215745Z
LAST-MODIFIED:20251231T225231Z
UID:10001429-1781359200-1781364600@calendarsausalito.com
SUMMARY:Sausalito Library: Family Storytime & Art in the Library
DESCRIPTION:Every Second Saturday come inside for an afternoon of art and stories! Family Storytime (ages 0-5+) and a mess-free art project for all ages\n\n\n	Related
URL:https://calendarsausalito.com/event/2nd-saturdays-family-storytime-art-in-the-library-2/2026-06-13/
LOCATION:Sausalito Library\, 420 Litho Street\, Sausalito\, CA\, 94965\, United States
CATEGORIES:Sausalito Library
END:VEVENT
BEGIN:VEVENT
DTSTART;TZID=America/Los_Angeles:20260711T140000
DTEND;TZID=America/Los_Angeles:20260711T153000
DTSTAMP:20260419T121723
CREATED:20251226T215745Z
LAST-MODIFIED:20251231T225231Z
UID:10001430-1783778400-1783783800@calendarsausalito.com
SUMMARY:Sausalito Library: Family Storytime & Art in the Library
DESCRIPTION:Every Second Saturday come inside for an afternoon of art and stories! Family Storytime (ages 0-5+) and a mess-free art project for all ages\n\n\n	Related
URL:https://calendarsausalito.com/event/2nd-saturdays-family-storytime-art-in-the-library-2/2026-07-11/
LOCATION:Sausalito Library\, 420 Litho Street\, Sausalito\, CA\, 94965\, United States
CATEGORIES:Sausalito Library
END:VEVENT
BEGIN:VEVENT
DTSTART;TZID=America/Los_Angeles:20260808T140000
DTEND;TZID=America/Los_Angeles:20260808T153000
DTSTAMP:20260419T121723
CREATED:20251226T215745Z
LAST-MODIFIED:20251231T225231Z
UID:10001431-1786197600-1786203000@calendarsausalito.com
SUMMARY:Sausalito Library: Family Storytime & Art in the Library
DESCRIPTION:Every Second Saturday come inside for an afternoon of art and stories! Family Storytime (ages 0-5+) and a mess-free art project for all ages\n\n\n	Related
URL:https://calendarsausalito.com/event/2nd-saturdays-family-storytime-art-in-the-library-2/2026-08-08/
LOCATION:Sausalito Library\, 420 Litho Street\, Sausalito\, CA\, 94965\, United States
CATEGORIES:Sausalito Library
END:VEVENT
BEGIN:VEVENT
DTSTART;TZID=America/Los_Angeles:20260912T140000
DTEND;TZID=America/Los_Angeles:20260912T153000
DTSTAMP:20260419T121723
CREATED:20251226T215745Z
LAST-MODIFIED:20251231T225231Z
UID:10001432-1789221600-1789227000@calendarsausalito.com
SUMMARY:Sausalito Library: Family Storytime & Art in the Library
DESCRIPTION:Every Second Saturday come inside for an afternoon of art and stories! Family Storytime (ages 0-5+) and a mess-free art project for all ages\n\n\n	Related
URL:https://calendarsausalito.com/event/2nd-saturdays-family-storytime-art-in-the-library-2/2026-09-12/
LOCATION:Sausalito Library\, 420 Litho Street\, Sausalito\, CA\, 94965\, United States
CATEGORIES:Sausalito Library
END:VEVENT
BEGIN:VEVENT
DTSTART;TZID=America/Los_Angeles:20261010T140000
DTEND;TZID=America/Los_Angeles:20261010T153000
DTSTAMP:20260419T121723
CREATED:20251226T215745Z
LAST-MODIFIED:20251231T225231Z
UID:10001433-1791640800-1791646200@calendarsausalito.com
SUMMARY:Sausalito Library: Family Storytime & Art in the Library
DESCRIPTION:Every Second Saturday come inside for an afternoon of art and stories! Family Storytime (ages 0-5+) and a mess-free art project for all ages\n\n\n	Related
URL:https://calendarsausalito.com/event/2nd-saturdays-family-storytime-art-in-the-library-2/2026-10-10/
LOCATION:Sausalito Library\, 420 Litho Street\, Sausalito\, CA\, 94965\, United States
CATEGORIES:Sausalito Library
END:VEVENT
BEGIN:VEVENT
DTSTART;TZID=America/Los_Angeles:20261114T140000
DTEND;TZID=America/Los_Angeles:20261114T153000
DTSTAMP:20260419T121723
CREATED:20251226T215745Z
LAST-MODIFIED:20251231T225231Z
UID:10001434-1794664800-1794670200@calendarsausalito.com
SUMMARY:Sausalito Library: Family Storytime & Art in the Library
DESCRIPTION:Every Second Saturday come inside for an afternoon of art and stories! Family Storytime (ages 0-5+) and a mess-free art project for all ages\n\n\n	Related
URL:https://calendarsausalito.com/event/2nd-saturdays-family-storytime-art-in-the-library-2/2026-11-14/
LOCATION:Sausalito Library\, 420 Litho Street\, Sausalito\, CA\, 94965\, United States
CATEGORIES:Sausalito Library
END:VEVENT
BEGIN:VEVENT
DTSTART;TZID=America/Los_Angeles:20261212T140000
DTEND;TZID=America/Los_Angeles:20261212T153000
DTSTAMP:20260419T121723
CREATED:20251226T215745Z
LAST-MODIFIED:20251231T225231Z
UID:10001435-1797084000-1797089400@calendarsausalito.com
SUMMARY:Sausalito Library: Family Storytime & Art in the Library
DESCRIPTION:Every Second Saturday come inside for an afternoon of art and stories! Family Storytime (ages 0-5+) and a mess-free art project for all ages\n\n\n	Related
URL:https://calendarsausalito.com/event/2nd-saturdays-family-storytime-art-in-the-library-2/2026-12-12/
LOCATION:Sausalito Library\, 420 Litho Street\, Sausalito\, CA\, 94965\, United States
CATEGORIES:Sausalito Library
END:VEVENT
BEGIN:VEVENT
DTSTART;TZID=America/Los_Angeles:20270109T140000
DTEND;TZID=America/Los_Angeles:20270109T153000
DTSTAMP:20260419T121723
CREATED:20251226T215745Z
LAST-MODIFIED:20251231T225231Z
UID:10001436-1799503200-1799508600@calendarsausalito.com
SUMMARY:Sausalito Library: Family Storytime & Art in the Library
DESCRIPTION:Every Second Saturday come inside for an afternoon of art and stories! Family Storytime (ages 0-5+) and a mess-free art project for all ages\n\n\n	Related
URL:https://calendarsausalito.com/event/2nd-saturdays-family-storytime-art-in-the-library-2/2027-01-09/
LOCATION:Sausalito Library\, 420 Litho Street\, Sausalito\, CA\, 94965\, United States
CATEGORIES:Sausalito Library
END:VEVENT
BEGIN:VEVENT
DTSTART;TZID=America/Los_Angeles:20270213T140000
DTEND;TZID=America/Los_Angeles:20270213T153000
DTSTAMP:20260419T121723
CREATED:20251226T215745Z
LAST-MODIFIED:20251231T225231Z
UID:10001437-1802527200-1802532600@calendarsausalito.com
SUMMARY:Sausalito Library: Family Storytime & Art in the Library
DESCRIPTION:Every Second Saturday come inside for an afternoon of art and stories! Family Storytime (ages 0-5+) and a mess-free art project for all ages\n\n\n	Related
URL:https://calendarsausalito.com/event/2nd-saturdays-family-storytime-art-in-the-library-2/2027-02-13/
LOCATION:Sausalito Library\, 420 Litho Street\, Sausalito\, CA\, 94965\, United States
CATEGORIES:Sausalito Library
END:VEVENT
BEGIN:VEVENT
DTSTART;TZID=America/Los_Angeles:20270313T140000
DTEND;TZID=America/Los_Angeles:20270313T153000
DTSTAMP:20260419T121723
CREATED:20251226T215745Z
LAST-MODIFIED:20251231T225231Z
UID:10001438-1804946400-1804951800@calendarsausalito.com
SUMMARY:Sausalito Library: Family Storytime & Art in the Library
DESCRIPTION:Every Second Saturday come inside for an afternoon of art and stories! Family Storytime (ages 0-5+) and a mess-free art project for all ages\n\n\n	Related
URL:https://calendarsausalito.com/event/2nd-saturdays-family-storytime-art-in-the-library-2/2027-03-13/
LOCATION:Sausalito Library\, 420 Litho Street\, Sausalito\, CA\, 94965\, United States
CATEGORIES:Sausalito Library
END:VEVENT
BEGIN:VEVENT
DTSTART;TZID=America/Los_Angeles:20270410T140000
DTEND;TZID=America/Los_Angeles:20270410T153000
DTSTAMP:20260419T121723
CREATED:20251226T215745Z
LAST-MODIFIED:20251231T225231Z
UID:10001439-1807365600-1807371000@calendarsausalito.com
SUMMARY:Sausalito Library: Family Storytime & Art in the Library
DESCRIPTION:Every Second Saturday come inside for an afternoon of art and stories! Family Storytime (ages 0-5+) and a mess-free art project for all ages\n\n\n	Related
URL:https://calendarsausalito.com/event/2nd-saturdays-family-storytime-art-in-the-library-2/2027-04-10/
LOCATION:Sausalito Library\, 420 Litho Street\, Sausalito\, CA\, 94965\, United States
CATEGORIES:Sausalito Library
END:VEVENT
BEGIN:VEVENT
DTSTART;TZID=America/Los_Angeles:20270508T140000
DTEND;TZID=America/Los_Angeles:20270508T153000
DTSTAMP:20260419T121723
CREATED:20251226T215745Z
LAST-MODIFIED:20251231T225231Z
UID:10001440-1809784800-1809790200@calendarsausalito.com
SUMMARY:Sausalito Library: Family Storytime & Art in the Library
DESCRIPTION:Every Second Saturday come inside for an afternoon of art and stories! Family Storytime (ages 0-5+) and a mess-free art project for all ages\n\n\n	Related
URL:https://calendarsausalito.com/event/2nd-saturdays-family-storytime-art-in-the-library-2/2027-05-08/
LOCATION:Sausalito Library\, 420 Litho Street\, Sausalito\, CA\, 94965\, United States
CATEGORIES:Sausalito Library
END:VEVENT
BEGIN:VEVENT
DTSTART;TZID=America/Los_Angeles:20270612T140000
DTEND;TZID=America/Los_Angeles:20270612T153000
DTSTAMP:20260419T121723
CREATED:20251226T215745Z
LAST-MODIFIED:20251231T225231Z
UID:10001441-1812808800-1812814200@calendarsausalito.com
SUMMARY:Sausalito Library: Family Storytime & Art in the Library
DESCRIPTION:Every Second Saturday come inside for an afternoon of art and stories! Family Storytime (ages 0-5+) and a mess-free art project for all ages\n\n\n	Related
URL:https://calendarsausalito.com/event/2nd-saturdays-family-storytime-art-in-the-library-2/2027-06-12/
LOCATION:Sausalito Library\, 420 Litho Street\, Sausalito\, CA\, 94965\, United States
CATEGORIES:Sausalito Library
END:VEVENT
BEGIN:VEVENT
DTSTART;TZID=America/Los_Angeles:20270710T140000
DTEND;TZID=America/Los_Angeles:20270710T153000
DTSTAMP:20260419T121723
CREATED:20251226T215745Z
LAST-MODIFIED:20251231T225231Z
UID:10001442-1815228000-1815233400@calendarsausalito.com
SUMMARY:Sausalito Library: Family Storytime & Art in the Library
DESCRIPTION:Every Second Saturday come inside for an afternoon of art and stories! Family Storytime (ages 0-5+) and a mess-free art project for all ages\n\n\n	Related
URL:https://calendarsausalito.com/event/2nd-saturdays-family-storytime-art-in-the-library-2/2027-07-10/
LOCATION:Sausalito Library\, 420 Litho Street\, Sausalito\, CA\, 94965\, United States
CATEGORIES:Sausalito Library
END:VEVENT
BEGIN:VEVENT
DTSTART;TZID=America/Los_Angeles:20270814T140000
DTEND;TZID=America/Los_Angeles:20270814T153000
DTSTAMP:20260419T121723
CREATED:20251226T215745Z
LAST-MODIFIED:20251231T225231Z
UID:10001443-1818252000-1818257400@calendarsausalito.com
SUMMARY:Sausalito Library: Family Storytime & Art in the Library
DESCRIPTION:Every Second Saturday come inside for an afternoon of art and stories! Family Storytime (ages 0-5+) and a mess-free art project for all ages\n\n\n	Related
URL:https://calendarsausalito.com/event/2nd-saturdays-family-storytime-art-in-the-library-2/2027-08-14/
LOCATION:Sausalito Library\, 420 Litho Street\, Sausalito\, CA\, 94965\, United States
CATEGORIES:Sausalito Library
END:VEVENT
BEGIN:VEVENT
DTSTART;TZID=America/Los_Angeles:20270911T140000
DTEND;TZID=America/Los_Angeles:20270911T153000
DTSTAMP:20260419T121723
CREATED:20251226T215745Z
LAST-MODIFIED:20251231T225231Z
UID:10001444-1820671200-1820676600@calendarsausalito.com
SUMMARY:Sausalito Library: Family Storytime & Art in the Library
DESCRIPTION:Every Second Saturday come inside for an afternoon of art and stories! Family Storytime (ages 0-5+) and a mess-free art project for all ages\n\n\n	Related
URL:https://calendarsausalito.com/event/2nd-saturdays-family-storytime-art-in-the-library-2/2027-09-11/
LOCATION:Sausalito Library\, 420 Litho Street\, Sausalito\, CA\, 94965\, United States
CATEGORIES:Sausalito Library
END:VEVENT
BEGIN:VEVENT
DTSTART;TZID=America/Los_Angeles:20271009T140000
DTEND;TZID=America/Los_Angeles:20271009T153000
DTSTAMP:20260419T121723
CREATED:20251226T215745Z
LAST-MODIFIED:20251231T225231Z
UID:10001445-1823090400-1823095800@calendarsausalito.com
SUMMARY:Sausalito Library: Family Storytime & Art in the Library
DESCRIPTION:Every Second Saturday come inside for an afternoon of art and stories! Family Storytime (ages 0-5+) and a mess-free art project for all ages\n\n\n	Related
URL:https://calendarsausalito.com/event/2nd-saturdays-family-storytime-art-in-the-library-2/2027-10-09/
LOCATION:Sausalito Library\, 420 Litho Street\, Sausalito\, CA\, 94965\, United States
CATEGORIES:Sausalito Library
END:VEVENT
BEGIN:VEVENT
DTSTART;TZID=America/Los_Angeles:20271113T140000
DTEND;TZID=America/Los_Angeles:20271113T153000
DTSTAMP:20260419T121723
CREATED:20251226T215745Z
LAST-MODIFIED:20251231T225231Z
UID:10001446-1826114400-1826119800@calendarsausalito.com
SUMMARY:Sausalito Library: Family Storytime & Art in the Library
DESCRIPTION:Every Second Saturday come inside for an afternoon of art and stories! Family Storytime (ages 0-5+) and a mess-free art project for all ages\n\n\n	Related
URL:https://calendarsausalito.com/event/2nd-saturdays-family-storytime-art-in-the-library-2/2027-11-13/
LOCATION:Sausalito Library\, 420 Litho Street\, Sausalito\, CA\, 94965\, United States
CATEGORIES:Sausalito Library
END:VEVENT
BEGIN:VEVENT
DTSTART;TZID=America/Los_Angeles:20271211T140000
DTEND;TZID=America/Los_Angeles:20271211T153000
DTSTAMP:20260419T121723
CREATED:20251226T215745Z
LAST-MODIFIED:20251231T225231Z
UID:10001447-1828533600-1828539000@calendarsausalito.com
SUMMARY:Sausalito Library: Family Storytime & Art in the Library
DESCRIPTION:Every Second Saturday come inside for an afternoon of art and stories! Family Storytime (ages 0-5+) and a mess-free art project for all ages\n\n\n	Related
URL:https://calendarsausalito.com/event/2nd-saturdays-family-storytime-art-in-the-library-2/2027-12-11/
LOCATION:Sausalito Library\, 420 Litho Street\, Sausalito\, CA\, 94965\, United States
CATEGORIES:Sausalito Library
END:VEVENT
BEGIN:VEVENT
DTSTART;TZID=America/Los_Angeles:20280108T140000
DTEND;TZID=America/Los_Angeles:20280108T153000
DTSTAMP:20260419T121723
CREATED:20251226T215745Z
LAST-MODIFIED:20251231T225231Z
UID:10001448-1830952800-1830958200@calendarsausalito.com
SUMMARY:Sausalito Library: Family Storytime & Art in the Library
DESCRIPTION:Every Second Saturday come inside for an afternoon of art and stories! Family Storytime (ages 0-5+) and a mess-free art project for all ages\n\n\n	Related
URL:https://calendarsausalito.com/event/2nd-saturdays-family-storytime-art-in-the-library-2/2028-01-08/
LOCATION:Sausalito Library\, 420 Litho Street\, Sausalito\, CA\, 94965\, United States
CATEGORIES:Sausalito Library
END:VEVENT
BEGIN:VEVENT
DTSTART;TZID=America/Los_Angeles:20280212T140000
DTEND;TZID=America/Los_Angeles:20280212T153000
DTSTAMP:20260419T121723
CREATED:20251226T215745Z
LAST-MODIFIED:20251231T225231Z
UID:10001449-1833976800-1833982200@calendarsausalito.com
SUMMARY:Sausalito Library: Family Storytime & Art in the Library
DESCRIPTION:Every Second Saturday come inside for an afternoon of art and stories! Family Storytime (ages 0-5+) and a mess-free art project for all ages\n\n\n	Related
URL:https://calendarsausalito.com/event/2nd-saturdays-family-storytime-art-in-the-library-2/2028-02-12/
LOCATION:Sausalito Library\, 420 Litho Street\, Sausalito\, CA\, 94965\, United States
CATEGORIES:Sausalito Library
END:VEVENT
BEGIN:VEVENT
DTSTART;TZID=America/Los_Angeles:20280311T140000
DTEND;TZID=America/Los_Angeles:20280311T153000
DTSTAMP:20260419T121723
CREATED:20251226T215745Z
LAST-MODIFIED:20251231T225231Z
UID:10001450-1836396000-1836401400@calendarsausalito.com
SUMMARY:Sausalito Library: Family Storytime & Art in the Library
DESCRIPTION:Every Second Saturday come inside for an afternoon of art and stories! Family Storytime (ages 0-5+) and a mess-free art project for all ages\n\n\n	Related
URL:https://calendarsausalito.com/event/2nd-saturdays-family-storytime-art-in-the-library-2/2028-03-11/
LOCATION:Sausalito Library\, 420 Litho Street\, Sausalito\, CA\, 94965\, United States
CATEGORIES:Sausalito Library
END:VEVENT
BEGIN:VEVENT
DTSTART;TZID=America/Los_Angeles:20280408T140000
DTEND;TZID=America/Los_Angeles:20280408T153000
DTSTAMP:20260419T121723
CREATED:20251226T215745Z
LAST-MODIFIED:20251231T225231Z
UID:10001451-1838815200-1838820600@calendarsausalito.com
SUMMARY:Sausalito Library: Family Storytime & Art in the Library
DESCRIPTION:Every Second Saturday come inside for an afternoon of art and stories! Family Storytime (ages 0-5+) and a mess-free art project for all ages\n\n\n	Related
URL:https://calendarsausalito.com/event/2nd-saturdays-family-storytime-art-in-the-library-2/2028-04-08/
LOCATION:Sausalito Library\, 420 Litho Street\, Sausalito\, CA\, 94965\, United States
CATEGORIES:Sausalito Library
END:VEVENT
BEGIN:VEVENT
DTSTART;TZID=America/Los_Angeles:20280513T140000
DTEND;TZID=America/Los_Angeles:20280513T153000
DTSTAMP:20260419T121723
CREATED:20251226T215745Z
LAST-MODIFIED:20251231T225231Z
UID:10001452-1841839200-1841844600@calendarsausalito.com
SUMMARY:Sausalito Library: Family Storytime & Art in the Library
DESCRIPTION:Every Second Saturday come inside for an afternoon of art and stories! Family Storytime (ages 0-5+) and a mess-free art project for all ages\n\n\n	Related
URL:https://calendarsausalito.com/event/2nd-saturdays-family-storytime-art-in-the-library-2/2028-05-13/
LOCATION:Sausalito Library\, 420 Litho Street\, Sausalito\, CA\, 94965\, United States
CATEGORIES:Sausalito Library
END:VEVENT
BEGIN:VEVENT
DTSTART;TZID=America/Los_Angeles:20280610T140000
DTEND;TZID=America/Los_Angeles:20280610T153000
DTSTAMP:20260419T121723
CREATED:20251226T215745Z
LAST-MODIFIED:20251231T225231Z
UID:10001453-1844258400-1844263800@calendarsausalito.com
SUMMARY:Sausalito Library: Family Storytime & Art in the Library
DESCRIPTION:Every Second Saturday come inside for an afternoon of art and stories! Family Storytime (ages 0-5+) and a mess-free art project for all ages\n\n\n	Related
URL:https://calendarsausalito.com/event/2nd-saturdays-family-storytime-art-in-the-library-2/2028-06-10/
LOCATION:Sausalito Library\, 420 Litho Street\, Sausalito\, CA\, 94965\, United States
CATEGORIES:Sausalito Library
END:VEVENT
BEGIN:VEVENT
DTSTART;TZID=America/Los_Angeles:20280708T140000
DTEND;TZID=America/Los_Angeles:20280708T153000
DTSTAMP:20260419T121723
CREATED:20251226T215745Z
LAST-MODIFIED:20251231T225231Z
UID:10001454-1846677600-1846683000@calendarsausalito.com
SUMMARY:Sausalito Library: Family Storytime & Art in the Library
DESCRIPTION:Every Second Saturday come inside for an afternoon of art and stories! Family Storytime (ages 0-5+) and a mess-free art project for all ages\n\n\n	Related
URL:https://calendarsausalito.com/event/2nd-saturdays-family-storytime-art-in-the-library-2/2028-07-08/
LOCATION:Sausalito Library\, 420 Litho Street\, Sausalito\, CA\, 94965\, United States
CATEGORIES:Sausalito Library
END:VEVENT
BEGIN:VEVENT
DTSTART;TZID=America/Los_Angeles:20280812T140000
DTEND;TZID=America/Los_Angeles:20280812T153000
DTSTAMP:20260419T121723
CREATED:20251226T215745Z
LAST-MODIFIED:20251231T225231Z
UID:10001455-1849701600-1849707000@calendarsausalito.com
SUMMARY:Sausalito Library: Family Storytime & Art in the Library
DESCRIPTION:Every Second Saturday come inside for an afternoon of art and stories! Family Storytime (ages 0-5+) and a mess-free art project for all ages\n\n\n	Related
URL:https://calendarsausalito.com/event/2nd-saturdays-family-storytime-art-in-the-library-2/2028-08-12/
LOCATION:Sausalito Library\, 420 Litho Street\, Sausalito\, CA\, 94965\, United States
CATEGORIES:Sausalito Library
END:VEVENT
BEGIN:VEVENT
DTSTART;TZID=America/Los_Angeles:20280909T140000
DTEND;TZID=America/Los_Angeles:20280909T153000
DTSTAMP:20260419T121723
CREATED:20251226T215745Z
LAST-MODIFIED:20251231T225231Z
UID:10001456-1852120800-1852126200@calendarsausalito.com
SUMMARY:Sausalito Library: Family Storytime & Art in the Library
DESCRIPTION:Every Second Saturday come inside for an afternoon of art and stories! Family Storytime (ages 0-5+) and a mess-free art project for all ages\n\n\n	Related
URL:https://calendarsausalito.com/event/2nd-saturdays-family-storytime-art-in-the-library-2/2028-09-09/
LOCATION:Sausalito Library\, 420 Litho Street\, Sausalito\, CA\, 94965\, United States
CATEGORIES:Sausalito Library
END:VEVENT
BEGIN:VEVENT
DTSTART;TZID=America/Los_Angeles:20281014T140000
DTEND;TZID=America/Los_Angeles:20281014T153000
DTSTAMP:20260419T121723
CREATED:20251226T215745Z
LAST-MODIFIED:20251231T225231Z
UID:10001457-1855144800-1855150200@calendarsausalito.com
SUMMARY:Sausalito Library: Family Storytime & Art in the Library
DESCRIPTION:Every Second Saturday come inside for an afternoon of art and stories! Family Storytime (ages 0-5+) and a mess-free art project for all ages\n\n\n	Related
URL:https://calendarsausalito.com/event/2nd-saturdays-family-storytime-art-in-the-library-2/2028-10-14/
LOCATION:Sausalito Library\, 420 Litho Street\, Sausalito\, CA\, 94965\, United States
CATEGORIES:Sausalito Library
END:VEVENT
END:VCALENDAR