BEGIN:VCALENDAR
VERSION:2.0
PRODID:-//Calendar Sausalito - ECPv6.15.20//NONSGML v1.0//EN
CALSCALE:GREGORIAN
METHOD:PUBLISH
X-ORIGINAL-URL:https://calendarsausalito.com
X-WR-CALDESC:Events for Calendar Sausalito
REFRESH-INTERVAL;VALUE=DURATION:PT1H
X-Robots-Tag:noindex
X-PUBLISHED-TTL:PT1H
BEGIN:VTIMEZONE
TZID:America/Los_Angeles
BEGIN:DAYLIGHT
TZOFFSETFROM:-0800
TZOFFSETTO:-0700
TZNAME:PDT
DTSTART:20250309T100000
END:DAYLIGHT
BEGIN:STANDARD
TZOFFSETFROM:-0700
TZOFFSETTO:-0800
TZNAME:PST
DTSTART:20251102T090000
END:STANDARD
BEGIN:DAYLIGHT
TZOFFSETFROM:-0800
TZOFFSETTO:-0700
TZNAME:PDT
DTSTART:20260308T100000
END:DAYLIGHT
BEGIN:STANDARD
TZOFFSETFROM:-0700
TZOFFSETTO:-0800
TZNAME:PST
DTSTART:20261101T090000
END:STANDARD
BEGIN:DAYLIGHT
TZOFFSETFROM:-0800
TZOFFSETTO:-0700
TZNAME:PDT
DTSTART:20270314T100000
END:DAYLIGHT
BEGIN:STANDARD
TZOFFSETFROM:-0700
TZOFFSETTO:-0800
TZNAME:PST
DTSTART:20271107T090000
END:STANDARD
END:VTIMEZONE
BEGIN:VEVENT
DTSTART;TZID=America/Los_Angeles:20260220T100000
DTEND;TZID=America/Los_Angeles:20260220T190000
DTSTAMP:20260421T015450
CREATED:20251226T211749Z
LAST-MODIFIED:20251231T230406Z
UID:10001562-1771581600-1771614000@calendarsausalito.com
SUMMARY:Sausalito Library: On Exhibit: Deborah Dvorak
DESCRIPTION:ON EXHIBIT: Deborah Dvorak’s Plain Air Landscapes\nJoin us December 4 through February 26 for an exhibition of Deborah Dvorak’s plein air landscapes in oil of the Marin countryside.\n\nVisiting the Library\nMonday-Thursday 10-7\nFriday-Sunday 12-5\n\n\n	Related
URL:https://calendarsausalito.com/event/on-exhibit-deborah-dvoraks-plain-air-landscapes/2026-02-20/
LOCATION:Sausalito Library\, 420 Litho Street\, Sausalito\, CA\, 94965\, United States
CATEGORIES:Sausalito Library
END:VEVENT
BEGIN:VEVENT
DTSTART;TZID=America/Los_Angeles:20260219T100000
DTEND;TZID=America/Los_Angeles:20260219T190000
DTSTAMP:20260421T015450
CREATED:20251226T211749Z
LAST-MODIFIED:20251231T230406Z
UID:10001561-1771495200-1771527600@calendarsausalito.com
SUMMARY:Sausalito Library: On Exhibit: Deborah Dvorak
DESCRIPTION:ON EXHIBIT: Deborah Dvorak’s Plain Air Landscapes\nJoin us December 4 through February 26 for an exhibition of Deborah Dvorak’s plein air landscapes in oil of the Marin countryside.\n\nVisiting the Library\nMonday-Thursday 10-7\nFriday-Sunday 12-5\n\n\n	Related
URL:https://calendarsausalito.com/event/on-exhibit-deborah-dvoraks-plain-air-landscapes/2026-02-19/
LOCATION:Sausalito Library\, 420 Litho Street\, Sausalito\, CA\, 94965\, United States
CATEGORIES:Sausalito Library
END:VEVENT
BEGIN:VEVENT
DTSTART;TZID=America/Los_Angeles:20260218T100000
DTEND;TZID=America/Los_Angeles:20260218T190000
DTSTAMP:20260421T015450
CREATED:20251226T211749Z
LAST-MODIFIED:20251231T230406Z
UID:10001560-1771408800-1771441200@calendarsausalito.com
SUMMARY:Sausalito Library: On Exhibit: Deborah Dvorak
DESCRIPTION:ON EXHIBIT: Deborah Dvorak’s Plain Air Landscapes\nJoin us December 4 through February 26 for an exhibition of Deborah Dvorak’s plein air landscapes in oil of the Marin countryside.\n\nVisiting the Library\nMonday-Thursday 10-7\nFriday-Sunday 12-5\n\n\n	Related
URL:https://calendarsausalito.com/event/on-exhibit-deborah-dvoraks-plain-air-landscapes/2026-02-18/
LOCATION:Sausalito Library\, 420 Litho Street\, Sausalito\, CA\, 94965\, United States
CATEGORIES:Sausalito Library
END:VEVENT
BEGIN:VEVENT
DTSTART;TZID=America/Los_Angeles:20260217T100000
DTEND;TZID=America/Los_Angeles:20260217T190000
DTSTAMP:20260421T015450
CREATED:20251226T211749Z
LAST-MODIFIED:20251231T230406Z
UID:10001559-1771322400-1771354800@calendarsausalito.com
SUMMARY:Sausalito Library: On Exhibit: Deborah Dvorak
DESCRIPTION:ON EXHIBIT: Deborah Dvorak’s Plain Air Landscapes\nJoin us December 4 through February 26 for an exhibition of Deborah Dvorak’s plein air landscapes in oil of the Marin countryside.\n\nVisiting the Library\nMonday-Thursday 10-7\nFriday-Sunday 12-5\n\n\n	Related
URL:https://calendarsausalito.com/event/on-exhibit-deborah-dvoraks-plain-air-landscapes/2026-02-17/
LOCATION:Sausalito Library\, 420 Litho Street\, Sausalito\, CA\, 94965\, United States
CATEGORIES:Sausalito Library
END:VEVENT
BEGIN:VEVENT
DTSTART;TZID=America/Los_Angeles:20260216T100000
DTEND;TZID=America/Los_Angeles:20260216T190000
DTSTAMP:20260421T015450
CREATED:20251226T211749Z
LAST-MODIFIED:20251231T230406Z
UID:10001558-1771236000-1771268400@calendarsausalito.com
SUMMARY:Sausalito Library: On Exhibit: Deborah Dvorak
DESCRIPTION:ON EXHIBIT: Deborah Dvorak’s Plain Air Landscapes\nJoin us December 4 through February 26 for an exhibition of Deborah Dvorak’s plein air landscapes in oil of the Marin countryside.\n\nVisiting the Library\nMonday-Thursday 10-7\nFriday-Sunday 12-5\n\n\n	Related
URL:https://calendarsausalito.com/event/on-exhibit-deborah-dvoraks-plain-air-landscapes/2026-02-16/
LOCATION:Sausalito Library\, 420 Litho Street\, Sausalito\, CA\, 94965\, United States
CATEGORIES:Sausalito Library
END:VEVENT
BEGIN:VEVENT
DTSTART;TZID=America/Los_Angeles:20260215T100000
DTEND;TZID=America/Los_Angeles:20260215T190000
DTSTAMP:20260421T015450
CREATED:20251226T211749Z
LAST-MODIFIED:20251231T230406Z
UID:10001557-1771149600-1771182000@calendarsausalito.com
SUMMARY:Sausalito Library: On Exhibit: Deborah Dvorak
DESCRIPTION:ON EXHIBIT: Deborah Dvorak’s Plain Air Landscapes\nJoin us December 4 through February 26 for an exhibition of Deborah Dvorak’s plein air landscapes in oil of the Marin countryside.\n\nVisiting the Library\nMonday-Thursday 10-7\nFriday-Sunday 12-5\n\n\n	Related
URL:https://calendarsausalito.com/event/on-exhibit-deborah-dvoraks-plain-air-landscapes/2026-02-15/
LOCATION:Sausalito Library\, 420 Litho Street\, Sausalito\, CA\, 94965\, United States
CATEGORIES:Sausalito Library
END:VEVENT
BEGIN:VEVENT
DTSTART;TZID=America/Los_Angeles:20260214T140000
DTEND;TZID=America/Los_Angeles:20260214T153000
DTSTAMP:20260421T015450
CREATED:20251226T215745Z
LAST-MODIFIED:20251231T225231Z
UID:10001425-1771077600-1771083000@calendarsausalito.com
SUMMARY:Sausalito Library: Family Storytime & Art in the Library
DESCRIPTION:Every Second Saturday come inside for an afternoon of art and stories! Family Storytime (ages 0-5+) and a mess-free art project for all ages\n\n\n	Related
URL:https://calendarsausalito.com/event/2nd-saturdays-family-storytime-art-in-the-library-2/2026-02-14/
LOCATION:Sausalito Library\, 420 Litho Street\, Sausalito\, CA\, 94965\, United States
CATEGORIES:Sausalito Library
END:VEVENT
BEGIN:VEVENT
DTSTART;TZID=America/Los_Angeles:20260214T100000
DTEND;TZID=America/Los_Angeles:20260214T190000
DTSTAMP:20260421T015450
CREATED:20251226T211749Z
LAST-MODIFIED:20251231T230406Z
UID:10001556-1771063200-1771095600@calendarsausalito.com
SUMMARY:Sausalito Library: On Exhibit: Deborah Dvorak
DESCRIPTION:ON EXHIBIT: Deborah Dvorak’s Plain Air Landscapes\nJoin us December 4 through February 26 for an exhibition of Deborah Dvorak’s plein air landscapes in oil of the Marin countryside.\n\nVisiting the Library\nMonday-Thursday 10-7\nFriday-Sunday 12-5\n\n\n	Related
URL:https://calendarsausalito.com/event/on-exhibit-deborah-dvoraks-plain-air-landscapes/2026-02-14/
LOCATION:Sausalito Library\, 420 Litho Street\, Sausalito\, CA\, 94965\, United States
CATEGORIES:Sausalito Library
END:VEVENT
BEGIN:VEVENT
DTSTART;TZID=America/Los_Angeles:20260213T100000
DTEND;TZID=America/Los_Angeles:20260213T190000
DTSTAMP:20260421T015450
CREATED:20251226T211749Z
LAST-MODIFIED:20251231T230406Z
UID:10001555-1770976800-1771009200@calendarsausalito.com
SUMMARY:Sausalito Library: On Exhibit: Deborah Dvorak
DESCRIPTION:ON EXHIBIT: Deborah Dvorak’s Plain Air Landscapes\nJoin us December 4 through February 26 for an exhibition of Deborah Dvorak’s plein air landscapes in oil of the Marin countryside.\n\nVisiting the Library\nMonday-Thursday 10-7\nFriday-Sunday 12-5\n\n\n	Related
URL:https://calendarsausalito.com/event/on-exhibit-deborah-dvoraks-plain-air-landscapes/2026-02-13/
LOCATION:Sausalito Library\, 420 Litho Street\, Sausalito\, CA\, 94965\, United States
CATEGORIES:Sausalito Library
END:VEVENT
BEGIN:VEVENT
DTSTART;TZID=America/Los_Angeles:20260212T110000
DTEND;TZID=America/Los_Angeles:20260212T120000
DTSTAMP:20260421T015450
CREATED:20260107T001524Z
LAST-MODIFIED:20260107T001832Z
UID:10001896-1770894000-1770897600@calendarsausalito.com
SUMMARY:Sausalito Library: Virtual Author Talk with Dr. Lindsey Stewart
DESCRIPTION:VIRTUAL AUTHOR TALK: Mojos\, Mermaids\, Medicine\, and 400 Years of Black Women’s Magic with Dr. Lindsey Stewart \nFeminist philosopher Dr. Lindsey Stewart’s book\, The Conjuring of America: Mojos\, Mermaids\, Medicine\, and 400 Years of Black Women’s Magic\, tells the stories of Negro Mammies of slavery; the Voodoo Queens and Blues Women of Reconstruction; and the Granny Midwives and textile weavers of the Jim Crow era. These women\, in secrecy and subterfuge\, courageously and devotedly continued their practices and worship for centuries and passed down their traditions. \nConjure informs our lives in ways remarkable and ordinary—from traditional medicines that informed the creation of Vicks VapoRub and the rise of Aunt Jemima’s Pancake Mix\, to the original magic of Disney’s The Little Mermaid (2023)\, and the true origins of the all-American classic blue jean. \nFrom the moment enslaved Africans first arrived on these shores\, conjure was heavily regulated and even outlawed. Now\, Stewart uncovers new contours of American history\, sourcing letters from the enslaved\, dispatches from the lore of Oshun and other African mystics. The Conjuring of America is a love letter to the real magic Black women used\, their herbs\, food\, textiles\, song\, and dance\, used to sow rebellion\, freedom\, and hope. Join us to take part in the magic and celebrate the legacy of America’s founding Black women. \nRegister for free today! \n\n\n	Related
URL:https://calendarsausalito.com/event/sausalito-library-virtual-author-talk-with-dr-lindsey-stewart/
LOCATION:Sausalito Library\, 420 Litho Street\, Sausalito\, CA\, 94965\, United States
CATEGORIES:Sausalito Library
END:VEVENT
BEGIN:VEVENT
DTSTART;TZID=America/Los_Angeles:20260212T100000
DTEND;TZID=America/Los_Angeles:20260212T190000
DTSTAMP:20260421T015450
CREATED:20251226T211749Z
LAST-MODIFIED:20251231T230406Z
UID:10001554-1770890400-1770922800@calendarsausalito.com
SUMMARY:Sausalito Library: On Exhibit: Deborah Dvorak
DESCRIPTION:ON EXHIBIT: Deborah Dvorak’s Plain Air Landscapes\nJoin us December 4 through February 26 for an exhibition of Deborah Dvorak’s plein air landscapes in oil of the Marin countryside.\n\nVisiting the Library\nMonday-Thursday 10-7\nFriday-Sunday 12-5\n\n\n	Related
URL:https://calendarsausalito.com/event/on-exhibit-deborah-dvoraks-plain-air-landscapes/2026-02-12/
LOCATION:Sausalito Library\, 420 Litho Street\, Sausalito\, CA\, 94965\, United States
CATEGORIES:Sausalito Library
END:VEVENT
BEGIN:VEVENT
DTSTART;TZID=America/Los_Angeles:20260211T100000
DTEND;TZID=America/Los_Angeles:20260211T190000
DTSTAMP:20260421T015450
CREATED:20251226T211749Z
LAST-MODIFIED:20251231T230406Z
UID:10001553-1770804000-1770836400@calendarsausalito.com
SUMMARY:Sausalito Library: On Exhibit: Deborah Dvorak
DESCRIPTION:ON EXHIBIT: Deborah Dvorak’s Plain Air Landscapes\nJoin us December 4 through February 26 for an exhibition of Deborah Dvorak’s plein air landscapes in oil of the Marin countryside.\n\nVisiting the Library\nMonday-Thursday 10-7\nFriday-Sunday 12-5\n\n\n	Related
URL:https://calendarsausalito.com/event/on-exhibit-deborah-dvoraks-plain-air-landscapes/2026-02-11/
LOCATION:Sausalito Library\, 420 Litho Street\, Sausalito\, CA\, 94965\, United States
CATEGORIES:Sausalito Library
END:VEVENT
BEGIN:VEVENT
DTSTART;TZID=America/Los_Angeles:20260210T100000
DTEND;TZID=America/Los_Angeles:20260210T190000
DTSTAMP:20260421T015450
CREATED:20251226T211749Z
LAST-MODIFIED:20251231T230406Z
UID:10001552-1770717600-1770750000@calendarsausalito.com
SUMMARY:Sausalito Library: On Exhibit: Deborah Dvorak
DESCRIPTION:ON EXHIBIT: Deborah Dvorak’s Plain Air Landscapes\nJoin us December 4 through February 26 for an exhibition of Deborah Dvorak’s plein air landscapes in oil of the Marin countryside.\n\nVisiting the Library\nMonday-Thursday 10-7\nFriday-Sunday 12-5\n\n\n	Related
URL:https://calendarsausalito.com/event/on-exhibit-deborah-dvoraks-plain-air-landscapes/2026-02-10/
LOCATION:Sausalito Library\, 420 Litho Street\, Sausalito\, CA\, 94965\, United States
CATEGORIES:Sausalito Library
END:VEVENT
BEGIN:VEVENT
DTSTART;TZID=America/Los_Angeles:20260209T100000
DTEND;TZID=America/Los_Angeles:20260209T190000
DTSTAMP:20260421T015450
CREATED:20251226T211749Z
LAST-MODIFIED:20251231T230406Z
UID:10001551-1770631200-1770663600@calendarsausalito.com
SUMMARY:Sausalito Library: On Exhibit: Deborah Dvorak
DESCRIPTION:ON EXHIBIT: Deborah Dvorak’s Plain Air Landscapes\nJoin us December 4 through February 26 for an exhibition of Deborah Dvorak’s plein air landscapes in oil of the Marin countryside.\n\nVisiting the Library\nMonday-Thursday 10-7\nFriday-Sunday 12-5\n\n\n	Related
URL:https://calendarsausalito.com/event/on-exhibit-deborah-dvoraks-plain-air-landscapes/2026-02-09/
LOCATION:Sausalito Library\, 420 Litho Street\, Sausalito\, CA\, 94965\, United States
CATEGORIES:Sausalito Library
END:VEVENT
BEGIN:VEVENT
DTSTART;TZID=America/Los_Angeles:20260208T100000
DTEND;TZID=America/Los_Angeles:20260208T190000
DTSTAMP:20260421T015450
CREATED:20251226T211749Z
LAST-MODIFIED:20251231T230406Z
UID:10001550-1770544800-1770577200@calendarsausalito.com
SUMMARY:Sausalito Library: On Exhibit: Deborah Dvorak
DESCRIPTION:ON EXHIBIT: Deborah Dvorak’s Plain Air Landscapes\nJoin us December 4 through February 26 for an exhibition of Deborah Dvorak’s plein air landscapes in oil of the Marin countryside.\n\nVisiting the Library\nMonday-Thursday 10-7\nFriday-Sunday 12-5\n\n\n	Related
URL:https://calendarsausalito.com/event/on-exhibit-deborah-dvoraks-plain-air-landscapes/2026-02-08/
LOCATION:Sausalito Library\, 420 Litho Street\, Sausalito\, CA\, 94965\, United States
CATEGORIES:Sausalito Library
END:VEVENT
BEGIN:VEVENT
DTSTART;TZID=America/Los_Angeles:20260207T100000
DTEND;TZID=America/Los_Angeles:20260207T190000
DTSTAMP:20260421T015450
CREATED:20251226T211749Z
LAST-MODIFIED:20251231T230406Z
UID:10001549-1770458400-1770490800@calendarsausalito.com
SUMMARY:Sausalito Library: On Exhibit: Deborah Dvorak
DESCRIPTION:ON EXHIBIT: Deborah Dvorak’s Plain Air Landscapes\nJoin us December 4 through February 26 for an exhibition of Deborah Dvorak’s plein air landscapes in oil of the Marin countryside.\n\nVisiting the Library\nMonday-Thursday 10-7\nFriday-Sunday 12-5\n\n\n	Related
URL:https://calendarsausalito.com/event/on-exhibit-deborah-dvoraks-plain-air-landscapes/2026-02-07/
LOCATION:Sausalito Library\, 420 Litho Street\, Sausalito\, CA\, 94965\, United States
CATEGORIES:Sausalito Library
END:VEVENT
BEGIN:VEVENT
DTSTART;TZID=America/Los_Angeles:20260206T100000
DTEND;TZID=America/Los_Angeles:20260206T190000
DTSTAMP:20260421T015450
CREATED:20251226T211749Z
LAST-MODIFIED:20251231T230406Z
UID:10001548-1770372000-1770404400@calendarsausalito.com
SUMMARY:Sausalito Library: On Exhibit: Deborah Dvorak
DESCRIPTION:ON EXHIBIT: Deborah Dvorak’s Plain Air Landscapes\nJoin us December 4 through February 26 for an exhibition of Deborah Dvorak’s plein air landscapes in oil of the Marin countryside.\n\nVisiting the Library\nMonday-Thursday 10-7\nFriday-Sunday 12-5\n\n\n	Related
URL:https://calendarsausalito.com/event/on-exhibit-deborah-dvoraks-plain-air-landscapes/2026-02-06/
LOCATION:Sausalito Library\, 420 Litho Street\, Sausalito\, CA\, 94965\, United States
CATEGORIES:Sausalito Library
END:VEVENT
BEGIN:VEVENT
DTSTART;TZID=America/Los_Angeles:20260205T160000
DTEND;TZID=America/Los_Angeles:20260205T170000
DTSTAMP:20260421T015450
CREATED:20260107T001348Z
LAST-MODIFIED:20260107T001348Z
UID:10001895-1770307200-1770310800@calendarsausalito.com
SUMMARY:Sausalito Library: Virtual Author Talk with Novelist Vanessa Riley
DESCRIPTION:VIRTUAL AUTHOR TALK: Swashbuckling Heroines and High Seas Adventures with Novelist Vanessa Riley \nJoin us for an unforgettable experience as we chat online with Vanessa Riley about her newest book\, Fire Sword and Sea\, based on the folk story of the female pirate Jacquotte Delahaye. \nThe Caribbean Sea\, 1675. Jacquotte Delahaye is the mixed-race daughter of a wealthy tavern owner on the island of Tortuga. Instead of marriage\, Jacquotte dreams of joining the seafarers and smugglers whose tall-masted ships cluster in the turquoise waters around Tortuga. In Haiti she becomes Jacques\, a dockworker\, earning the respect of those around her while hiding her gender. \nJacquotte discovers that secret identities are fairly common in the chaotic world of seafaring\, which is full of outsiders and misfits. As Jacques\, Jacquotte falls in love with Lizzôa d’Erville\, a beautiful courtesan who deals in secrets and sex. While others see their work clothes as a disguise\, Lizzôa’s true self is as a woman. \nFor the next twenty years\, Jacquotte raids the Caribbean\, making enemies and amassing a fortune in stolen gold. When her fellow pirates decide to increase their profits by entering the slave trade\, Jacquotte turns away from piracy and the pursuit of riches. Risking her life in one deadly skirmish after another\, she instead begins to plot a war of liberation. \nRegister now to embark on a seafaring journey of self discovery and reclamation of personal power. \n\n\n	Related
URL:https://calendarsausalito.com/event/sausalito-library-virtual-author-talk-with-novelist-vanessa-riley/
LOCATION:Sausalito Library\, 420 Litho Street\, Sausalito\, CA\, 94965\, United States
CATEGORIES:Sausalito Library
END:VEVENT
BEGIN:VEVENT
DTSTART;TZID=America/Los_Angeles:20260205T100000
DTEND;TZID=America/Los_Angeles:20260205T190000
DTSTAMP:20260421T015450
CREATED:20251226T211749Z
LAST-MODIFIED:20251231T230406Z
UID:10001547-1770285600-1770318000@calendarsausalito.com
SUMMARY:Sausalito Library: On Exhibit: Deborah Dvorak
DESCRIPTION:ON EXHIBIT: Deborah Dvorak’s Plain Air Landscapes\nJoin us December 4 through February 26 for an exhibition of Deborah Dvorak’s plein air landscapes in oil of the Marin countryside.\n\nVisiting the Library\nMonday-Thursday 10-7\nFriday-Sunday 12-5\n\n\n	Related
URL:https://calendarsausalito.com/event/on-exhibit-deborah-dvoraks-plain-air-landscapes/2026-02-05/
LOCATION:Sausalito Library\, 420 Litho Street\, Sausalito\, CA\, 94965\, United States
CATEGORIES:Sausalito Library
END:VEVENT
BEGIN:VEVENT
DTSTART;TZID=America/Los_Angeles:20260204T100000
DTEND;TZID=America/Los_Angeles:20260204T190000
DTSTAMP:20260421T015450
CREATED:20251226T211749Z
LAST-MODIFIED:20251231T230406Z
UID:10001546-1770199200-1770231600@calendarsausalito.com
SUMMARY:Sausalito Library: On Exhibit: Deborah Dvorak
DESCRIPTION:ON EXHIBIT: Deborah Dvorak’s Plain Air Landscapes\nJoin us December 4 through February 26 for an exhibition of Deborah Dvorak’s plein air landscapes in oil of the Marin countryside.\n\nVisiting the Library\nMonday-Thursday 10-7\nFriday-Sunday 12-5\n\n\n	Related
URL:https://calendarsausalito.com/event/on-exhibit-deborah-dvoraks-plain-air-landscapes/2026-02-04/
LOCATION:Sausalito Library\, 420 Litho Street\, Sausalito\, CA\, 94965\, United States
CATEGORIES:Sausalito Library
END:VEVENT
BEGIN:VEVENT
DTSTART;TZID=America/Los_Angeles:20260203T100000
DTEND;TZID=America/Los_Angeles:20260203T190000
DTSTAMP:20260421T015450
CREATED:20251226T211749Z
LAST-MODIFIED:20251231T230406Z
UID:10001545-1770112800-1770145200@calendarsausalito.com
SUMMARY:Sausalito Library: On Exhibit: Deborah Dvorak
DESCRIPTION:ON EXHIBIT: Deborah Dvorak’s Plain Air Landscapes\nJoin us December 4 through February 26 for an exhibition of Deborah Dvorak’s plein air landscapes in oil of the Marin countryside.\n\nVisiting the Library\nMonday-Thursday 10-7\nFriday-Sunday 12-5\n\n\n	Related
URL:https://calendarsausalito.com/event/on-exhibit-deborah-dvoraks-plain-air-landscapes/2026-02-03/
LOCATION:Sausalito Library\, 420 Litho Street\, Sausalito\, CA\, 94965\, United States
CATEGORIES:Sausalito Library
END:VEVENT
BEGIN:VEVENT
DTSTART;TZID=America/Los_Angeles:20260202T100000
DTEND;TZID=America/Los_Angeles:20260202T190000
DTSTAMP:20260421T015450
CREATED:20251226T211749Z
LAST-MODIFIED:20251231T230406Z
UID:10001544-1770026400-1770058800@calendarsausalito.com
SUMMARY:Sausalito Library: On Exhibit: Deborah Dvorak
DESCRIPTION:ON EXHIBIT: Deborah Dvorak’s Plain Air Landscapes\nJoin us December 4 through February 26 for an exhibition of Deborah Dvorak’s plein air landscapes in oil of the Marin countryside.\n\nVisiting the Library\nMonday-Thursday 10-7\nFriday-Sunday 12-5\n\n\n	Related
URL:https://calendarsausalito.com/event/on-exhibit-deborah-dvoraks-plain-air-landscapes/2026-02-02/
LOCATION:Sausalito Library\, 420 Litho Street\, Sausalito\, CA\, 94965\, United States
CATEGORIES:Sausalito Library
END:VEVENT
BEGIN:VEVENT
DTSTART;TZID=America/Los_Angeles:20260201T100000
DTEND;TZID=America/Los_Angeles:20260201T190000
DTSTAMP:20260421T015450
CREATED:20251226T211749Z
LAST-MODIFIED:20251231T230406Z
UID:10001543-1769940000-1769972400@calendarsausalito.com
SUMMARY:Sausalito Library: On Exhibit: Deborah Dvorak
DESCRIPTION:ON EXHIBIT: Deborah Dvorak’s Plain Air Landscapes\nJoin us December 4 through February 26 for an exhibition of Deborah Dvorak’s plein air landscapes in oil of the Marin countryside.\n\nVisiting the Library\nMonday-Thursday 10-7\nFriday-Sunday 12-5\n\n\n	Related
URL:https://calendarsausalito.com/event/on-exhibit-deborah-dvoraks-plain-air-landscapes/2026-02-01/
LOCATION:Sausalito Library\, 420 Litho Street\, Sausalito\, CA\, 94965\, United States
CATEGORIES:Sausalito Library
END:VEVENT
BEGIN:VEVENT
DTSTART;TZID=America/Los_Angeles:20260131T100000
DTEND;TZID=America/Los_Angeles:20260131T190000
DTSTAMP:20260421T015450
CREATED:20251226T211749Z
LAST-MODIFIED:20251231T230406Z
UID:10001542-1769853600-1769886000@calendarsausalito.com
SUMMARY:Sausalito Library: On Exhibit: Deborah Dvorak
DESCRIPTION:ON EXHIBIT: Deborah Dvorak’s Plain Air Landscapes\nJoin us December 4 through February 26 for an exhibition of Deborah Dvorak’s plein air landscapes in oil of the Marin countryside.\n\nVisiting the Library\nMonday-Thursday 10-7\nFriday-Sunday 12-5\n\n\n	Related
URL:https://calendarsausalito.com/event/on-exhibit-deborah-dvoraks-plain-air-landscapes/2026-01-31/
LOCATION:Sausalito Library\, 420 Litho Street\, Sausalito\, CA\, 94965\, United States
CATEGORIES:Sausalito Library
END:VEVENT
BEGIN:VEVENT
DTSTART;TZID=America/Los_Angeles:20260130T180000
DTEND;TZID=America/Los_Angeles:20260130T193000
DTSTAMP:20260421T015450
CREATED:20260107T000452Z
LAST-MODIFIED:20260107T000517Z
UID:10001574-1769796000-1769801400@calendarsausalito.com
SUMMARY:Sausalito Library: Four Authors\, One Night
DESCRIPTION:Sausalito Library: Reading Series at the Library: Four Authors\, One Night \nThe Sausalito Public Library and BAIT presents an inaugural reading event at 6:00 p.m. on Friday\, January 30 in the Sausalito Public Library. The event will feature readings by local authors. There will be a moderated Q&A with the featured writers after their readings. Sausalito Books by the Bay will be selling titles by our authors\, and book signings will follow the reading and Q&A. Attendance is free. Learn more and register on the Library’s website to reserve your spot! \n\n\n	Related
URL:https://calendarsausalito.com/event/sausalito-library-four-authors-one-night/
LOCATION:Sausalito Library\, 420 Litho Street\, Sausalito\, CA\, 94965\, United States
CATEGORIES:Sausalito Library
END:VEVENT
BEGIN:VEVENT
DTSTART;TZID=America/Los_Angeles:20260130T180000
DTEND;TZID=America/Los_Angeles:20260130T190000
DTSTAMP:20260421T015450
CREATED:20260122T225504Z
LAST-MODIFIED:20260122T225516Z
UID:10002772-1769796000-1769799600@calendarsausalito.com
SUMMARY:Sausalito Books by the Bay: Author Reading
DESCRIPTION:  \n\n\n\n\n\n\n\n\n\n\n\n\n\n\n\n\n\n\n\n\nIn Partnership with the Sausalito Public Library & Bait\n  \n\n\n\n\n\n\nFree To Attend But RSVP\n\n\n\n\n\n\n\n\n\n	Related
URL:https://calendarsausalito.com/event/sausalito-books-by-the-bay-author-reading/
LOCATION:Sausalito Library\, 420 Litho Street\, Sausalito\, CA\, 94965\, United States
CATEGORIES:Sausalito Books by the Bay,Sausalito Library
END:VEVENT
BEGIN:VEVENT
DTSTART;TZID=America/Los_Angeles:20260130T100000
DTEND;TZID=America/Los_Angeles:20260130T190000
DTSTAMP:20260421T015450
CREATED:20251226T211749Z
LAST-MODIFIED:20251231T230406Z
UID:10001541-1769767200-1769799600@calendarsausalito.com
SUMMARY:Sausalito Library: On Exhibit: Deborah Dvorak
DESCRIPTION:ON EXHIBIT: Deborah Dvorak’s Plain Air Landscapes\nJoin us December 4 through February 26 for an exhibition of Deborah Dvorak’s plein air landscapes in oil of the Marin countryside.\n\nVisiting the Library\nMonday-Thursday 10-7\nFriday-Sunday 12-5\n\n\n	Related
URL:https://calendarsausalito.com/event/on-exhibit-deborah-dvoraks-plain-air-landscapes/2026-01-30/
LOCATION:Sausalito Library\, 420 Litho Street\, Sausalito\, CA\, 94965\, United States
CATEGORIES:Sausalito Library
END:VEVENT
BEGIN:VEVENT
DTSTART;TZID=America/Los_Angeles:20260129T100000
DTEND;TZID=America/Los_Angeles:20260129T190000
DTSTAMP:20260421T015450
CREATED:20251226T211749Z
LAST-MODIFIED:20251231T230406Z
UID:10001540-1769680800-1769713200@calendarsausalito.com
SUMMARY:Sausalito Library: On Exhibit: Deborah Dvorak
DESCRIPTION:ON EXHIBIT: Deborah Dvorak’s Plain Air Landscapes\nJoin us December 4 through February 26 for an exhibition of Deborah Dvorak’s plein air landscapes in oil of the Marin countryside.\n\nVisiting the Library\nMonday-Thursday 10-7\nFriday-Sunday 12-5\n\n\n	Related
URL:https://calendarsausalito.com/event/on-exhibit-deborah-dvoraks-plain-air-landscapes/2026-01-29/
LOCATION:Sausalito Library\, 420 Litho Street\, Sausalito\, CA\, 94965\, United States
CATEGORIES:Sausalito Library
END:VEVENT
BEGIN:VEVENT
DTSTART;TZID=America/Los_Angeles:20260128T160000
DTEND;TZID=America/Los_Angeles:20260128T170000
DTSTAMP:20260421T015450
CREATED:20260107T000132Z
LAST-MODIFIED:20260221T005848Z
UID:10001572-1769616000-1769619600@calendarsausalito.com
SUMMARY:Sausalito Library: Virtual Author Talk with Liz Moore Brooks
DESCRIPTION:VIRTUAL AUTHOR TALK: Secrets and Second Chances with Liz Moore \nWe are thrilled to welcome Liz Moore to discuss her latest work\, The God of the Woods\, an instant New York Times bestseller and one of NPR’s 2024 “Books We Love” highlights. \nEarly morning\, August 1975: a camp counselor discovers an empty bunk. Its occupant\, Barbara Van Laar\, has gone missing. Barbara isn’t just any thirteen-year-old: she’s the daughter of the family that owns the summer camp and employs most of the region’s residents. And this isn’t the first time a Van Laar child has disappeared. Barbara’s older brother similarly vanished fourteen years ago\, never to be found. \nAs a panicked search begins\, a thrilling drama unfolds. Chasing down the layered secrets of the Van Laar family and the blue-collar community working in its shadow\, Moore’s multi-threaded story invites readers into a rich and gripping dynasty of secrets and second chances. It is Liz Moore’s most ambitious and wide-reaching novel yet. \nJoin us in conversation with Liz as we embark on a tale of thrilling twists and disturbing disappearances. \nRegister today to “enter the woods\,” if you dare! \n\n\n	Related
URL:https://calendarsausalito.com/event/sausalito-library-virtual-author-talk-with-liz-moore-brooks/
LOCATION:Sausalito Library\, 420 Litho Street\, Sausalito\, CA\, 94965\, United States
CATEGORIES:Sausalito Library
END:VEVENT
BEGIN:VEVENT
DTSTART;TZID=America/Los_Angeles:20260128T100000
DTEND;TZID=America/Los_Angeles:20260128T190000
DTSTAMP:20260421T015450
CREATED:20251226T211749Z
LAST-MODIFIED:20251231T230406Z
UID:10001539-1769594400-1769626800@calendarsausalito.com
SUMMARY:Sausalito Library: On Exhibit: Deborah Dvorak
DESCRIPTION:ON EXHIBIT: Deborah Dvorak’s Plain Air Landscapes\nJoin us December 4 through February 26 for an exhibition of Deborah Dvorak’s plein air landscapes in oil of the Marin countryside.\n\nVisiting the Library\nMonday-Thursday 10-7\nFriday-Sunday 12-5\n\n\n	Related
URL:https://calendarsausalito.com/event/on-exhibit-deborah-dvoraks-plain-air-landscapes/2026-01-28/
LOCATION:Sausalito Library\, 420 Litho Street\, Sausalito\, CA\, 94965\, United States
CATEGORIES:Sausalito Library
END:VEVENT
END:VCALENDAR