BEGIN:VCALENDAR
VERSION:2.0
PRODID:-//Calendar Sausalito - ECPv6.15.20//NONSGML v1.0//EN
CALSCALE:GREGORIAN
METHOD:PUBLISH
X-WR-CALNAME:Calendar Sausalito
X-ORIGINAL-URL:https://calendarsausalito.com
X-WR-CALDESC:Events for Calendar Sausalito
REFRESH-INTERVAL;VALUE=DURATION:PT1H
X-Robots-Tag:noindex
X-PUBLISHED-TTL:PT1H
BEGIN:VTIMEZONE
TZID:America/Los_Angeles
BEGIN:DAYLIGHT
TZOFFSETFROM:-0800
TZOFFSETTO:-0700
TZNAME:PDT
DTSTART:20270314T100000
END:DAYLIGHT
BEGIN:STANDARD
TZOFFSETFROM:-0700
TZOFFSETTO:-0800
TZNAME:PST
DTSTART:20271107T090000
END:STANDARD
BEGIN:DAYLIGHT
TZOFFSETFROM:-0800
TZOFFSETTO:-0700
TZNAME:PDT
DTSTART:20280312T100000
END:DAYLIGHT
BEGIN:STANDARD
TZOFFSETFROM:-0700
TZOFFSETTO:-0800
TZNAME:PST
DTSTART:20281105T090000
END:STANDARD
BEGIN:DAYLIGHT
TZOFFSETFROM:-0800
TZOFFSETTO:-0700
TZNAME:PDT
DTSTART:20290311T100000
END:DAYLIGHT
BEGIN:STANDARD
TZOFFSETFROM:-0700
TZOFFSETTO:-0800
TZNAME:PST
DTSTART:20291104T090000
END:STANDARD
BEGIN:DAYLIGHT
TZOFFSETFROM:-0800
TZOFFSETTO:-0700
TZNAME:PDT
DTSTART:20300310T100000
END:DAYLIGHT
BEGIN:STANDARD
TZOFFSETFROM:-0700
TZOFFSETTO:-0800
TZNAME:PST
DTSTART:20301103T090000
END:STANDARD
BEGIN:DAYLIGHT
TZOFFSETFROM:-0800
TZOFFSETTO:-0700
TZNAME:PDT
DTSTART:20310309T100000
END:DAYLIGHT
BEGIN:STANDARD
TZOFFSETFROM:-0700
TZOFFSETTO:-0800
TZNAME:PST
DTSTART:20311102T090000
END:STANDARD
END:VTIMEZONE
BEGIN:VEVENT
DTSTART;TZID=America/Los_Angeles:20280311T140000
DTEND;TZID=America/Los_Angeles:20280311T153000
DTSTAMP:20260425T050802
CREATED:20251226T215745Z
LAST-MODIFIED:20251231T225231Z
UID:10001450-1836396000-1836401400@calendarsausalito.com
SUMMARY:Sausalito Library: Family Storytime & Art in the Library
DESCRIPTION:Every Second Saturday come inside for an afternoon of art and stories! Family Storytime (ages 0-5+) and a mess-free art project for all ages\n\n\n	Related
URL:https://calendarsausalito.com/event/2nd-saturdays-family-storytime-art-in-the-library-2/2028-03-11/
LOCATION:Sausalito Library\, 420 Litho Street\, Sausalito\, CA\, 94965\, United States
CATEGORIES:Sausalito Library
END:VEVENT
BEGIN:VEVENT
DTSTART;TZID=America/Los_Angeles:20280408T140000
DTEND;TZID=America/Los_Angeles:20280408T153000
DTSTAMP:20260425T050802
CREATED:20251226T215745Z
LAST-MODIFIED:20251231T225231Z
UID:10001451-1838815200-1838820600@calendarsausalito.com
SUMMARY:Sausalito Library: Family Storytime & Art in the Library
DESCRIPTION:Every Second Saturday come inside for an afternoon of art and stories! Family Storytime (ages 0-5+) and a mess-free art project for all ages\n\n\n	Related
URL:https://calendarsausalito.com/event/2nd-saturdays-family-storytime-art-in-the-library-2/2028-04-08/
LOCATION:Sausalito Library\, 420 Litho Street\, Sausalito\, CA\, 94965\, United States
CATEGORIES:Sausalito Library
END:VEVENT
BEGIN:VEVENT
DTSTART;TZID=America/Los_Angeles:20280513T140000
DTEND;TZID=America/Los_Angeles:20280513T153000
DTSTAMP:20260425T050802
CREATED:20251226T215745Z
LAST-MODIFIED:20251231T225231Z
UID:10001452-1841839200-1841844600@calendarsausalito.com
SUMMARY:Sausalito Library: Family Storytime & Art in the Library
DESCRIPTION:Every Second Saturday come inside for an afternoon of art and stories! Family Storytime (ages 0-5+) and a mess-free art project for all ages\n\n\n	Related
URL:https://calendarsausalito.com/event/2nd-saturdays-family-storytime-art-in-the-library-2/2028-05-13/
LOCATION:Sausalito Library\, 420 Litho Street\, Sausalito\, CA\, 94965\, United States
CATEGORIES:Sausalito Library
END:VEVENT
BEGIN:VEVENT
DTSTART;TZID=America/Los_Angeles:20280610T140000
DTEND;TZID=America/Los_Angeles:20280610T153000
DTSTAMP:20260425T050802
CREATED:20251226T215745Z
LAST-MODIFIED:20251231T225231Z
UID:10001453-1844258400-1844263800@calendarsausalito.com
SUMMARY:Sausalito Library: Family Storytime & Art in the Library
DESCRIPTION:Every Second Saturday come inside for an afternoon of art and stories! Family Storytime (ages 0-5+) and a mess-free art project for all ages\n\n\n	Related
URL:https://calendarsausalito.com/event/2nd-saturdays-family-storytime-art-in-the-library-2/2028-06-10/
LOCATION:Sausalito Library\, 420 Litho Street\, Sausalito\, CA\, 94965\, United States
CATEGORIES:Sausalito Library
END:VEVENT
BEGIN:VEVENT
DTSTART;TZID=America/Los_Angeles:20280708T140000
DTEND;TZID=America/Los_Angeles:20280708T153000
DTSTAMP:20260425T050802
CREATED:20251226T215745Z
LAST-MODIFIED:20251231T225231Z
UID:10001454-1846677600-1846683000@calendarsausalito.com
SUMMARY:Sausalito Library: Family Storytime & Art in the Library
DESCRIPTION:Every Second Saturday come inside for an afternoon of art and stories! Family Storytime (ages 0-5+) and a mess-free art project for all ages\n\n\n	Related
URL:https://calendarsausalito.com/event/2nd-saturdays-family-storytime-art-in-the-library-2/2028-07-08/
LOCATION:Sausalito Library\, 420 Litho Street\, Sausalito\, CA\, 94965\, United States
CATEGORIES:Sausalito Library
END:VEVENT
BEGIN:VEVENT
DTSTART;TZID=America/Los_Angeles:20280812T140000
DTEND;TZID=America/Los_Angeles:20280812T153000
DTSTAMP:20260425T050802
CREATED:20251226T215745Z
LAST-MODIFIED:20251231T225231Z
UID:10001455-1849701600-1849707000@calendarsausalito.com
SUMMARY:Sausalito Library: Family Storytime & Art in the Library
DESCRIPTION:Every Second Saturday come inside for an afternoon of art and stories! Family Storytime (ages 0-5+) and a mess-free art project for all ages\n\n\n	Related
URL:https://calendarsausalito.com/event/2nd-saturdays-family-storytime-art-in-the-library-2/2028-08-12/
LOCATION:Sausalito Library\, 420 Litho Street\, Sausalito\, CA\, 94965\, United States
CATEGORIES:Sausalito Library
END:VEVENT
BEGIN:VEVENT
DTSTART;TZID=America/Los_Angeles:20280909T140000
DTEND;TZID=America/Los_Angeles:20280909T153000
DTSTAMP:20260425T050802
CREATED:20251226T215745Z
LAST-MODIFIED:20251231T225231Z
UID:10001456-1852120800-1852126200@calendarsausalito.com
SUMMARY:Sausalito Library: Family Storytime & Art in the Library
DESCRIPTION:Every Second Saturday come inside for an afternoon of art and stories! Family Storytime (ages 0-5+) and a mess-free art project for all ages\n\n\n	Related
URL:https://calendarsausalito.com/event/2nd-saturdays-family-storytime-art-in-the-library-2/2028-09-09/
LOCATION:Sausalito Library\, 420 Litho Street\, Sausalito\, CA\, 94965\, United States
CATEGORIES:Sausalito Library
END:VEVENT
BEGIN:VEVENT
DTSTART;TZID=America/Los_Angeles:20281014T140000
DTEND;TZID=America/Los_Angeles:20281014T153000
DTSTAMP:20260425T050802
CREATED:20251226T215745Z
LAST-MODIFIED:20251231T225231Z
UID:10001457-1855144800-1855150200@calendarsausalito.com
SUMMARY:Sausalito Library: Family Storytime & Art in the Library
DESCRIPTION:Every Second Saturday come inside for an afternoon of art and stories! Family Storytime (ages 0-5+) and a mess-free art project for all ages\n\n\n	Related
URL:https://calendarsausalito.com/event/2nd-saturdays-family-storytime-art-in-the-library-2/2028-10-14/
LOCATION:Sausalito Library\, 420 Litho Street\, Sausalito\, CA\, 94965\, United States
CATEGORIES:Sausalito Library
END:VEVENT
BEGIN:VEVENT
DTSTART;TZID=America/Los_Angeles:20281111T140000
DTEND;TZID=America/Los_Angeles:20281111T153000
DTSTAMP:20260425T050802
CREATED:20251226T215745Z
LAST-MODIFIED:20251231T225231Z
UID:10001458-1857564000-1857569400@calendarsausalito.com
SUMMARY:Sausalito Library: Family Storytime & Art in the Library
DESCRIPTION:Every Second Saturday come inside for an afternoon of art and stories! Family Storytime (ages 0-5+) and a mess-free art project for all ages\n\n\n	Related
URL:https://calendarsausalito.com/event/2nd-saturdays-family-storytime-art-in-the-library-2/2028-11-11/
LOCATION:Sausalito Library\, 420 Litho Street\, Sausalito\, CA\, 94965\, United States
CATEGORIES:Sausalito Library
END:VEVENT
BEGIN:VEVENT
DTSTART;TZID=America/Los_Angeles:20281209T140000
DTEND;TZID=America/Los_Angeles:20281209T153000
DTSTAMP:20260425T050802
CREATED:20251226T215745Z
LAST-MODIFIED:20251231T225231Z
UID:10001459-1859983200-1859988600@calendarsausalito.com
SUMMARY:Sausalito Library: Family Storytime & Art in the Library
DESCRIPTION:Every Second Saturday come inside for an afternoon of art and stories! Family Storytime (ages 0-5+) and a mess-free art project for all ages\n\n\n	Related
URL:https://calendarsausalito.com/event/2nd-saturdays-family-storytime-art-in-the-library-2/2028-12-09/
LOCATION:Sausalito Library\, 420 Litho Street\, Sausalito\, CA\, 94965\, United States
CATEGORIES:Sausalito Library
END:VEVENT
BEGIN:VEVENT
DTSTART;TZID=America/Los_Angeles:20290113T140000
DTEND;TZID=America/Los_Angeles:20290113T153000
DTSTAMP:20260425T050802
CREATED:20251226T215745Z
LAST-MODIFIED:20251231T225231Z
UID:10001460-1863007200-1863012600@calendarsausalito.com
SUMMARY:Sausalito Library: Family Storytime & Art in the Library
DESCRIPTION:Every Second Saturday come inside for an afternoon of art and stories! Family Storytime (ages 0-5+) and a mess-free art project for all ages\n\n\n	Related
URL:https://calendarsausalito.com/event/2nd-saturdays-family-storytime-art-in-the-library-2/2029-01-13/
LOCATION:Sausalito Library\, 420 Litho Street\, Sausalito\, CA\, 94965\, United States
CATEGORIES:Sausalito Library
END:VEVENT
BEGIN:VEVENT
DTSTART;TZID=America/Los_Angeles:20290210T140000
DTEND;TZID=America/Los_Angeles:20290210T153000
DTSTAMP:20260425T050802
CREATED:20251226T215745Z
LAST-MODIFIED:20251231T225231Z
UID:10001461-1865426400-1865431800@calendarsausalito.com
SUMMARY:Sausalito Library: Family Storytime & Art in the Library
DESCRIPTION:Every Second Saturday come inside for an afternoon of art and stories! Family Storytime (ages 0-5+) and a mess-free art project for all ages\n\n\n	Related
URL:https://calendarsausalito.com/event/2nd-saturdays-family-storytime-art-in-the-library-2/2029-02-10/
LOCATION:Sausalito Library\, 420 Litho Street\, Sausalito\, CA\, 94965\, United States
CATEGORIES:Sausalito Library
END:VEVENT
BEGIN:VEVENT
DTSTART;TZID=America/Los_Angeles:20290310T140000
DTEND;TZID=America/Los_Angeles:20290310T153000
DTSTAMP:20260425T050802
CREATED:20251226T215745Z
LAST-MODIFIED:20251231T225231Z
UID:10001462-1867845600-1867851000@calendarsausalito.com
SUMMARY:Sausalito Library: Family Storytime & Art in the Library
DESCRIPTION:Every Second Saturday come inside for an afternoon of art and stories! Family Storytime (ages 0-5+) and a mess-free art project for all ages\n\n\n	Related
URL:https://calendarsausalito.com/event/2nd-saturdays-family-storytime-art-in-the-library-2/2029-03-10/
LOCATION:Sausalito Library\, 420 Litho Street\, Sausalito\, CA\, 94965\, United States
CATEGORIES:Sausalito Library
END:VEVENT
BEGIN:VEVENT
DTSTART;TZID=America/Los_Angeles:20290414T140000
DTEND;TZID=America/Los_Angeles:20290414T153000
DTSTAMP:20260425T050802
CREATED:20251226T215745Z
LAST-MODIFIED:20251231T225231Z
UID:10001463-1870869600-1870875000@calendarsausalito.com
SUMMARY:Sausalito Library: Family Storytime & Art in the Library
DESCRIPTION:Every Second Saturday come inside for an afternoon of art and stories! Family Storytime (ages 0-5+) and a mess-free art project for all ages\n\n\n	Related
URL:https://calendarsausalito.com/event/2nd-saturdays-family-storytime-art-in-the-library-2/2029-04-14/
LOCATION:Sausalito Library\, 420 Litho Street\, Sausalito\, CA\, 94965\, United States
CATEGORIES:Sausalito Library
END:VEVENT
BEGIN:VEVENT
DTSTART;TZID=America/Los_Angeles:20290512T140000
DTEND;TZID=America/Los_Angeles:20290512T153000
DTSTAMP:20260425T050802
CREATED:20251226T215745Z
LAST-MODIFIED:20251231T225231Z
UID:10001464-1873288800-1873294200@calendarsausalito.com
SUMMARY:Sausalito Library: Family Storytime & Art in the Library
DESCRIPTION:Every Second Saturday come inside for an afternoon of art and stories! Family Storytime (ages 0-5+) and a mess-free art project for all ages\n\n\n	Related
URL:https://calendarsausalito.com/event/2nd-saturdays-family-storytime-art-in-the-library-2/2029-05-12/
LOCATION:Sausalito Library\, 420 Litho Street\, Sausalito\, CA\, 94965\, United States
CATEGORIES:Sausalito Library
END:VEVENT
BEGIN:VEVENT
DTSTART;TZID=America/Los_Angeles:20290609T140000
DTEND;TZID=America/Los_Angeles:20290609T153000
DTSTAMP:20260425T050802
CREATED:20251226T215745Z
LAST-MODIFIED:20251231T225231Z
UID:10001465-1875708000-1875713400@calendarsausalito.com
SUMMARY:Sausalito Library: Family Storytime & Art in the Library
DESCRIPTION:Every Second Saturday come inside for an afternoon of art and stories! Family Storytime (ages 0-5+) and a mess-free art project for all ages\n\n\n	Related
URL:https://calendarsausalito.com/event/2nd-saturdays-family-storytime-art-in-the-library-2/2029-06-09/
LOCATION:Sausalito Library\, 420 Litho Street\, Sausalito\, CA\, 94965\, United States
CATEGORIES:Sausalito Library
END:VEVENT
BEGIN:VEVENT
DTSTART;TZID=America/Los_Angeles:20290714T140000
DTEND;TZID=America/Los_Angeles:20290714T153000
DTSTAMP:20260425T050802
CREATED:20251226T215745Z
LAST-MODIFIED:20251231T225231Z
UID:10001466-1878732000-1878737400@calendarsausalito.com
SUMMARY:Sausalito Library: Family Storytime & Art in the Library
DESCRIPTION:Every Second Saturday come inside for an afternoon of art and stories! Family Storytime (ages 0-5+) and a mess-free art project for all ages\n\n\n	Related
URL:https://calendarsausalito.com/event/2nd-saturdays-family-storytime-art-in-the-library-2/2029-07-14/
LOCATION:Sausalito Library\, 420 Litho Street\, Sausalito\, CA\, 94965\, United States
CATEGORIES:Sausalito Library
END:VEVENT
BEGIN:VEVENT
DTSTART;TZID=America/Los_Angeles:20290811T140000
DTEND;TZID=America/Los_Angeles:20290811T153000
DTSTAMP:20260425T050802
CREATED:20251226T215745Z
LAST-MODIFIED:20251231T225231Z
UID:10001467-1881151200-1881156600@calendarsausalito.com
SUMMARY:Sausalito Library: Family Storytime & Art in the Library
DESCRIPTION:Every Second Saturday come inside for an afternoon of art and stories! Family Storytime (ages 0-5+) and a mess-free art project for all ages\n\n\n	Related
URL:https://calendarsausalito.com/event/2nd-saturdays-family-storytime-art-in-the-library-2/2029-08-11/
LOCATION:Sausalito Library\, 420 Litho Street\, Sausalito\, CA\, 94965\, United States
CATEGORIES:Sausalito Library
END:VEVENT
BEGIN:VEVENT
DTSTART;TZID=America/Los_Angeles:20290908T140000
DTEND;TZID=America/Los_Angeles:20290908T153000
DTSTAMP:20260425T050802
CREATED:20251226T215745Z
LAST-MODIFIED:20251231T225231Z
UID:10001468-1883570400-1883575800@calendarsausalito.com
SUMMARY:Sausalito Library: Family Storytime & Art in the Library
DESCRIPTION:Every Second Saturday come inside for an afternoon of art and stories! Family Storytime (ages 0-5+) and a mess-free art project for all ages\n\n\n	Related
URL:https://calendarsausalito.com/event/2nd-saturdays-family-storytime-art-in-the-library-2/2029-09-08/
LOCATION:Sausalito Library\, 420 Litho Street\, Sausalito\, CA\, 94965\, United States
CATEGORIES:Sausalito Library
END:VEVENT
BEGIN:VEVENT
DTSTART;TZID=America/Los_Angeles:20291013T140000
DTEND;TZID=America/Los_Angeles:20291013T153000
DTSTAMP:20260425T050802
CREATED:20251226T215745Z
LAST-MODIFIED:20251231T225231Z
UID:10001469-1886594400-1886599800@calendarsausalito.com
SUMMARY:Sausalito Library: Family Storytime & Art in the Library
DESCRIPTION:Every Second Saturday come inside for an afternoon of art and stories! Family Storytime (ages 0-5+) and a mess-free art project for all ages\n\n\n	Related
URL:https://calendarsausalito.com/event/2nd-saturdays-family-storytime-art-in-the-library-2/2029-10-13/
LOCATION:Sausalito Library\, 420 Litho Street\, Sausalito\, CA\, 94965\, United States
CATEGORIES:Sausalito Library
END:VEVENT
BEGIN:VEVENT
DTSTART;TZID=America/Los_Angeles:20291110T140000
DTEND;TZID=America/Los_Angeles:20291110T153000
DTSTAMP:20260425T050802
CREATED:20251226T215745Z
LAST-MODIFIED:20251231T225231Z
UID:10001470-1889013600-1889019000@calendarsausalito.com
SUMMARY:Sausalito Library: Family Storytime & Art in the Library
DESCRIPTION:Every Second Saturday come inside for an afternoon of art and stories! Family Storytime (ages 0-5+) and a mess-free art project for all ages\n\n\n	Related
URL:https://calendarsausalito.com/event/2nd-saturdays-family-storytime-art-in-the-library-2/2029-11-10/
LOCATION:Sausalito Library\, 420 Litho Street\, Sausalito\, CA\, 94965\, United States
CATEGORIES:Sausalito Library
END:VEVENT
BEGIN:VEVENT
DTSTART;TZID=America/Los_Angeles:20291208T140000
DTEND;TZID=America/Los_Angeles:20291208T153000
DTSTAMP:20260425T050802
CREATED:20251226T215745Z
LAST-MODIFIED:20251231T225231Z
UID:10001471-1891432800-1891438200@calendarsausalito.com
SUMMARY:Sausalito Library: Family Storytime & Art in the Library
DESCRIPTION:Every Second Saturday come inside for an afternoon of art and stories! Family Storytime (ages 0-5+) and a mess-free art project for all ages\n\n\n	Related
URL:https://calendarsausalito.com/event/2nd-saturdays-family-storytime-art-in-the-library-2/2029-12-08/
LOCATION:Sausalito Library\, 420 Litho Street\, Sausalito\, CA\, 94965\, United States
CATEGORIES:Sausalito Library
END:VEVENT
BEGIN:VEVENT
DTSTART;TZID=America/Los_Angeles:20300112T140000
DTEND;TZID=America/Los_Angeles:20300112T153000
DTSTAMP:20260425T050802
CREATED:20251226T215745Z
LAST-MODIFIED:20251231T225231Z
UID:10001472-1894456800-1894462200@calendarsausalito.com
SUMMARY:Sausalito Library: Family Storytime & Art in the Library
DESCRIPTION:Every Second Saturday come inside for an afternoon of art and stories! Family Storytime (ages 0-5+) and a mess-free art project for all ages\n\n\n	Related
URL:https://calendarsausalito.com/event/2nd-saturdays-family-storytime-art-in-the-library-2/2030-01-12/
LOCATION:Sausalito Library\, 420 Litho Street\, Sausalito\, CA\, 94965\, United States
CATEGORIES:Sausalito Library
END:VEVENT
BEGIN:VEVENT
DTSTART;TZID=America/Los_Angeles:20300209T140000
DTEND;TZID=America/Los_Angeles:20300209T153000
DTSTAMP:20260425T050802
CREATED:20251226T215745Z
LAST-MODIFIED:20251231T225231Z
UID:10001473-1896876000-1896881400@calendarsausalito.com
SUMMARY:Sausalito Library: Family Storytime & Art in the Library
DESCRIPTION:Every Second Saturday come inside for an afternoon of art and stories! Family Storytime (ages 0-5+) and a mess-free art project for all ages\n\n\n	Related
URL:https://calendarsausalito.com/event/2nd-saturdays-family-storytime-art-in-the-library-2/2030-02-09/
LOCATION:Sausalito Library\, 420 Litho Street\, Sausalito\, CA\, 94965\, United States
CATEGORIES:Sausalito Library
END:VEVENT
BEGIN:VEVENT
DTSTART;TZID=America/Los_Angeles:20300309T140000
DTEND;TZID=America/Los_Angeles:20300309T153000
DTSTAMP:20260425T050802
CREATED:20251226T215745Z
LAST-MODIFIED:20251231T225231Z
UID:10001474-1899295200-1899300600@calendarsausalito.com
SUMMARY:Sausalito Library: Family Storytime & Art in the Library
DESCRIPTION:Every Second Saturday come inside for an afternoon of art and stories! Family Storytime (ages 0-5+) and a mess-free art project for all ages\n\n\n	Related
URL:https://calendarsausalito.com/event/2nd-saturdays-family-storytime-art-in-the-library-2/2030-03-09/
LOCATION:Sausalito Library\, 420 Litho Street\, Sausalito\, CA\, 94965\, United States
CATEGORIES:Sausalito Library
END:VEVENT
BEGIN:VEVENT
DTSTART;TZID=America/Los_Angeles:20300413T140000
DTEND;TZID=America/Los_Angeles:20300413T153000
DTSTAMP:20260425T050802
CREATED:20251226T215745Z
LAST-MODIFIED:20251231T225231Z
UID:10001475-1902319200-1902324600@calendarsausalito.com
SUMMARY:Sausalito Library: Family Storytime & Art in the Library
DESCRIPTION:Every Second Saturday come inside for an afternoon of art and stories! Family Storytime (ages 0-5+) and a mess-free art project for all ages\n\n\n	Related
URL:https://calendarsausalito.com/event/2nd-saturdays-family-storytime-art-in-the-library-2/2030-04-13/
LOCATION:Sausalito Library\, 420 Litho Street\, Sausalito\, CA\, 94965\, United States
CATEGORIES:Sausalito Library
END:VEVENT
BEGIN:VEVENT
DTSTART;TZID=America/Los_Angeles:20300511T140000
DTEND;TZID=America/Los_Angeles:20300511T153000
DTSTAMP:20260425T050802
CREATED:20251226T215745Z
LAST-MODIFIED:20251231T225231Z
UID:10001476-1904738400-1904743800@calendarsausalito.com
SUMMARY:Sausalito Library: Family Storytime & Art in the Library
DESCRIPTION:Every Second Saturday come inside for an afternoon of art and stories! Family Storytime (ages 0-5+) and a mess-free art project for all ages\n\n\n	Related
URL:https://calendarsausalito.com/event/2nd-saturdays-family-storytime-art-in-the-library-2/2030-05-11/
LOCATION:Sausalito Library\, 420 Litho Street\, Sausalito\, CA\, 94965\, United States
CATEGORIES:Sausalito Library
END:VEVENT
BEGIN:VEVENT
DTSTART;TZID=America/Los_Angeles:20300608T140000
DTEND;TZID=America/Los_Angeles:20300608T153000
DTSTAMP:20260425T050802
CREATED:20251226T215745Z
LAST-MODIFIED:20251231T225231Z
UID:10001477-1907157600-1907163000@calendarsausalito.com
SUMMARY:Sausalito Library: Family Storytime & Art in the Library
DESCRIPTION:Every Second Saturday come inside for an afternoon of art and stories! Family Storytime (ages 0-5+) and a mess-free art project for all ages\n\n\n	Related
URL:https://calendarsausalito.com/event/2nd-saturdays-family-storytime-art-in-the-library-2/2030-06-08/
LOCATION:Sausalito Library\, 420 Litho Street\, Sausalito\, CA\, 94965\, United States
CATEGORIES:Sausalito Library
END:VEVENT
BEGIN:VEVENT
DTSTART;TZID=America/Los_Angeles:20300713T140000
DTEND;TZID=America/Los_Angeles:20300713T153000
DTSTAMP:20260425T050802
CREATED:20251226T215745Z
LAST-MODIFIED:20251231T225231Z
UID:10001478-1910181600-1910187000@calendarsausalito.com
SUMMARY:Sausalito Library: Family Storytime & Art in the Library
DESCRIPTION:Every Second Saturday come inside for an afternoon of art and stories! Family Storytime (ages 0-5+) and a mess-free art project for all ages\n\n\n	Related
URL:https://calendarsausalito.com/event/2nd-saturdays-family-storytime-art-in-the-library-2/2030-07-13/
LOCATION:Sausalito Library\, 420 Litho Street\, Sausalito\, CA\, 94965\, United States
CATEGORIES:Sausalito Library
END:VEVENT
BEGIN:VEVENT
DTSTART;TZID=America/Los_Angeles:20300810T140000
DTEND;TZID=America/Los_Angeles:20300810T153000
DTSTAMP:20260425T050802
CREATED:20251226T215745Z
LAST-MODIFIED:20251231T225231Z
UID:10001479-1912600800-1912606200@calendarsausalito.com
SUMMARY:Sausalito Library: Family Storytime & Art in the Library
DESCRIPTION:Every Second Saturday come inside for an afternoon of art and stories! Family Storytime (ages 0-5+) and a mess-free art project for all ages\n\n\n	Related
URL:https://calendarsausalito.com/event/2nd-saturdays-family-storytime-art-in-the-library-2/2030-08-10/
LOCATION:Sausalito Library\, 420 Litho Street\, Sausalito\, CA\, 94965\, United States
CATEGORIES:Sausalito Library
END:VEVENT
END:VCALENDAR