BEGIN:VCALENDAR
VERSION:2.0
PRODID:-//Calendar Sausalito - ECPv6.15.20//NONSGML v1.0//EN
CALSCALE:GREGORIAN
METHOD:PUBLISH
X-WR-CALNAME:Calendar Sausalito
X-ORIGINAL-URL:https://calendarsausalito.com
X-WR-CALDESC:Events for Calendar Sausalito
REFRESH-INTERVAL;VALUE=DURATION:PT1H
X-Robots-Tag:noindex
X-PUBLISHED-TTL:PT1H
BEGIN:VTIMEZONE
TZID:America/Los_Angeles
BEGIN:DAYLIGHT
TZOFFSETFROM:-0800
TZOFFSETTO:-0700
TZNAME:PDT
DTSTART:20250309T100000
END:DAYLIGHT
BEGIN:STANDARD
TZOFFSETFROM:-0700
TZOFFSETTO:-0800
TZNAME:PST
DTSTART:20251102T090000
END:STANDARD
BEGIN:DAYLIGHT
TZOFFSETFROM:-0800
TZOFFSETTO:-0700
TZNAME:PDT
DTSTART:20260308T100000
END:DAYLIGHT
BEGIN:STANDARD
TZOFFSETFROM:-0700
TZOFFSETTO:-0800
TZNAME:PST
DTSTART:20261101T090000
END:STANDARD
BEGIN:DAYLIGHT
TZOFFSETFROM:-0800
TZOFFSETTO:-0700
TZNAME:PDT
DTSTART:20270314T100000
END:DAYLIGHT
BEGIN:STANDARD
TZOFFSETFROM:-0700
TZOFFSETTO:-0800
TZNAME:PST
DTSTART:20271107T090000
END:STANDARD
END:VTIMEZONE
BEGIN:VEVENT
DTSTART;TZID=America/Los_Angeles:20260130T180000
DTEND;TZID=America/Los_Angeles:20260130T193000
DTSTAMP:20260423T020201
CREATED:20260107T000452Z
LAST-MODIFIED:20260107T000517Z
UID:10001574-1769796000-1769801400@calendarsausalito.com
SUMMARY:Sausalito Library: Four Authors\, One Night
DESCRIPTION:Sausalito Library: Reading Series at the Library: Four Authors\, One Night \nThe Sausalito Public Library and BAIT presents an inaugural reading event at 6:00 p.m. on Friday\, January 30 in the Sausalito Public Library. The event will feature readings by local authors. There will be a moderated Q&A with the featured writers after their readings. Sausalito Books by the Bay will be selling titles by our authors\, and book signings will follow the reading and Q&A. Attendance is free. Learn more and register on the Library’s website to reserve your spot! \n\n\n	Related
URL:https://calendarsausalito.com/event/sausalito-library-four-authors-one-night/
LOCATION:Sausalito Library\, 420 Litho Street\, Sausalito\, CA\, 94965\, United States
CATEGORIES:Sausalito Library
END:VEVENT
BEGIN:VEVENT
DTSTART;TZID=America/Los_Angeles:20260130T180000
DTEND;TZID=America/Los_Angeles:20260130T190000
DTSTAMP:20260423T020201
CREATED:20260122T225504Z
LAST-MODIFIED:20260122T225516Z
UID:10002772-1769796000-1769799600@calendarsausalito.com
SUMMARY:Sausalito Books by the Bay: Author Reading
DESCRIPTION:  \n\n\n\n\n\n\n\n\n\n\n\n\n\n\n\n\n\n\n\n\nIn Partnership with the Sausalito Public Library & Bait\n  \n\n\n\n\n\n\nFree To Attend But RSVP\n\n\n\n\n\n\n\n\n\n	Related
URL:https://calendarsausalito.com/event/sausalito-books-by-the-bay-author-reading/
LOCATION:Sausalito Library\, 420 Litho Street\, Sausalito\, CA\, 94965\, United States
CATEGORIES:Sausalito Books by the Bay,Sausalito Library
END:VEVENT
BEGIN:VEVENT
DTSTART;TZID=America/Los_Angeles:20260130T100000
DTEND;TZID=America/Los_Angeles:20260130T190000
DTSTAMP:20260423T020201
CREATED:20251226T211749Z
LAST-MODIFIED:20251231T230406Z
UID:10001541-1769767200-1769799600@calendarsausalito.com
SUMMARY:Sausalito Library: On Exhibit: Deborah Dvorak
DESCRIPTION:ON EXHIBIT: Deborah Dvorak’s Plain Air Landscapes\nJoin us December 4 through February 26 for an exhibition of Deborah Dvorak’s plein air landscapes in oil of the Marin countryside.\n\nVisiting the Library\nMonday-Thursday 10-7\nFriday-Sunday 12-5\n\n\n	Related
URL:https://calendarsausalito.com/event/on-exhibit-deborah-dvoraks-plain-air-landscapes/2026-01-30/
LOCATION:Sausalito Library\, 420 Litho Street\, Sausalito\, CA\, 94965\, United States
CATEGORIES:Sausalito Library
END:VEVENT
BEGIN:VEVENT
DTSTART;TZID=America/Los_Angeles:20260129T100000
DTEND;TZID=America/Los_Angeles:20260129T190000
DTSTAMP:20260423T020201
CREATED:20251226T211749Z
LAST-MODIFIED:20251231T230406Z
UID:10001540-1769680800-1769713200@calendarsausalito.com
SUMMARY:Sausalito Library: On Exhibit: Deborah Dvorak
DESCRIPTION:ON EXHIBIT: Deborah Dvorak’s Plain Air Landscapes\nJoin us December 4 through February 26 for an exhibition of Deborah Dvorak’s plein air landscapes in oil of the Marin countryside.\n\nVisiting the Library\nMonday-Thursday 10-7\nFriday-Sunday 12-5\n\n\n	Related
URL:https://calendarsausalito.com/event/on-exhibit-deborah-dvoraks-plain-air-landscapes/2026-01-29/
LOCATION:Sausalito Library\, 420 Litho Street\, Sausalito\, CA\, 94965\, United States
CATEGORIES:Sausalito Library
END:VEVENT
BEGIN:VEVENT
DTSTART;TZID=America/Los_Angeles:20260128T160000
DTEND;TZID=America/Los_Angeles:20260128T170000
DTSTAMP:20260423T020201
CREATED:20260107T000132Z
LAST-MODIFIED:20260221T005848Z
UID:10001572-1769616000-1769619600@calendarsausalito.com
SUMMARY:Sausalito Library: Virtual Author Talk with Liz Moore Brooks
DESCRIPTION:VIRTUAL AUTHOR TALK: Secrets and Second Chances with Liz Moore \nWe are thrilled to welcome Liz Moore to discuss her latest work\, The God of the Woods\, an instant New York Times bestseller and one of NPR’s 2024 “Books We Love” highlights. \nEarly morning\, August 1975: a camp counselor discovers an empty bunk. Its occupant\, Barbara Van Laar\, has gone missing. Barbara isn’t just any thirteen-year-old: she’s the daughter of the family that owns the summer camp and employs most of the region’s residents. And this isn’t the first time a Van Laar child has disappeared. Barbara’s older brother similarly vanished fourteen years ago\, never to be found. \nAs a panicked search begins\, a thrilling drama unfolds. Chasing down the layered secrets of the Van Laar family and the blue-collar community working in its shadow\, Moore’s multi-threaded story invites readers into a rich and gripping dynasty of secrets and second chances. It is Liz Moore’s most ambitious and wide-reaching novel yet. \nJoin us in conversation with Liz as we embark on a tale of thrilling twists and disturbing disappearances. \nRegister today to “enter the woods\,” if you dare! \n\n\n	Related
URL:https://calendarsausalito.com/event/sausalito-library-virtual-author-talk-with-liz-moore-brooks/
LOCATION:Sausalito Library\, 420 Litho Street\, Sausalito\, CA\, 94965\, United States
CATEGORIES:Sausalito Library
END:VEVENT
BEGIN:VEVENT
DTSTART;TZID=America/Los_Angeles:20260128T100000
DTEND;TZID=America/Los_Angeles:20260128T190000
DTSTAMP:20260423T020201
CREATED:20251226T211749Z
LAST-MODIFIED:20251231T230406Z
UID:10001539-1769594400-1769626800@calendarsausalito.com
SUMMARY:Sausalito Library: On Exhibit: Deborah Dvorak
DESCRIPTION:ON EXHIBIT: Deborah Dvorak’s Plain Air Landscapes\nJoin us December 4 through February 26 for an exhibition of Deborah Dvorak’s plein air landscapes in oil of the Marin countryside.\n\nVisiting the Library\nMonday-Thursday 10-7\nFriday-Sunday 12-5\n\n\n	Related
URL:https://calendarsausalito.com/event/on-exhibit-deborah-dvoraks-plain-air-landscapes/2026-01-28/
LOCATION:Sausalito Library\, 420 Litho Street\, Sausalito\, CA\, 94965\, United States
CATEGORIES:Sausalito Library
END:VEVENT
BEGIN:VEVENT
DTSTART;TZID=America/Los_Angeles:20260127T100000
DTEND;TZID=America/Los_Angeles:20260127T190000
DTSTAMP:20260423T020201
CREATED:20251226T211749Z
LAST-MODIFIED:20251231T230406Z
UID:10001538-1769508000-1769540400@calendarsausalito.com
SUMMARY:Sausalito Library: On Exhibit: Deborah Dvorak
DESCRIPTION:ON EXHIBIT: Deborah Dvorak’s Plain Air Landscapes\nJoin us December 4 through February 26 for an exhibition of Deborah Dvorak’s plein air landscapes in oil of the Marin countryside.\n\nVisiting the Library\nMonday-Thursday 10-7\nFriday-Sunday 12-5\n\n\n	Related
URL:https://calendarsausalito.com/event/on-exhibit-deborah-dvoraks-plain-air-landscapes/2026-01-27/
LOCATION:Sausalito Library\, 420 Litho Street\, Sausalito\, CA\, 94965\, United States
CATEGORIES:Sausalito Library
END:VEVENT
BEGIN:VEVENT
DTSTART;TZID=America/Los_Angeles:20260126T100000
DTEND;TZID=America/Los_Angeles:20260126T190000
DTSTAMP:20260423T020201
CREATED:20251226T211749Z
LAST-MODIFIED:20251231T230406Z
UID:10001537-1769421600-1769454000@calendarsausalito.com
SUMMARY:Sausalito Library: On Exhibit: Deborah Dvorak
DESCRIPTION:ON EXHIBIT: Deborah Dvorak’s Plain Air Landscapes\nJoin us December 4 through February 26 for an exhibition of Deborah Dvorak’s plein air landscapes in oil of the Marin countryside.\n\nVisiting the Library\nMonday-Thursday 10-7\nFriday-Sunday 12-5\n\n\n	Related
URL:https://calendarsausalito.com/event/on-exhibit-deborah-dvoraks-plain-air-landscapes/2026-01-26/
LOCATION:Sausalito Library\, 420 Litho Street\, Sausalito\, CA\, 94965\, United States
CATEGORIES:Sausalito Library
END:VEVENT
BEGIN:VEVENT
DTSTART;TZID=America/Los_Angeles:20260125T100000
DTEND;TZID=America/Los_Angeles:20260125T190000
DTSTAMP:20260423T020201
CREATED:20251226T211749Z
LAST-MODIFIED:20251231T230406Z
UID:10001536-1769335200-1769367600@calendarsausalito.com
SUMMARY:Sausalito Library: On Exhibit: Deborah Dvorak
DESCRIPTION:ON EXHIBIT: Deborah Dvorak’s Plain Air Landscapes\nJoin us December 4 through February 26 for an exhibition of Deborah Dvorak’s plein air landscapes in oil of the Marin countryside.\n\nVisiting the Library\nMonday-Thursday 10-7\nFriday-Sunday 12-5\n\n\n	Related
URL:https://calendarsausalito.com/event/on-exhibit-deborah-dvoraks-plain-air-landscapes/2026-01-25/
LOCATION:Sausalito Library\, 420 Litho Street\, Sausalito\, CA\, 94965\, United States
CATEGORIES:Sausalito Library
END:VEVENT
BEGIN:VEVENT
DTSTART;TZID=America/Los_Angeles:20260124T100000
DTEND;TZID=America/Los_Angeles:20260124T190000
DTSTAMP:20260423T020201
CREATED:20251226T211749Z
LAST-MODIFIED:20251231T230406Z
UID:10001535-1769248800-1769281200@calendarsausalito.com
SUMMARY:Sausalito Library: On Exhibit: Deborah Dvorak
DESCRIPTION:ON EXHIBIT: Deborah Dvorak’s Plain Air Landscapes\nJoin us December 4 through February 26 for an exhibition of Deborah Dvorak’s plein air landscapes in oil of the Marin countryside.\n\nVisiting the Library\nMonday-Thursday 10-7\nFriday-Sunday 12-5\n\n\n	Related
URL:https://calendarsausalito.com/event/on-exhibit-deborah-dvoraks-plain-air-landscapes/2026-01-24/
LOCATION:Sausalito Library\, 420 Litho Street\, Sausalito\, CA\, 94965\, United States
CATEGORIES:Sausalito Library
END:VEVENT
BEGIN:VEVENT
DTSTART;TZID=America/Los_Angeles:20260123T180000
DTEND;TZID=America/Los_Angeles:20260123T200000
DTSTAMP:20260423T020201
CREATED:20260106T030757Z
LAST-MODIFIED:20260106T030938Z
UID:10001571-1769191200-1769198400@calendarsausalito.com
SUMMARY:MOVIE NIGHT: Boom! (Losey\, 1968)
DESCRIPTION:Boom! (1968)\nDirected by Joseph Losey\nStarring Elizabeth Taylor\, Richard Burton\, and Noel Coward\nAdapted from The Milk Train Doesn’t Stop Here Anymore by Tennessee Williams \nBoom! explores the confrontation between the woman who has everything\, including emptiness\, and a penniless poet who has nothing but the ability to fill a wealthy woman’s needs. \n\n\n	Related
URL:https://calendarsausalito.com/event/movie-night-boom-losey-1968/
LOCATION:Sausalito Library\, 420 Litho Street\, Sausalito\, CA\, 94965\, United States
CATEGORIES:Sausalito Library
END:VEVENT
BEGIN:VEVENT
DTSTART;TZID=America/Los_Angeles:20260123T100000
DTEND;TZID=America/Los_Angeles:20260123T190000
DTSTAMP:20260423T020201
CREATED:20251226T211749Z
LAST-MODIFIED:20251231T230406Z
UID:10001534-1769162400-1769194800@calendarsausalito.com
SUMMARY:Sausalito Library: On Exhibit: Deborah Dvorak
DESCRIPTION:ON EXHIBIT: Deborah Dvorak’s Plain Air Landscapes\nJoin us December 4 through February 26 for an exhibition of Deborah Dvorak’s plein air landscapes in oil of the Marin countryside.\n\nVisiting the Library\nMonday-Thursday 10-7\nFriday-Sunday 12-5\n\n\n	Related
URL:https://calendarsausalito.com/event/on-exhibit-deborah-dvoraks-plain-air-landscapes/2026-01-23/
LOCATION:Sausalito Library\, 420 Litho Street\, Sausalito\, CA\, 94965\, United States
CATEGORIES:Sausalito Library
END:VEVENT
BEGIN:VEVENT
DTSTART;TZID=America/Los_Angeles:20260122T100000
DTEND;TZID=America/Los_Angeles:20260122T190000
DTSTAMP:20260423T020201
CREATED:20251226T211749Z
LAST-MODIFIED:20251231T230406Z
UID:10001533-1769076000-1769108400@calendarsausalito.com
SUMMARY:Sausalito Library: On Exhibit: Deborah Dvorak
DESCRIPTION:ON EXHIBIT: Deborah Dvorak’s Plain Air Landscapes\nJoin us December 4 through February 26 for an exhibition of Deborah Dvorak’s plein air landscapes in oil of the Marin countryside.\n\nVisiting the Library\nMonday-Thursday 10-7\nFriday-Sunday 12-5\n\n\n	Related
URL:https://calendarsausalito.com/event/on-exhibit-deborah-dvoraks-plain-air-landscapes/2026-01-22/
LOCATION:Sausalito Library\, 420 Litho Street\, Sausalito\, CA\, 94965\, United States
CATEGORIES:Sausalito Library
END:VEVENT
BEGIN:VEVENT
DTSTART;TZID=America/Los_Angeles:20260121T100000
DTEND;TZID=America/Los_Angeles:20260121T190000
DTSTAMP:20260423T020201
CREATED:20251226T211749Z
LAST-MODIFIED:20251231T230406Z
UID:10001532-1768989600-1769022000@calendarsausalito.com
SUMMARY:Sausalito Library: On Exhibit: Deborah Dvorak
DESCRIPTION:ON EXHIBIT: Deborah Dvorak’s Plain Air Landscapes\nJoin us December 4 through February 26 for an exhibition of Deborah Dvorak’s plein air landscapes in oil of the Marin countryside.\n\nVisiting the Library\nMonday-Thursday 10-7\nFriday-Sunday 12-5\n\n\n	Related
URL:https://calendarsausalito.com/event/on-exhibit-deborah-dvoraks-plain-air-landscapes/2026-01-21/
LOCATION:Sausalito Library\, 420 Litho Street\, Sausalito\, CA\, 94965\, United States
CATEGORIES:Sausalito Library
END:VEVENT
BEGIN:VEVENT
DTSTART;TZID=America/Los_Angeles:20260120T110000
DTEND;TZID=America/Los_Angeles:20260120T120000
DTSTAMP:20260423T020201
CREATED:20260107T000333Z
LAST-MODIFIED:20260107T000333Z
UID:10001573-1768906800-1768910400@calendarsausalito.com
SUMMARY:Sausalito Library: Virtual Author Talk with Journalist Julia Hotz
DESCRIPTION:VIRTUAL AUTHOR TALK: Nature\, Art\, and Service as Medicine with Journalist Julia Hotz \nBe sure to jump start your new year with us as we chat virtually with journalist and author Julia Hotz about her book The Connection Cure: The Prescriptive Power of Movement\, Nature\, Art\, Service\, and Belonging. \nThe Connection Cure combines diligent science reporting\, moving patient success stories\, and surprising self-discovery to help us discover the lasting and life-changing power of social prescribing. Traditionally\, when we get sick\, health care professionals ask\, “What’s the matter with you?” But around the world\, teams of doctors\, nurses\, therapists\, and social workers have started to flip the script\, asking “What matters to you?” \nAs the first book on social prescribing\, The Connection Cure empowers you to find\, experience\, and implement this revolutionary medicine in your own community. The success stories Julia finds bring a long-known theory to life: if we can change our environment\, we can change our health. By reconnecting to what matters to us\, we can all start to feel better. \nRegister today to find out how you can use the wisdom of social prescribing to live your best life! \n\n\n	Related
URL:https://calendarsausalito.com/event/sausalito-library-virtual-author-talk-with-journalist-julia-hotz/
LOCATION:Sausalito Library\, 420 Litho Street\, Sausalito\, CA\, 94965\, United States
CATEGORIES:Sausalito Library
END:VEVENT
BEGIN:VEVENT
DTSTART;TZID=America/Los_Angeles:20260120T100000
DTEND;TZID=America/Los_Angeles:20260120T190000
DTSTAMP:20260423T020201
CREATED:20251226T211749Z
LAST-MODIFIED:20251231T230406Z
UID:10001531-1768903200-1768935600@calendarsausalito.com
SUMMARY:Sausalito Library: On Exhibit: Deborah Dvorak
DESCRIPTION:ON EXHIBIT: Deborah Dvorak’s Plain Air Landscapes\nJoin us December 4 through February 26 for an exhibition of Deborah Dvorak’s plein air landscapes in oil of the Marin countryside.\n\nVisiting the Library\nMonday-Thursday 10-7\nFriday-Sunday 12-5\n\n\n	Related
URL:https://calendarsausalito.com/event/on-exhibit-deborah-dvoraks-plain-air-landscapes/2026-01-20/
LOCATION:Sausalito Library\, 420 Litho Street\, Sausalito\, CA\, 94965\, United States
CATEGORIES:Sausalito Library
END:VEVENT
BEGIN:VEVENT
DTSTART;TZID=America/Los_Angeles:20260119T100000
DTEND;TZID=America/Los_Angeles:20260119T190000
DTSTAMP:20260423T020201
CREATED:20251226T211749Z
LAST-MODIFIED:20251231T230406Z
UID:10001530-1768816800-1768849200@calendarsausalito.com
SUMMARY:Sausalito Library: On Exhibit: Deborah Dvorak
DESCRIPTION:ON EXHIBIT: Deborah Dvorak’s Plain Air Landscapes\nJoin us December 4 through February 26 for an exhibition of Deborah Dvorak’s plein air landscapes in oil of the Marin countryside.\n\nVisiting the Library\nMonday-Thursday 10-7\nFriday-Sunday 12-5\n\n\n	Related
URL:https://calendarsausalito.com/event/on-exhibit-deborah-dvoraks-plain-air-landscapes/2026-01-19/
LOCATION:Sausalito Library\, 420 Litho Street\, Sausalito\, CA\, 94965\, United States
CATEGORIES:Sausalito Library
END:VEVENT
BEGIN:VEVENT
DTSTART;TZID=America/Los_Angeles:20260118T100000
DTEND;TZID=America/Los_Angeles:20260118T190000
DTSTAMP:20260423T020201
CREATED:20251226T211749Z
LAST-MODIFIED:20251231T230406Z
UID:10001529-1768730400-1768762800@calendarsausalito.com
SUMMARY:Sausalito Library: On Exhibit: Deborah Dvorak
DESCRIPTION:ON EXHIBIT: Deborah Dvorak’s Plain Air Landscapes\nJoin us December 4 through February 26 for an exhibition of Deborah Dvorak’s plein air landscapes in oil of the Marin countryside.\n\nVisiting the Library\nMonday-Thursday 10-7\nFriday-Sunday 12-5\n\n\n	Related
URL:https://calendarsausalito.com/event/on-exhibit-deborah-dvoraks-plain-air-landscapes/2026-01-18/
LOCATION:Sausalito Library\, 420 Litho Street\, Sausalito\, CA\, 94965\, United States
CATEGORIES:Sausalito Library
END:VEVENT
BEGIN:VEVENT
DTSTART;TZID=America/Los_Angeles:20260117T100000
DTEND;TZID=America/Los_Angeles:20260117T190000
DTSTAMP:20260423T020201
CREATED:20251226T211749Z
LAST-MODIFIED:20251231T230406Z
UID:10001528-1768644000-1768676400@calendarsausalito.com
SUMMARY:Sausalito Library: On Exhibit: Deborah Dvorak
DESCRIPTION:ON EXHIBIT: Deborah Dvorak’s Plain Air Landscapes\nJoin us December 4 through February 26 for an exhibition of Deborah Dvorak’s plein air landscapes in oil of the Marin countryside.\n\nVisiting the Library\nMonday-Thursday 10-7\nFriday-Sunday 12-5\n\n\n	Related
URL:https://calendarsausalito.com/event/on-exhibit-deborah-dvoraks-plain-air-landscapes/2026-01-17/
LOCATION:Sausalito Library\, 420 Litho Street\, Sausalito\, CA\, 94965\, United States
CATEGORIES:Sausalito Library
END:VEVENT
BEGIN:VEVENT
DTSTART;TZID=America/Los_Angeles:20260116T100000
DTEND;TZID=America/Los_Angeles:20260116T190000
DTSTAMP:20260423T020201
CREATED:20251226T211749Z
LAST-MODIFIED:20251231T230406Z
UID:10001527-1768557600-1768590000@calendarsausalito.com
SUMMARY:Sausalito Library: On Exhibit: Deborah Dvorak
DESCRIPTION:ON EXHIBIT: Deborah Dvorak’s Plain Air Landscapes\nJoin us December 4 through February 26 for an exhibition of Deborah Dvorak’s plein air landscapes in oil of the Marin countryside.\n\nVisiting the Library\nMonday-Thursday 10-7\nFriday-Sunday 12-5\n\n\n	Related
URL:https://calendarsausalito.com/event/on-exhibit-deborah-dvoraks-plain-air-landscapes/2026-01-16/
LOCATION:Sausalito Library\, 420 Litho Street\, Sausalito\, CA\, 94965\, United States
CATEGORIES:Sausalito Library
END:VEVENT
BEGIN:VEVENT
DTSTART;TZID=America/Los_Angeles:20260115T100000
DTEND;TZID=America/Los_Angeles:20260115T190000
DTSTAMP:20260423T020201
CREATED:20251226T211749Z
LAST-MODIFIED:20251231T230406Z
UID:10001526-1768471200-1768503600@calendarsausalito.com
SUMMARY:Sausalito Library: On Exhibit: Deborah Dvorak
DESCRIPTION:ON EXHIBIT: Deborah Dvorak’s Plain Air Landscapes\nJoin us December 4 through February 26 for an exhibition of Deborah Dvorak’s plein air landscapes in oil of the Marin countryside.\n\nVisiting the Library\nMonday-Thursday 10-7\nFriday-Sunday 12-5\n\n\n	Related
URL:https://calendarsausalito.com/event/on-exhibit-deborah-dvoraks-plain-air-landscapes/2026-01-15/
LOCATION:Sausalito Library\, 420 Litho Street\, Sausalito\, CA\, 94965\, United States
CATEGORIES:Sausalito Library
END:VEVENT
BEGIN:VEVENT
DTSTART;TZID=America/Los_Angeles:20260114T100000
DTEND;TZID=America/Los_Angeles:20260114T190000
DTSTAMP:20260423T020201
CREATED:20251226T211749Z
LAST-MODIFIED:20251231T230406Z
UID:10001525-1768384800-1768417200@calendarsausalito.com
SUMMARY:Sausalito Library: On Exhibit: Deborah Dvorak
DESCRIPTION:ON EXHIBIT: Deborah Dvorak’s Plain Air Landscapes\nJoin us December 4 through February 26 for an exhibition of Deborah Dvorak’s plein air landscapes in oil of the Marin countryside.\n\nVisiting the Library\nMonday-Thursday 10-7\nFriday-Sunday 12-5\n\n\n	Related
URL:https://calendarsausalito.com/event/on-exhibit-deborah-dvoraks-plain-air-landscapes/2026-01-14/
LOCATION:Sausalito Library\, 420 Litho Street\, Sausalito\, CA\, 94965\, United States
CATEGORIES:Sausalito Library
END:VEVENT
BEGIN:VEVENT
DTSTART;TZID=America/Los_Angeles:20260113T100000
DTEND;TZID=America/Los_Angeles:20260113T190000
DTSTAMP:20260423T020201
CREATED:20251226T211749Z
LAST-MODIFIED:20251231T230406Z
UID:10001524-1768298400-1768330800@calendarsausalito.com
SUMMARY:Sausalito Library: On Exhibit: Deborah Dvorak
DESCRIPTION:ON EXHIBIT: Deborah Dvorak’s Plain Air Landscapes\nJoin us December 4 through February 26 for an exhibition of Deborah Dvorak’s plein air landscapes in oil of the Marin countryside.\n\nVisiting the Library\nMonday-Thursday 10-7\nFriday-Sunday 12-5\n\n\n	Related
URL:https://calendarsausalito.com/event/on-exhibit-deborah-dvoraks-plain-air-landscapes/2026-01-13/
LOCATION:Sausalito Library\, 420 Litho Street\, Sausalito\, CA\, 94965\, United States
CATEGORIES:Sausalito Library
END:VEVENT
BEGIN:VEVENT
DTSTART;TZID=America/Los_Angeles:20260112T100000
DTEND;TZID=America/Los_Angeles:20260112T190000
DTSTAMP:20260423T020201
CREATED:20251226T211749Z
LAST-MODIFIED:20251231T230406Z
UID:10001523-1768212000-1768244400@calendarsausalito.com
SUMMARY:Sausalito Library: On Exhibit: Deborah Dvorak
DESCRIPTION:ON EXHIBIT: Deborah Dvorak’s Plain Air Landscapes\nJoin us December 4 through February 26 for an exhibition of Deborah Dvorak’s plein air landscapes in oil of the Marin countryside.\n\nVisiting the Library\nMonday-Thursday 10-7\nFriday-Sunday 12-5\n\n\n	Related
URL:https://calendarsausalito.com/event/on-exhibit-deborah-dvoraks-plain-air-landscapes/2026-01-12/
LOCATION:Sausalito Library\, 420 Litho Street\, Sausalito\, CA\, 94965\, United States
CATEGORIES:Sausalito Library
END:VEVENT
BEGIN:VEVENT
DTSTART;TZID=America/Los_Angeles:20260111T100000
DTEND;TZID=America/Los_Angeles:20260111T190000
DTSTAMP:20260423T020201
CREATED:20251226T211749Z
LAST-MODIFIED:20251231T230406Z
UID:10001522-1768125600-1768158000@calendarsausalito.com
SUMMARY:Sausalito Library: On Exhibit: Deborah Dvorak
DESCRIPTION:ON EXHIBIT: Deborah Dvorak’s Plain Air Landscapes\nJoin us December 4 through February 26 for an exhibition of Deborah Dvorak’s plein air landscapes in oil of the Marin countryside.\n\nVisiting the Library\nMonday-Thursday 10-7\nFriday-Sunday 12-5\n\n\n	Related
URL:https://calendarsausalito.com/event/on-exhibit-deborah-dvoraks-plain-air-landscapes/2026-01-11/
LOCATION:Sausalito Library\, 420 Litho Street\, Sausalito\, CA\, 94965\, United States
CATEGORIES:Sausalito Library
END:VEVENT
BEGIN:VEVENT
DTSTART;TZID=America/Los_Angeles:20260110T140000
DTEND;TZID=America/Los_Angeles:20260110T153000
DTSTAMP:20260423T020201
CREATED:20251226T215745Z
LAST-MODIFIED:20251231T225231Z
UID:10000478-1768053600-1768059000@calendarsausalito.com
SUMMARY:Sausalito Library: Family Storytime & Art in the Library
DESCRIPTION:Every Second Saturday come inside for an afternoon of art and stories! Family Storytime (ages 0-5+) and a mess-free art project for all ages\n\n\n	Related
URL:https://calendarsausalito.com/event/2nd-saturdays-family-storytime-art-in-the-library-2/2026-01-10/
LOCATION:Sausalito Library\, 420 Litho Street\, Sausalito\, CA\, 94965\, United States
CATEGORIES:Sausalito Library
END:VEVENT
BEGIN:VEVENT
DTSTART;TZID=America/Los_Angeles:20260110T100000
DTEND;TZID=America/Los_Angeles:20260110T190000
DTSTAMP:20260423T020201
CREATED:20251226T211749Z
LAST-MODIFIED:20251231T230406Z
UID:10001521-1768039200-1768071600@calendarsausalito.com
SUMMARY:Sausalito Library: On Exhibit: Deborah Dvorak
DESCRIPTION:ON EXHIBIT: Deborah Dvorak’s Plain Air Landscapes\nJoin us December 4 through February 26 for an exhibition of Deborah Dvorak’s plein air landscapes in oil of the Marin countryside.\n\nVisiting the Library\nMonday-Thursday 10-7\nFriday-Sunday 12-5\n\n\n	Related
URL:https://calendarsausalito.com/event/on-exhibit-deborah-dvoraks-plain-air-landscapes/2026-01-10/
LOCATION:Sausalito Library\, 420 Litho Street\, Sausalito\, CA\, 94965\, United States
CATEGORIES:Sausalito Library
END:VEVENT
BEGIN:VEVENT
DTSTART;TZID=America/Los_Angeles:20260109T100000
DTEND;TZID=America/Los_Angeles:20260109T190000
DTSTAMP:20260423T020201
CREATED:20251226T211749Z
LAST-MODIFIED:20251231T230406Z
UID:10001520-1767952800-1767985200@calendarsausalito.com
SUMMARY:Sausalito Library: On Exhibit: Deborah Dvorak
DESCRIPTION:ON EXHIBIT: Deborah Dvorak’s Plain Air Landscapes\nJoin us December 4 through February 26 for an exhibition of Deborah Dvorak’s plein air landscapes in oil of the Marin countryside.\n\nVisiting the Library\nMonday-Thursday 10-7\nFriday-Sunday 12-5\n\n\n	Related
URL:https://calendarsausalito.com/event/on-exhibit-deborah-dvoraks-plain-air-landscapes/2026-01-09/
LOCATION:Sausalito Library\, 420 Litho Street\, Sausalito\, CA\, 94965\, United States
CATEGORIES:Sausalito Library
END:VEVENT
BEGIN:VEVENT
DTSTART;TZID=America/Los_Angeles:20260109T080000
DTEND;TZID=America/Los_Angeles:20260109T170000
DTSTAMP:20260423T020201
CREATED:20251226T215342Z
LAST-MODIFIED:20251231T225400Z
UID:10000477-1767945600-1767978000@calendarsausalito.com
SUMMARY:Sausalito Library: Storytelling with Nicole Straight
DESCRIPTION:The Sausalito Public Library will host a free community talk at 6:00 p.m. on Friday\, January 9 featuring Nicole Straight\, creator of The Sausalito Project\, an oral-history video series that documents the memories of Sausalito’s longtime residents. The event will include behind-the-scenes stories\, interview clips\, and reflections from more than 100 filmed conversations with seniors\, artists\, houseboat residents\, shop owners\, and other locals who help define Sausalito’s character. Join us for this special evening of memories\, history and nostalgia.\n  \nAbout The Sausalito Project: Launched by Straight in 2023\, The Sausalito Project has become an ongoing living archive of the town’s people and history. Each short video interview is filmed in locations meaningful to the storyteller\, creating a warm portrait of both the resident and the community.\n  \nRegister on the Library’s website. \n\n\n	Related
URL:https://calendarsausalito.com/event/local-storytelling-event-nicole-straight/
LOCATION:Sausalito Library\, 420 Litho Street\, Sausalito\, CA\, 94965\, United States
CATEGORIES:Sausalito Library
END:VEVENT
BEGIN:VEVENT
DTSTART;TZID=America/Los_Angeles:20260108T100000
DTEND;TZID=America/Los_Angeles:20260108T190000
DTSTAMP:20260423T020201
CREATED:20251226T211749Z
LAST-MODIFIED:20251231T230406Z
UID:10001519-1767866400-1767898800@calendarsausalito.com
SUMMARY:Sausalito Library: On Exhibit: Deborah Dvorak
DESCRIPTION:ON EXHIBIT: Deborah Dvorak’s Plain Air Landscapes\nJoin us December 4 through February 26 for an exhibition of Deborah Dvorak’s plein air landscapes in oil of the Marin countryside.\n\nVisiting the Library\nMonday-Thursday 10-7\nFriday-Sunday 12-5\n\n\n	Related
URL:https://calendarsausalito.com/event/on-exhibit-deborah-dvoraks-plain-air-landscapes/2026-01-08/
LOCATION:Sausalito Library\, 420 Litho Street\, Sausalito\, CA\, 94965\, United States
CATEGORIES:Sausalito Library
END:VEVENT
END:VCALENDAR