BEGIN:VCALENDAR
VERSION:2.0
PRODID:-//Calendar Sausalito - ECPv6.15.20//NONSGML v1.0//EN
CALSCALE:GREGORIAN
METHOD:PUBLISH
X-ORIGINAL-URL:https://calendarsausalito.com
X-WR-CALDESC:Events for Calendar Sausalito
REFRESH-INTERVAL;VALUE=DURATION:PT1H
X-Robots-Tag:noindex
X-PUBLISHED-TTL:PT1H
BEGIN:VTIMEZONE
TZID:America/Los_Angeles
BEGIN:DAYLIGHT
TZOFFSETFROM:-0800
TZOFFSETTO:-0700
TZNAME:PDT
DTSTART:20250309T100000
END:DAYLIGHT
BEGIN:STANDARD
TZOFFSETFROM:-0700
TZOFFSETTO:-0800
TZNAME:PST
DTSTART:20251102T090000
END:STANDARD
BEGIN:DAYLIGHT
TZOFFSETFROM:-0800
TZOFFSETTO:-0700
TZNAME:PDT
DTSTART:20260308T100000
END:DAYLIGHT
BEGIN:STANDARD
TZOFFSETFROM:-0700
TZOFFSETTO:-0800
TZNAME:PST
DTSTART:20261101T090000
END:STANDARD
BEGIN:DAYLIGHT
TZOFFSETFROM:-0800
TZOFFSETTO:-0700
TZNAME:PDT
DTSTART:20270314T100000
END:DAYLIGHT
BEGIN:STANDARD
TZOFFSETFROM:-0700
TZOFFSETTO:-0800
TZNAME:PST
DTSTART:20271107T090000
END:STANDARD
END:VTIMEZONE
BEGIN:VEVENT
DTSTART;TZID=America/Los_Angeles:20260321T180000
DTEND;TZID=America/Los_Angeles:20260321T203000
DTSTAMP:20260425T114445
CREATED:20260303T004644Z
LAST-MODIFIED:20260303T005005Z
UID:10008219-1774116000-1774125000@calendarsausalito.com
SUMMARY:Sausalito Seahorse: Dine and Dance with Graham's Good Times Band
DESCRIPTION:Related
URL:https://calendarsausalito.com/event/sausalito-seahorse-dine-and-dance-with-grahams-good-times-band/2026-03-21/
LOCATION:Sausalito Seahorse\, 305 Harbor Dr\, Sausalito\, CA\, 94965\, United States
CATEGORIES:Sausalito Seahorse
END:VEVENT
BEGIN:VEVENT
DTSTART;TZID=America/Los_Angeles:20260320T190000
DTEND;TZID=America/Los_Angeles:20260320T210000
DTSTAMP:20260425T114445
CREATED:20260131T221753Z
LAST-MODIFIED:20260221T213332Z
UID:10006953-1774033200-1774040400@calendarsausalito.com
SUMMARY:Sausalito Seahorse: Dine and Dance with Death and The Taxes
DESCRIPTION:Related
URL:https://calendarsausalito.com/event/sausalito-seahorse-dine-and-dance-with-death-and-the-taxes/
LOCATION:Sausalito Seahorse\, 305 Harbor Dr\, Sausalito\, CA\, 94965\, United States
CATEGORIES:Sausalito Seahorse
END:VEVENT
BEGIN:VEVENT
DTSTART;TZID=America/Los_Angeles:20260315T173000
DTEND;TZID=America/Los_Angeles:20260315T210000
DTSTAMP:20260425T114445
CREATED:20260131T220813Z
LAST-MODIFIED:20260221T213354Z
UID:10006925-1773595800-1773608400@calendarsausalito.com
SUMMARY:Sausalito Seahorse: Christian Tulaman's Montuno Swing + DJ Jose' Ruiz
DESCRIPTION:Related
URL:https://calendarsausalito.com/event/sausalito-seahorse-christian-tulamans-montuno-swing-dj-jose-ruiz/
LOCATION:Sausalito Seahorse\, 305 Harbor Dr\, Sausalito\, CA\, 94965\, United States
CATEGORIES:Sausalito Seahorse
END:VEVENT
BEGIN:VEVENT
DTSTART;TZID=America/Los_Angeles:20260315T160000
DTEND;TZID=America/Los_Angeles:20260315T170000
DTSTAMP:20260425T114445
CREATED:20260131T190639Z
LAST-MODIFIED:20260131T191009Z
UID:10006686-1773590400-1773594000@calendarsausalito.com
SUMMARY:Sausalito Seahorse: Salsa Dance Class
DESCRIPTION:Related
URL:https://calendarsausalito.com/event/sausalito-seahorse-salsa-dance-class/2026-03-15/
LOCATION:Sausalito Seahorse\, 305 Harbor Dr\, Sausalito\, CA\, 94965\, United States
CATEGORIES:Sausalito Seahorse
END:VEVENT
BEGIN:VEVENT
DTSTART;TZID=America/Los_Angeles:20260314T190000
DTEND;TZID=America/Los_Angeles:20260314T210000
DTSTAMP:20260425T114445
CREATED:20260131T221634Z
LAST-MODIFIED:20260221T213406Z
UID:10006950-1773514800-1773522000@calendarsausalito.com
SUMMARY:Sausalito Seahorse: Steve Lucky and the Rhumba Bums Featuring Miss Carmen Gitty
DESCRIPTION:Related
URL:https://calendarsausalito.com/event/sausalito-seahorse-steve-lucky-and-the-rhumba-bums-featuring-miss-carmen-gitty/
LOCATION:Sausalito Seahorse\, 305 Harbor Dr\, Sausalito\, CA\, 94965\, United States
CATEGORIES:Sausalito Seahorse
END:VEVENT
BEGIN:VEVENT
DTSTART;TZID=America/Los_Angeles:20260313T190000
DTEND;TZID=America/Los_Angeles:20260313T210000
DTSTAMP:20260425T114445
CREATED:20260131T221730Z
LAST-MODIFIED:20260221T213416Z
UID:10006952-1773428400-1773435600@calendarsausalito.com
SUMMARY:Sausalito Seahorse: Dance and Dine with Not So Sister
DESCRIPTION:Related
URL:https://calendarsausalito.com/event/sausalito-seahorse-dance-and-dine-with-not-so-sister/
LOCATION:Sausalito Seahorse\, 305 Harbor Dr\, Sausalito\, CA\, 94965\, United States
CATEGORIES:Sausalito Seahorse
END:VEVENT
BEGIN:VEVENT
DTSTART;TZID=America/Los_Angeles:20260308T173000
DTEND;TZID=America/Los_Angeles:20260308T210000
DTSTAMP:20260425T114445
CREATED:20260131T220752Z
LAST-MODIFIED:20260221T213426Z
UID:10006924-1772991000-1773003600@calendarsausalito.com
SUMMARY:Sausalito Seahorse: Conjunto Karabali' + DJ Jose Ruiz
DESCRIPTION:Related
URL:https://calendarsausalito.com/event/sausalito-seahorse-conjunto-karabali-dj-jose-ruiz/
LOCATION:Sausalito Seahorse\, 305 Harbor Dr\, Sausalito\, CA\, 94965\, United States
CATEGORIES:Sausalito Seahorse
END:VEVENT
BEGIN:VEVENT
DTSTART;TZID=America/Los_Angeles:20260308T160000
DTEND;TZID=America/Los_Angeles:20260308T170000
DTSTAMP:20260425T114445
CREATED:20260131T190639Z
LAST-MODIFIED:20260131T191009Z
UID:10006685-1772985600-1772989200@calendarsausalito.com
SUMMARY:Sausalito Seahorse: Salsa Dance Class
DESCRIPTION:Related
URL:https://calendarsausalito.com/event/sausalito-seahorse-salsa-dance-class/2026-03-08/
LOCATION:Sausalito Seahorse\, 305 Harbor Dr\, Sausalito\, CA\, 94965\, United States
CATEGORIES:Sausalito Seahorse
END:VEVENT
BEGIN:VEVENT
DTSTART;TZID=America/Los_Angeles:20260307T190000
DTEND;TZID=America/Los_Angeles:20260307T210000
DTSTAMP:20260425T114445
CREATED:20260131T221558Z
LAST-MODIFIED:20260221T213434Z
UID:10006949-1772910000-1772917200@calendarsausalito.com
SUMMARY:Sausalito Seahorse: Julio Bravo Birthday Bash
DESCRIPTION:Related
URL:https://calendarsausalito.com/event/sausalito-seahorse-julio-bravo-birthday-bash/
LOCATION:Sausalito Seahorse\, 305 Harbor Dr\, Sausalito\, CA\, 94965\, United States
CATEGORIES:Sausalito Seahorse
END:VEVENT
BEGIN:VEVENT
DTSTART;TZID=America/Los_Angeles:20260306T180000
DTEND;TZID=America/Los_Angeles:20260306T210000
DTSTAMP:20260425T114445
CREATED:20260221T213445Z
LAST-MODIFIED:20260221T213446Z
UID:10006941-1772820000-1772830800@calendarsausalito.com
SUMMARY:Sausalito Seahorse: Damian Alvarez FLAMENCO LIBRE
DESCRIPTION:Related
URL:https://calendarsausalito.com/event/sausalito-seahorse-damian-alvarez-flamenco-libre-2-2/
LOCATION:Sausalito Seahorse\, 305 Harbor Dr\, Sausalito\, CA\, 94965\, United States
CATEGORIES:Sausalito Seahorse
END:VEVENT
BEGIN:VEVENT
DTSTART;TZID=America/Los_Angeles:20260301T173000
DTEND;TZID=America/Los_Angeles:20260301T210000
DTSTAMP:20260425T114445
CREATED:20260131T220719Z
LAST-MODIFIED:20260221T213454Z
UID:10006923-1772386200-1772398800@calendarsausalito.com
SUMMARY:Sausalito Seahorse: Latin Rhythm Boys + DJ Jose Ruiz
DESCRIPTION:Related
URL:https://calendarsausalito.com/event/sausalito-seahorse-latin-rhythm-boys-dj-jose-ruiz/
LOCATION:Sausalito Seahorse\, 305 Harbor Dr\, Sausalito\, CA\, 94965\, United States
CATEGORIES:Sausalito Seahorse
END:VEVENT
BEGIN:VEVENT
DTSTART;TZID=America/Los_Angeles:20260301T160000
DTEND;TZID=America/Los_Angeles:20260301T170000
DTSTAMP:20260425T114445
CREATED:20260131T190639Z
LAST-MODIFIED:20260131T191009Z
UID:10006684-1772380800-1772384400@calendarsausalito.com
SUMMARY:Sausalito Seahorse: Salsa Dance Class
DESCRIPTION:Related
URL:https://calendarsausalito.com/event/sausalito-seahorse-salsa-dance-class/2026-03-01/
LOCATION:Sausalito Seahorse\, 305 Harbor Dr\, Sausalito\, CA\, 94965\, United States
CATEGORIES:Sausalito Seahorse
END:VEVENT
BEGIN:VEVENT
DTSTART;TZID=America/Los_Angeles:20260228T190000
DTEND;TZID=America/Los_Angeles:20260228T210000
DTSTAMP:20260425T114445
CREATED:20260131T194617Z
LAST-MODIFIED:20260221T213506Z
UID:10006920-1772305200-1772312400@calendarsausalito.com
SUMMARY:Sausalito Seahorse: Dine and Dance with GROOVE PORTAL BAND
DESCRIPTION:Related
URL:https://calendarsausalito.com/event/sausalito-seahorse-dine-and-dance-with-groove-portal-band/
LOCATION:Sausalito Seahorse\, 305 Harbor Dr\, Sausalito\, CA\, 94965\, United States
CATEGORIES:Sausalito Seahorse
END:VEVENT
BEGIN:VEVENT
DTSTART;TZID=America/Los_Angeles:20260227T183000
DTEND;TZID=America/Los_Angeles:20260227T210000
DTSTAMP:20260425T114445
CREATED:20260131T194553Z
LAST-MODIFIED:20260221T213514Z
UID:10006919-1772217000-1772226000@calendarsausalito.com
SUMMARY:Sausalito Seahorse: Dine with James Moseley Jazz Band
DESCRIPTION:Related
URL:https://calendarsausalito.com/event/sausalito-seahorse-dine-with-james-moseley-jazz-band/
LOCATION:Sausalito Seahorse\, 305 Harbor Dr\, Sausalito\, CA\, 94965\, United States
CATEGORIES:Sausalito Seahorse
END:VEVENT
BEGIN:VEVENT
DTSTART;TZID=America/Los_Angeles:20260226T183000
DTEND;TZID=America/Los_Angeles:20260226T200000
DTSTAMP:20260425T114445
CREATED:20260131T194315Z
LAST-MODIFIED:20260221T213520Z
UID:10006918-1772130600-1772136000@calendarsausalito.com
SUMMARY:Sausalito Seahorse: JO2
DESCRIPTION:Related
URL:https://calendarsausalito.com/event/sausalito-seahorse-jo2/
LOCATION:Sausalito Seahorse\, 305 Harbor Dr\, Sausalito\, CA\, 94965\, United States
CATEGORIES:Sausalito Seahorse
END:VEVENT
BEGIN:VEVENT
DTSTART;TZID=America/Los_Angeles:20260222T160000
DTEND;TZID=America/Los_Angeles:20260222T170000
DTSTAMP:20260425T114445
CREATED:20260131T190639Z
LAST-MODIFIED:20260131T191009Z
UID:10006683-1771776000-1771779600@calendarsausalito.com
SUMMARY:Sausalito Seahorse: Salsa Dance Class
DESCRIPTION:Related
URL:https://calendarsausalito.com/event/sausalito-seahorse-salsa-dance-class/2026-02-22/
LOCATION:Sausalito Seahorse\, 305 Harbor Dr\, Sausalito\, CA\, 94965\, United States
CATEGORIES:Sausalito Seahorse
END:VEVENT
BEGIN:VEVENT
DTSTART;TZID=America/Los_Angeles:20260220T183000
DTEND;TZID=America/Los_Angeles:20260220T210000
DTSTAMP:20260425T114445
CREATED:20260131T192605Z
LAST-MODIFIED:20260131T192605Z
UID:10006916-1771612200-1771621200@calendarsausalito.com
SUMMARY:Sausalito Seahorse: Josef jazz band
DESCRIPTION:Related
URL:https://calendarsausalito.com/event/sausalito-seahorse-josef-jazz-band/
LOCATION:Sausalito Seahorse\, 305 Harbor Dr\, Sausalito\, CA\, 94965\, United States
CATEGORIES:Sausalito Seahorse
END:VEVENT
BEGIN:VEVENT
DTSTART;TZID=America/Los_Angeles:20260220T183000
DTEND;TZID=America/Los_Angeles:20260220T210000
DTSTAMP:20260425T114445
CREATED:20260131T192421Z
LAST-MODIFIED:20260131T192421Z
UID:10006906-1771612200-1771621200@calendarsausalito.com
SUMMARY:Sausalito Seahorse: Dine with Josef Jazz band
DESCRIPTION:Related
URL:https://calendarsausalito.com/event/sausalito-seahorse-dine-with-josef-jazz-band/2026-02-20/
LOCATION:Sausalito Seahorse\, 305 Harbor Dr\, Sausalito\, CA\, 94965\, United States
CATEGORIES:Sausalito Seahorse
END:VEVENT
BEGIN:VEVENT
DTSTART;TZID=America/Los_Angeles:20260219T190000
DTEND;TZID=America/Los_Angeles:20260219T200000
DTSTAMP:20260425T114445
CREATED:20260131T192537Z
LAST-MODIFIED:20260131T192537Z
UID:10006915-1771527600-1771531200@calendarsausalito.com
SUMMARY:Sausalito Seahorse: Dine and Dance with Chocolate Medicine Band
DESCRIPTION:Related
URL:https://calendarsausalito.com/event/sausalito-seahorse-dine-and-dance-with-chocolate-medicine-band/
LOCATION:Sausalito Seahorse\, 305 Harbor Dr\, Sausalito\, CA\, 94965\, United States
CATEGORIES:Sausalito Seahorse
END:VEVENT
BEGIN:VEVENT
DTSTART;TZID=America/Los_Angeles:20260219T183000
DTEND;TZID=America/Los_Angeles:20260219T210000
DTSTAMP:20260425T114445
CREATED:20260131T192421Z
LAST-MODIFIED:20260131T192421Z
UID:10006905-1771525800-1771534800@calendarsausalito.com
SUMMARY:Sausalito Seahorse: Dine with Josef Jazz band
DESCRIPTION:Related
URL:https://calendarsausalito.com/event/sausalito-seahorse-dine-with-josef-jazz-band/2026-02-19/
LOCATION:Sausalito Seahorse\, 305 Harbor Dr\, Sausalito\, CA\, 94965\, United States
CATEGORIES:Sausalito Seahorse
END:VEVENT
BEGIN:VEVENT
DTSTART;TZID=America/Los_Angeles:20260218T183000
DTEND;TZID=America/Los_Angeles:20260218T210000
DTSTAMP:20260425T114445
CREATED:20260131T192421Z
LAST-MODIFIED:20260131T192421Z
UID:10006904-1771439400-1771448400@calendarsausalito.com
SUMMARY:Sausalito Seahorse: Dine with Josef Jazz band
DESCRIPTION:Related
URL:https://calendarsausalito.com/event/sausalito-seahorse-dine-with-josef-jazz-band/2026-02-18/
LOCATION:Sausalito Seahorse\, 305 Harbor Dr\, Sausalito\, CA\, 94965\, United States
CATEGORIES:Sausalito Seahorse
END:VEVENT
BEGIN:VEVENT
DTSTART;TZID=America/Los_Angeles:20260217T183000
DTEND;TZID=America/Los_Angeles:20260217T210000
DTSTAMP:20260425T114445
CREATED:20260131T192421Z
LAST-MODIFIED:20260131T192421Z
UID:10006903-1771353000-1771362000@calendarsausalito.com
SUMMARY:Sausalito Seahorse: Dine with Josef Jazz band
DESCRIPTION:Related
URL:https://calendarsausalito.com/event/sausalito-seahorse-dine-with-josef-jazz-band/2026-02-17/
LOCATION:Sausalito Seahorse\, 305 Harbor Dr\, Sausalito\, CA\, 94965\, United States
CATEGORIES:Sausalito Seahorse
END:VEVENT
BEGIN:VEVENT
DTSTART;TZID=America/Los_Angeles:20260216T183000
DTEND;TZID=America/Los_Angeles:20260216T210000
DTSTAMP:20260425T114445
CREATED:20260131T192421Z
LAST-MODIFIED:20260131T192421Z
UID:10006902-1771266600-1771275600@calendarsausalito.com
SUMMARY:Sausalito Seahorse: Dine with Josef Jazz band
DESCRIPTION:Related
URL:https://calendarsausalito.com/event/sausalito-seahorse-dine-with-josef-jazz-band/2026-02-16/
LOCATION:Sausalito Seahorse\, 305 Harbor Dr\, Sausalito\, CA\, 94965\, United States
CATEGORIES:Sausalito Seahorse
END:VEVENT
BEGIN:VEVENT
DTSTART;TZID=America/Los_Angeles:20260215T183000
DTEND;TZID=America/Los_Angeles:20260215T210000
DTSTAMP:20260425T114445
CREATED:20260131T192421Z
LAST-MODIFIED:20260131T192421Z
UID:10006901-1771180200-1771189200@calendarsausalito.com
SUMMARY:Sausalito Seahorse: Dine with Josef Jazz band
DESCRIPTION:Related
URL:https://calendarsausalito.com/event/sausalito-seahorse-dine-with-josef-jazz-band/2026-02-15/
LOCATION:Sausalito Seahorse\, 305 Harbor Dr\, Sausalito\, CA\, 94965\, United States
CATEGORIES:Sausalito Seahorse
END:VEVENT
BEGIN:VEVENT
DTSTART;TZID=America/Los_Angeles:20260215T173000
DTEND;TZID=America/Los_Angeles:20260215T210000
DTSTAMP:20260425T114445
CREATED:20260131T192452Z
LAST-MODIFIED:20260131T192452Z
UID:10006907-1771176600-1771189200@calendarsausalito.com
SUMMARY:Sausalito Seahorse: Louie Romero Y su grupo Mazacote = DJ Jose Ruiz
DESCRIPTION:Related
URL:https://calendarsausalito.com/event/sausalito-seahorse-louie-romero-y-su-grupo-mazacote-dj-jose-ruiz/
LOCATION:Sausalito Seahorse\, 305 Harbor Dr\, Sausalito\, CA\, 94965\, United States
CATEGORIES:Sausalito Seahorse
END:VEVENT
BEGIN:VEVENT
DTSTART;TZID=America/Los_Angeles:20260215T160000
DTEND;TZID=America/Los_Angeles:20260215T170000
DTSTAMP:20260425T114445
CREATED:20260131T190639Z
LAST-MODIFIED:20260131T191009Z
UID:10006682-1771171200-1771174800@calendarsausalito.com
SUMMARY:Sausalito Seahorse: Salsa Dance Class
DESCRIPTION:Related
URL:https://calendarsausalito.com/event/sausalito-seahorse-salsa-dance-class/2026-02-15/
LOCATION:Sausalito Seahorse\, 305 Harbor Dr\, Sausalito\, CA\, 94965\, United States
CATEGORIES:Sausalito Seahorse
END:VEVENT
BEGIN:VEVENT
DTSTART;TZID=America/Los_Angeles:20260214T183000
DTEND;TZID=America/Los_Angeles:20260214T210000
DTSTAMP:20260425T114445
CREATED:20260131T192421Z
LAST-MODIFIED:20260131T192421Z
UID:10006900-1771093800-1771102800@calendarsausalito.com
SUMMARY:Sausalito Seahorse: Dine with Josef Jazz band
DESCRIPTION:Related
URL:https://calendarsausalito.com/event/sausalito-seahorse-dine-with-josef-jazz-band/2026-02-14/
LOCATION:Sausalito Seahorse\, 305 Harbor Dr\, Sausalito\, CA\, 94965\, United States
CATEGORIES:Sausalito Seahorse
END:VEVENT
BEGIN:VEVENT
DTSTART;TZID=America/Los_Angeles:20260214T180000
DTEND;TZID=America/Los_Angeles:20260214T210000
DTSTAMP:20260425T114446
CREATED:20260131T192311Z
LAST-MODIFIED:20260131T192311Z
UID:10006897-1771092000-1771102800@calendarsausalito.com
SUMMARY:Sausalito Seahorse: S.VALENTINO CELEBRATION WITH MOMOTOMBO SF
DESCRIPTION:Related
URL:https://calendarsausalito.com/event/sausalito-seahorse-s-valentino-celebration-with-momotombo-sf/
LOCATION:Sausalito Seahorse\, 305 Harbor Dr\, Sausalito\, CA\, 94965\, United States
CATEGORIES:Sausalito Seahorse
END:VEVENT
BEGIN:VEVENT
DTSTART;TZID=America/Los_Angeles:20260213T183000
DTEND;TZID=America/Los_Angeles:20260213T210000
DTSTAMP:20260425T114446
CREATED:20260131T192421Z
LAST-MODIFIED:20260131T192421Z
UID:10006899-1771007400-1771016400@calendarsausalito.com
SUMMARY:Sausalito Seahorse: Dine with Josef Jazz band
DESCRIPTION:Related
URL:https://calendarsausalito.com/event/sausalito-seahorse-dine-with-josef-jazz-band/2026-02-13/
LOCATION:Sausalito Seahorse\, 305 Harbor Dr\, Sausalito\, CA\, 94965\, United States
CATEGORIES:Sausalito Seahorse
END:VEVENT
BEGIN:VEVENT
DTSTART;TZID=America/Los_Angeles:20260213T180000
DTEND;TZID=America/Los_Angeles:20260213T210000
DTSTAMP:20260425T114446
CREATED:20260131T192249Z
LAST-MODIFIED:20260131T192249Z
UID:10006896-1771005600-1771016400@calendarsausalito.com
SUMMARY:Sausalito Seahorse: Damian Alvarez FLAMENCO LIBRE
DESCRIPTION:Related
URL:https://calendarsausalito.com/event/sausalito-seahorse-damian-alvarez-flamenco-libre/
LOCATION:Sausalito Seahorse\, 305 Harbor Dr\, Sausalito\, CA\, 94965\, United States
CATEGORIES:Sausalito Seahorse
END:VEVENT
END:VCALENDAR