BEGIN:VCALENDAR
VERSION:2.0
PRODID:-//Calendar Sausalito - ECPv6.15.20//NONSGML v1.0//EN
CALSCALE:GREGORIAN
METHOD:PUBLISH
X-WR-CALNAME:Calendar Sausalito
X-ORIGINAL-URL:https://calendarsausalito.com
X-WR-CALDESC:Events for Calendar Sausalito
REFRESH-INTERVAL;VALUE=DURATION:PT1H
X-Robots-Tag:noindex
X-PUBLISHED-TTL:PT1H
BEGIN:VTIMEZONE
TZID:America/Los_Angeles
BEGIN:DAYLIGHT
TZOFFSETFROM:-0800
TZOFFSETTO:-0700
TZNAME:PDT
DTSTART:20250309T100000
END:DAYLIGHT
BEGIN:STANDARD
TZOFFSETFROM:-0700
TZOFFSETTO:-0800
TZNAME:PST
DTSTART:20251102T090000
END:STANDARD
BEGIN:DAYLIGHT
TZOFFSETFROM:-0800
TZOFFSETTO:-0700
TZNAME:PDT
DTSTART:20260308T100000
END:DAYLIGHT
BEGIN:STANDARD
TZOFFSETFROM:-0700
TZOFFSETTO:-0800
TZNAME:PST
DTSTART:20261101T090000
END:STANDARD
BEGIN:DAYLIGHT
TZOFFSETFROM:-0800
TZOFFSETTO:-0700
TZNAME:PDT
DTSTART:20270314T100000
END:DAYLIGHT
BEGIN:STANDARD
TZOFFSETFROM:-0700
TZOFFSETTO:-0800
TZNAME:PST
DTSTART:20271107T090000
END:STANDARD
END:VTIMEZONE
BEGIN:VEVENT
DTSTART;TZID=America/Los_Angeles:20260425T091500
DTEND;TZID=America/Los_Angeles:20260425T120000
DTSTAMP:20260421T025128
CREATED:20260204T225228Z
LAST-MODIFIED:20260204T225600Z
UID:10006981-1777108500-1777118400@calendarsausalito.com
SUMMARY:Schooner Freda B: Wildlife Sail under the Golden Gate Bridge
DESCRIPTION:This signature sail will take you under the Golden Gate Bridge and out to Point Bonita Lighthouse. This is a prime area for wildlife and we’ll have a naturalist aboard to guide you through the experience!\n\n\n\n\n\n\n \nYou’ll learn about the history and diverse ecosystems of the San Francisco Bay\, and how to identify the seabirds\, pinnipeds (seals and sea lions)\, and cetaceans (whales\, dolphins\, and porpoises) that inhabit our “Serengeti of the West.” Don’t forget your binoculars! \nSchooner Freda B is a sea kind 80′ gaff rigged coastal schooner\, making her one of SF Bay’s most comfortable and traditional vessels to sail. Experience the romance of yesteryear with a local\, licensed Captain and Professional Crew. \n\nLocation\nSchooner Freda B Sausalito CA 94965 \n\n\nFees/Admission\nLink for Tickets \n\n\nWebsite\nhttps://www.eventbrite.com/e/wildlife-sail-under-the-golden-gate-bridge-schooner-freda-b-2026-tickets-744552535677 \n\n\nContact Information\n415-331-0444\nSend Email \n\n\n\n\n\n\n\n\n\n\n	Related
URL:https://calendarsausalito.com/event/schooner-freda-b-wildlife-sail-under-the-golden-gate-bridge-3/2026-04-25/
LOCATION:Schooner Freda B\, Yacht Harbor\, Slip 465\, Sausalito\, CA\, 94965\, United States
CATEGORIES:Schooner Freda B
END:VEVENT
END:VCALENDAR