BEGIN:VCALENDAR
VERSION:2.0
PRODID:-//Calendar Sausalito - ECPv6.15.20//NONSGML v1.0//EN
CALSCALE:GREGORIAN
METHOD:PUBLISH
X-WR-CALNAME:Calendar Sausalito
X-ORIGINAL-URL:https://calendarsausalito.com
X-WR-CALDESC:Events for Calendar Sausalito
REFRESH-INTERVAL;VALUE=DURATION:PT1H
X-Robots-Tag:noindex
X-PUBLISHED-TTL:PT1H
BEGIN:VTIMEZONE
TZID:America/Los_Angeles
BEGIN:DAYLIGHT
TZOFFSETFROM:-0800
TZOFFSETTO:-0700
TZNAME:PDT
DTSTART:20250309T100000
END:DAYLIGHT
BEGIN:STANDARD
TZOFFSETFROM:-0700
TZOFFSETTO:-0800
TZNAME:PST
DTSTART:20251102T090000
END:STANDARD
BEGIN:DAYLIGHT
TZOFFSETFROM:-0800
TZOFFSETTO:-0700
TZNAME:PDT
DTSTART:20260308T100000
END:DAYLIGHT
BEGIN:STANDARD
TZOFFSETFROM:-0700
TZOFFSETTO:-0800
TZNAME:PST
DTSTART:20261101T090000
END:STANDARD
BEGIN:DAYLIGHT
TZOFFSETFROM:-0800
TZOFFSETTO:-0700
TZNAME:PDT
DTSTART:20270314T100000
END:DAYLIGHT
BEGIN:STANDARD
TZOFFSETFROM:-0700
TZOFFSETTO:-0800
TZNAME:PST
DTSTART:20271107T090000
END:STANDARD
END:VTIMEZONE
BEGIN:VEVENT
DTSTART;TZID=America/Los_Angeles:20261212T170000
DTEND;TZID=America/Los_Angeles:20261212T220000
DTSTAMP:20260419T193314
CREATED:20260126T234815Z
LAST-MODIFIED:20260221T005742Z
UID:10002828-1797094800-1797112800@calendarsausalito.com
SUMMARY:Spinnaker: Lighted Boat Parade & Captain’s After Party
DESCRIPTION:Captain’s After Party\n\n\nSaturday\, December 12\, 5 – 10:30pm \n5:00 PM – VIP ticket holder admission begins\n8:00 pm – General Admission entry\nEvent ends at 10:30 pm \n\n\n\n\n\n\n	Related
URL:https://calendarsausalito.com/event/spinnaker-lighted-boat-parade-captains-after-party/
LOCATION:The Spinnaker Restaurant\, 100 Spinnaker Drive\, Sausalito\, CA\, 94965\, United States
CATEGORIES:Spinnaker
END:VEVENT
END:VCALENDAR